| Back to Multiple platform build/check report for BioC 3.12 | 
 | 
This page was generated on 2021-05-06 12:33:31 -0400 (Thu, 06 May 2021).
| To the developers/maintainers of the scRecover package: Please make sure to use the following settings in order to reproduce any error or warning you see on this page. | 
| Package 1658/1974 | Hostname | OS / Arch | INSTALL | BUILD | CHECK | BUILD BIN | ||||||||
| scRecover 1.6.0  (landing page) Zhun Miao 
 | malbec1 | Linux (Ubuntu 18.04.5 LTS) / x86_64 | OK | OK | OK |  | ||||||||
| tokay1 | Windows Server 2012 R2 Standard / x64 | OK | OK | OK | OK |  | ||||||||
| merida1 | macOS 10.14.6 Mojave / x86_64 | OK | OK | OK | OK |  | ||||||||
| Package: scRecover | 
| Version: 1.6.0 | 
| Command: rm -rf scRecover.buildbin-libdir && mkdir scRecover.buildbin-libdir && C:\Users\biocbuild\bbs-3.12-bioc\R\bin\R.exe CMD INSTALL --merge-multiarch --build --library=scRecover.buildbin-libdir scRecover_1.6.0.tar.gz | 
| StartedAt: 2021-05-06 10:04:38 -0400 (Thu, 06 May 2021) | 
| EndedAt: 2021-05-06 10:04:57 -0400 (Thu, 06 May 2021) | 
| EllapsedTime: 19.4 seconds | 
| RetCode: 0 | 
| Status: OK | 
| PackageFile: scRecover_1.6.0.zip | 
| PackageFileSize: 1.165 MiB | 
##############################################################################
##############################################################################
###
### Running command:
###
###   rm -rf scRecover.buildbin-libdir && mkdir scRecover.buildbin-libdir && C:\Users\biocbuild\bbs-3.12-bioc\R\bin\R.exe CMD INSTALL --merge-multiarch --build --library=scRecover.buildbin-libdir scRecover_1.6.0.tar.gz
###
##############################################################################
##############################################################################
install for i386
* installing *source* package 'scRecover' ...
** using staged installation
** R
** data
** inst
** byte-compile and prepare package for lazy loading
** help
*** installing help indices
  converting help for package 'scRecover'
    finding HTML links ... done
    countsSampling                          html  
    estDropoutNum                           html  
    normalization                           html  
    scRecover                               html  
    finding level-2 HTML links ... done
    scRecoverTest                           html  
** building package indices
** installing vignettes
** testing if installed package can be loaded from temporary location
** testing if installed package can be loaded from final location
** testing if installed package keeps a record of temporary installation path
install for x64
* installing *source* package 'scRecover' ...
** testing if installed package can be loaded
* MD5 sums
packaged installation of 'scRecover' as scRecover_1.6.0.zip
* DONE (scRecover)