| Back to Multiple platform build/check report for BioC 3.12 |
|
This page was generated on 2021-05-06 12:28:50 -0400 (Thu, 06 May 2021).
|
To the developers/maintainers of the rhdf5filters package: Please make sure to use the following settings in order to reproduce any error or warning you see on this page. |
| Package 1523/1974 | Hostname | OS / Arch | INSTALL | BUILD | CHECK | BUILD BIN | ||||||||
| rhdf5filters 1.2.1 (landing page) Mike Smith
| malbec1 | Linux (Ubuntu 18.04.5 LTS) / x86_64 | OK | OK | OK | |||||||||
| tokay1 | Windows Server 2012 R2 Standard / x64 | OK | OK | OK | OK | |||||||||
| merida1 | macOS 10.14.6 Mojave / x86_64 | OK | OK | OK | OK | |||||||||
| Package: rhdf5filters |
| Version: 1.2.1 |
| Command: /home/biocbuild/bbs-3.12-bioc/R/bin/R CMD build --keep-empty-dirs --no-resave-data rhdf5filters |
| StartedAt: 2021-05-05 21:25:11 -0400 (Wed, 05 May 2021) |
| EndedAt: 2021-05-05 21:25:57 -0400 (Wed, 05 May 2021) |
| EllapsedTime: 46.2 seconds |
| RetCode: 0 |
| Status: OK |
| PackageFile: rhdf5filters_1.2.1.tar.gz |
| PackageFileSize: 784.5 KiB |
############################################################################## ############################################################################## ### ### Running command: ### ### /home/biocbuild/bbs-3.12-bioc/R/bin/R CMD build --keep-empty-dirs --no-resave-data rhdf5filters ### ############################################################################## ############################################################################## * checking for file ‘rhdf5filters/DESCRIPTION’ ... OK * preparing ‘rhdf5filters’: * checking DESCRIPTION meta-information ... OK * cleaning src * running ‘cleanup’ * installing the package to build vignettes * creating vignettes ... OK * cleaning src * running ‘cleanup’ * checking for LF line-endings in source and make files and shell scripts * checking for empty or unneeded directories * building ‘rhdf5filters_1.2.1.tar.gz’