| Back to Multiple platform build/check report for BioC 3.12 |
|
This page was generated on 2021-05-06 12:31:27 -0400 (Thu, 06 May 2021).
|
To the developers/maintainers of the genomation package: Please make sure to use the following settings in order to reproduce any error or warning you see on this page. |
| Package 710/1974 | Hostname | OS / Arch | INSTALL | BUILD | CHECK | BUILD BIN | ||||||||
| genomation 1.22.0 (landing page) Altuna Akalin
| malbec1 | Linux (Ubuntu 18.04.5 LTS) / x86_64 | OK | OK | WARNINGS | |||||||||
| tokay1 | Windows Server 2012 R2 Standard / x64 | OK | OK | WARNINGS | OK | |||||||||
| merida1 | macOS 10.14.6 Mojave / x86_64 | OK | OK | WARNINGS | OK | |||||||||
| Package: genomation |
| Version: 1.22.0 |
| Command: chmod a+r genomation -R && C:\Users\biocbuild\bbs-3.12-bioc\R\bin\R.exe CMD build --keep-empty-dirs --no-resave-data genomation |
| StartedAt: 2021-05-05 21:11:59 -0400 (Wed, 05 May 2021) |
| EndedAt: 2021-05-05 21:13:28 -0400 (Wed, 05 May 2021) |
| EllapsedTime: 88.7 seconds |
| RetCode: 0 |
| Status: OK |
| PackageFile: genomation_1.22.0.tar.gz |
| PackageFileSize: 6.003 MiB |
##############################################################################
##############################################################################
###
### Running command:
###
### chmod a+r genomation -R && C:\Users\biocbuild\bbs-3.12-bioc\R\bin\R.exe CMD build --keep-empty-dirs --no-resave-data genomation
###
##############################################################################
##############################################################################
* checking for file 'genomation/DESCRIPTION' ... OK
* preparing 'genomation':
* checking DESCRIPTION meta-information ... OK
* cleaning src
* installing the package to build vignettes
* creating vignettes ... OK
Warning: 'inst/doc' file
'GenomationManual.html'
ignored as vignettes have been rebuilt.
Run R CMD build with --no-build-vignettes to prevent rebuilding.
* cleaning src
* checking for LF line-endings in source and make files and shell scripts
* checking for empty or unneeded directories
WARNING: directory 'genomation/vignettes/cache' is empty
* looking to see if a 'data/datalist' file should be added
* building 'genomation_1.22.0.tar.gz'