| Back to Multiple platform build/check report for BioC 3.12 |
|
This page was generated on 2021-05-06 12:29:58 -0400 (Thu, 06 May 2021).
|
To the developers/maintainers of the basilisk package: Please make sure to use the following settings in order to reproduce any error or warning you see on this page. |
| Package 121/1974 | Hostname | OS / Arch | INSTALL | BUILD | CHECK | BUILD BIN | ||||||||
| basilisk 1.2.1 (landing page) Aaron Lun
| malbec1 | Linux (Ubuntu 18.04.5 LTS) / x86_64 | OK | OK | OK | |||||||||
| tokay1 | Windows Server 2012 R2 Standard / x64 | OK | OK | ERROR | OK | |||||||||
| merida1 | macOS 10.14.6 Mojave / x86_64 | OK | OK | OK | OK | |||||||||
| Package: basilisk |
| Version: 1.2.1 |
| Command: C:\Users\biocbuild\bbs-3.12-bioc\R\bin\R.exe --arch x64 CMD INSTALL --no-multiarch basilisk |
| StartedAt: 2021-05-05 16:50:59 -0400 (Wed, 05 May 2021) |
| EndedAt: 2021-05-05 16:51:41 -0400 (Wed, 05 May 2021) |
| EllapsedTime: 42.1 seconds |
| RetCode: 0 |
| Status: OK |
##############################################################################
##############################################################################
###
### Running command:
###
### C:\Users\biocbuild\bbs-3.12-bioc\R\bin\R.exe --arch x64 CMD INSTALL --no-multiarch basilisk
###
##############################################################################
##############################################################################
* installing to library 'C:/Users/biocbuild/bbs-3.12-bioc/R/library'
* installing *source* package 'basilisk' ...
** using non-staged installation via StagedInstall field
** R
** inst
** byte-compile and prepare package for lazy loading
** help
*** installing help indices
converting help for package 'basilisk'
finding HTML links ... done
BasiliskEnvironment-class html
PyPiLink html
basiliskOptions html
basiliskStart html
finding level-2 HTML links ... done
configureBasiliskEnv html
findPersistentEnv html
listPackages html
setupBasiliskEnv html
useBasiliskEnv html
** building package indices
** installing vignettes
** testing if installed package can be loaded
* DONE (basilisk)
Making 'packages.html' ... done