| Back to Multiple platform build/check report for BioC 3.12 |
|
This page was generated on 2021-05-06 12:30:54 -0400 (Thu, 06 May 2021).
|
To the developers/maintainers of the DEXSeq package: Please make sure to use the following settings in order to reproduce any error or warning you see on this page. |
| Package 470/1974 | Hostname | OS / Arch | INSTALL | BUILD | CHECK | BUILD BIN | ||||||||
| DEXSeq 1.36.0 (landing page) Alejandro Reyes
| malbec1 | Linux (Ubuntu 18.04.5 LTS) / x86_64 | OK | OK | OK | |||||||||
| tokay1 | Windows Server 2012 R2 Standard / x64 | OK | OK | OK | OK | |||||||||
| merida1 | macOS 10.14.6 Mojave / x86_64 | OK | OK | OK | OK | |||||||||
| Package: DEXSeq |
| Version: 1.36.0 |
| Command: rm -rf DEXSeq.buildbin-libdir && mkdir DEXSeq.buildbin-libdir && C:\Users\biocbuild\bbs-3.12-bioc\R\bin\R.exe CMD INSTALL --merge-multiarch --build --library=DEXSeq.buildbin-libdir DEXSeq_1.36.0.tar.gz |
| StartedAt: 2021-05-06 08:54:51 -0400 (Thu, 06 May 2021) |
| EndedAt: 2021-05-06 08:55:55 -0400 (Thu, 06 May 2021) |
| EllapsedTime: 63.8 seconds |
| RetCode: 0 |
| Status: OK |
| PackageFile: DEXSeq_1.36.0.zip |
| PackageFileSize: 1006 KiB |
##############################################################################
##############################################################################
###
### Running command:
###
### rm -rf DEXSeq.buildbin-libdir && mkdir DEXSeq.buildbin-libdir && C:\Users\biocbuild\bbs-3.12-bioc\R\bin\R.exe CMD INSTALL --merge-multiarch --build --library=DEXSeq.buildbin-libdir DEXSeq_1.36.0.tar.gz
###
##############################################################################
##############################################################################
install for i386
* installing *source* package 'DEXSeq' ...
** using staged installation
** R
** inst
** byte-compile and prepare package for lazy loading
** help
*** installing help indices
converting help for package 'DEXSeq'
finding HTML links ... done
DEXSeq-defunct html
DEXSeq html
DEXSeqDataSet html
DEXSeqHTML html
DEXSeqResults html
accessors html
counts html
estimateDispersions html
estimateExonFoldChanges html
estimateSizeFactors html
methods-gr html
otherMethods html
perGeneQValue html
plotDEXSeq html
plotDispEsts html
plotMA html
testForDEU html
** building package indices
** installing vignettes
** testing if installed package can be loaded from temporary location
** testing if installed package can be loaded from final location
** testing if installed package keeps a record of temporary installation path
install for x64
* installing *source* package 'DEXSeq' ...
** testing if installed package can be loaded
* MD5 sums
packaged installation of 'DEXSeq' as DEXSeq_1.36.0.zip
* DONE (DEXSeq)