Back to Multiple platform build/check report for BioC 3.11 (small subset of software packages ONLY)

INSTALL report for zlibbioc on malbec2

This page was generated on 2020-01-24 03:57:02 -0500 (Fri, 24 Jan 2020).

Package 41/41HostnameOS / ArchINSTALLBUILDCHECKBUILD BIN
zlibbioc 1.33.1
Bioconductor Package Maintainer
Snapshot Date: 2020-01-24 01:50:48 -0500 (Fri, 24 Jan 2020)
URL: https://git.bioconductor.org/packages/zlibbioc
Branch: master
Last Commit: 11be463
Last Changed Date: 2020-01-23 21:51:48 -0500 (Thu, 23 Jan 2020)
malbec2 Linux (Ubuntu 18.04.3 LTS) / x86_64 [ OK ] OK  OK 
tokay2 Windows Server 2012 R2 Standard / x64  OK  ERROR  skipped  skipped 

Summary

Package: zlibbioc
Version: 1.33.1
Command: /home/biocbuild/bbs-3.11-bioc/R/bin/R CMD INSTALL zlibbioc
StartedAt: 2020-01-24 01:55:43 -0500 (Fri, 24 Jan 2020)
EndedAt: 2020-01-24 01:55:46 -0500 (Fri, 24 Jan 2020)
EllapsedTime: 2.5 seconds
RetCode: 0
Status:  OK 

Command output

##############################################################################
##############################################################################
###
### Running command:
###
###   /home/biocbuild/bbs-3.11-bioc/R/bin/R CMD INSTALL zlibbioc
###
##############################################################################
##############################################################################


* installing to library ‘/home/biocbuild/bbs-3.11-bioc-testing/Rlibs’
* installing *source* package ‘zlibbioc’ ...
** using staged installation
configure: creating ./config.status
config.status: creating src/Makevars
** libs
mkdir -p "/home/biocbuild/bbs-3.11-bioc-testing/Rlibs/00LOCK-zlibbioc/00new/zlibbioc/include"
gcc -I"/home/biocbuild/bbs-3.11-bioc/R/include" -DNDEBUG   -I/usr/local/include   -fpic  -g -O2  -Wall -c R_init_zlibbioc.c -o R_init_zlibbioc.o
gcc -shared -L/home/biocbuild/bbs-3.11-bioc/R/lib -L/usr/local/lib -o zlibbioc.so R_init_zlibbioc.o -L/home/biocbuild/bbs-3.11-bioc/R/lib -lR
installing to /home/biocbuild/bbs-3.11-bioc-testing/Rlibs/00LOCK-zlibbioc/00new/zlibbioc/libs
** R
** byte-compile and prepare package for lazy loading
** help
*** installing help indices
** building package indices
** installing vignettes
** testing if installed package can be loaded from temporary location
** checking absolute paths in shared objects and dynamic libraries
** testing if installed package can be loaded from final location
** testing if installed package keeps a record of temporary installation path
* DONE (zlibbioc)