More about tokay2
Hostname: | tokay2 |
OS: | Windows Server 2012 R2 Standard |
Arch: | x64 |
Platform: | mingw32 / x86_64-w64-mingw32 |
R version: | 4.0.0 alpha (Rtools40) (2020-03-31 r78116) -- "Blame Jeroen"
|
R environment variables: | Renviron.bioc |
C compiler
R variable (VAR) | Value ('R CMD config <VAR>' output) |
CC | /mingw64/bin/gcc
|
CFLAGS | -O2 -Wall -std=gnu99 -mfpmath=sse -msse2 -mstackrealign
|
CPICFLAGS | |
CPP | 'config' variable 'CPP' is deprecated
|
Please refer to 'R CMD config -h' for the meaning of these variables |
Compiler version ('/mingw64/bin/gcc
--version' output):
The system cannot find the path specified.
C++ compiler
R variable (VAR) | Value ('R CMD config <VAR>' output) |
CXX | /mingw64/bin/g++ -std=gnu++11
|
CXXFLAGS | -O2 -Wall -mfpmath=sse -msse2 -mstackrealign
|
CXXPICFLAGS | |
CXXCPP | 'config' variable 'CXXCPP' is deprecated
|
Please refer to 'R CMD config -h' for the meaning of these variables |
Compiler version ('/mingw64/bin/g++ -std=gnu++11
--version' output):
The system cannot find the path specified.
C++11 compiler
R variable (VAR) | Value ('R CMD config <VAR>' output) |
CXX11 | /mingw64/bin/g++
|
CXX11FLAGS | -O2 -Wall -mfpmath=sse -msse2 -mstackrealign
|
CXX11PICFLAGS | |
CXX11STD | -std=gnu++11
|
Please refer to 'R CMD config -h' for the meaning of these variables |
Compiler version ('/mingw64/bin/g++
--version' output):
The system cannot find the path specified.
C++14 compiler
R variable (VAR) | Value ('R CMD config <VAR>' output) |
CXX14 | /mingw64/bin/g++
|
CXX14FLAGS | -O2 -Wall -mfpmath=sse -msse2 -mstackrealign
|
CXX14PICFLAGS | |
CXX14STD | -std=gnu++14
|
Please refer to 'R CMD config -h' for the meaning of these variables |
Compiler version ('/mingw64/bin/g++
--version' output):
The system cannot find the path specified.
More information might be added in the future...