Package: BiocVersion Version: 3.11.1 Maintainer: Bioconductor Package Maintainer MaintainerEmail: maintainer@bioconductor.org PackageStatus: OK UnsupportedPlatforms: None NoExamplesOnPlatforms: None ForceInstall: None Alert: None AlertOn: None AlertTo: None Package: BiocStyle Version: 2.15.6 Maintainer: Bioconductor Package Maintainer MaintainerEmail: maintainer@bioconductor.org PackageStatus: OK UnsupportedPlatforms: None NoExamplesOnPlatforms: None ForceInstall: None Alert: None AlertOn: None AlertTo: None Package: BiocGenerics Version: 0.33.3 Maintainer: Bioconductor Package Maintainer MaintainerEmail: maintainer@bioconductor.org PackageStatus: OK UnsupportedPlatforms: None NoExamplesOnPlatforms: None ForceInstall: None Alert: None AlertOn: None AlertTo: None Package: DynDoc Version: 1.65.0 Maintainer: Bioconductor Package Maintainer MaintainerEmail: maintainer@bioconductor.org PackageStatus: OK UnsupportedPlatforms: None NoExamplesOnPlatforms: None ForceInstall: None Alert: None AlertOn: None AlertTo: None Package: widgetTools Version: 1.65.0 Maintainer: Jianhua Zhang MaintainerEmail: jzhang@jimmy.harvard.edu PackageStatus: OK UnsupportedPlatforms: None NoExamplesOnPlatforms: None ForceInstall: None Alert: None AlertOn: None AlertTo: None Package: tkWidgets Version: 1.65.0 Maintainer: J. Zhang MaintainerEmail: jzhang@jimmy.harvard.edu PackageStatus: OK UnsupportedPlatforms: None NoExamplesOnPlatforms: None ForceInstall: None Alert: None AlertOn: None AlertTo: None Package: Biobase Version: 2.47.3 Maintainer: Bioconductor Package Maintainer MaintainerEmail: maintainer@bioconductor.org PackageStatus: OK UnsupportedPlatforms: None NoExamplesOnPlatforms: None ForceInstall: None Alert: None AlertOn: None AlertTo: None Package: zlibbioc Version: 1.33.1 Maintainer: Bioconductor Package Maintainer MaintainerEmail: maintainer@bioconductor.org PackageStatus: OK UnsupportedPlatforms: None NoExamplesOnPlatforms: None ForceInstall: None Alert: None AlertOn: None AlertTo: None Package: BiocParallel Version: 1.21.2 Maintainer: Bioconductor Package Maintainer MaintainerEmail: maintainer@bioconductor.org PackageStatus: OK UnsupportedPlatforms: None NoExamplesOnPlatforms: None ForceInstall: None Alert: None AlertOn: None AlertTo: None Package: S4Vectors Version: 0.25.15 Maintainer: Bioconductor Package Maintainer MaintainerEmail: maintainer@bioconductor.org PackageStatus: OK UnsupportedPlatforms: None NoExamplesOnPlatforms: None ForceInstall: None Alert: None AlertOn: None AlertTo: None Package: IRanges Version: 2.21.8 Maintainer: Bioconductor Package Maintainer MaintainerEmail: maintainer@bioconductor.org PackageStatus: OK UnsupportedPlatforms: None NoExamplesOnPlatforms: None ForceInstall: None Alert: None AlertOn: None AlertTo: None Package: GenomeInfoDb Version: 1.23.17 Maintainer: Bioconductor Package Maintainer MaintainerEmail: maintainer@bioconductor.org PackageStatus: OK UnsupportedPlatforms: None NoExamplesOnPlatforms: None ForceInstall: None Alert: None AlertOn: None AlertTo: None Package: AnnotationDbi Version: 1.49.1 Maintainer: Bioconductor Package Maintainer MaintainerEmail: maintainer@bioconductor.org PackageStatus: OK UnsupportedPlatforms: None NoExamplesOnPlatforms: None ForceInstall: None Alert: None AlertOn: None AlertTo: None Package: AnnotationForge Version: 1.29.3 Maintainer: Bioconductor Package Maintainer MaintainerEmail: maintainer@bioconductor.org PackageStatus: OK UnsupportedPlatforms: None NoExamplesOnPlatforms: None ForceInstall: None Alert: None AlertOn: None AlertTo: None Package: OrganismDbi Version: 1.29.1 Maintainer: Bioconductor Package Maintainer MaintainerEmail: maintainer@bioconductor.org PackageStatus: OK UnsupportedPlatforms: None NoExamplesOnPlatforms: None ForceInstall: None Alert: None AlertOn: None AlertTo: None Package: XVector Version: 0.27.2 Maintainer: Hervé Pagès MaintainerEmail: hpages@fredhutch.org PackageStatus: OK UnsupportedPlatforms: None NoExamplesOnPlatforms: None ForceInstall: None Alert: None AlertOn: None AlertTo: None Package: GenomicRanges Version: 1.39.3 Maintainer: Bioconductor Package Maintainer MaintainerEmail: maintainer@bioconductor.org PackageStatus: OK UnsupportedPlatforms: None NoExamplesOnPlatforms: None ForceInstall: None Alert: None AlertOn: None AlertTo: None Package: KEGGgraph Version: 1.47.0 Maintainer: Jitao David Zhang MaintainerEmail: jitao_david.zhang@roche.com PackageStatus: OK UnsupportedPlatforms: None NoExamplesOnPlatforms: None ForceInstall: None Alert: None AlertOn: None AlertTo: None Package: SPIA Version: 2.39.0 Maintainer: Adi Laurentiu Tarca MaintainerEmail: atarca@med.wayne.edu PackageStatus: OK UnsupportedPlatforms: None NoExamplesOnPlatforms: None ForceInstall: None Alert: None AlertOn: None AlertTo: None Package: Biostrings Version: 2.55.7 Maintainer: H. Pagès MaintainerEmail: hpages@fredhutch.org PackageStatus: OK UnsupportedPlatforms: None NoExamplesOnPlatforms: None ForceInstall: None Alert: TRUE AlertOn: ERROR, WARNINGS AlertTo: hpages@fredhutch.org, herve.pages@laposte.net Package: DelayedArray Version: 0.13.12 Maintainer: Hervé Pagès MaintainerEmail: hpages@fredhutch.org PackageStatus: OK UnsupportedPlatforms: None NoExamplesOnPlatforms: None ForceInstall: None Alert: None AlertOn: None AlertTo: None Package: DelayedMatrixStats Version: 1.9.1 Maintainer: Peter Hickey MaintainerEmail: peter.hickey@gmail.com PackageStatus: OK UnsupportedPlatforms: None NoExamplesOnPlatforms: None ForceInstall: None Alert: None AlertOn: None AlertTo: None Package: annotate Version: 1.65.1 Maintainer: Bioconductor Package Maintainer MaintainerEmail: maintainer@bioconductor.org PackageStatus: OK UnsupportedPlatforms: None NoExamplesOnPlatforms: None ForceInstall: None Alert: None AlertOn: None AlertTo: None Package: genefilter Version: 1.69.0 Maintainer: Bioconductor Package Maintainer MaintainerEmail: maintainer@bioconductor.org PackageStatus: OK UnsupportedPlatforms: None NoExamplesOnPlatforms: None ForceInstall: None Alert: None AlertOn: None AlertTo: None Package: ROC Version: 1.63.0 Maintainer: Vince Carey MaintainerEmail: stvjc@channing.harvard.edu PackageStatus: OK UnsupportedPlatforms: None NoExamplesOnPlatforms: None ForceInstall: None Alert: None AlertOn: None AlertTo: None Package: SummarizedExperiment Version: 1.17.5 Maintainer: Bioconductor Package Maintainer MaintainerEmail: maintainer@bioconductor.org PackageStatus: OK UnsupportedPlatforms: None NoExamplesOnPlatforms: None ForceInstall: None Alert: None AlertOn: None AlertTo: None Package: SingleCellExperiment Version: 1.9.3 Maintainer: Davide Risso MaintainerEmail: risso.davide@gmail.com PackageStatus: OK UnsupportedPlatforms: None NoExamplesOnPlatforms: None ForceInstall: None Alert: None AlertOn: None AlertTo: None Package: Rhtslib Version: 1.19.1 Maintainer: Bioconductor Package Maintainer MaintainerEmail: maintainer@bioconductor.org PackageStatus: OK UnsupportedPlatforms: None NoExamplesOnPlatforms: None ForceInstall: None Alert: None AlertOn: None AlertTo: None Package: Rsamtools Version: 2.3.7 Maintainer: Bioconductor Package Maintainer MaintainerEmail: maintainer@bioconductor.org PackageStatus: OK UnsupportedPlatforms: None NoExamplesOnPlatforms: None ForceInstall: None Alert: None AlertOn: None AlertTo: None Package: GenomicAlignments Version: 1.23.2 Maintainer: Bioconductor Package Maintainer MaintainerEmail: maintainer@bioconductor.org PackageStatus: OK UnsupportedPlatforms: None NoExamplesOnPlatforms: None ForceInstall: None Alert: None AlertOn: None AlertTo: None Package: rtracklayer Version: 1.47.0 Maintainer: Michael Lawrence MaintainerEmail: michafla@gene.com PackageStatus: OK UnsupportedPlatforms: None NoExamplesOnPlatforms: None ForceInstall: None Alert: None AlertOn: None AlertTo: None Package: microRNA Version: 1.45.0 Maintainer: "James F. Reid" MaintainerEmail: james.reid@ifom-ieo-campus.it PackageStatus: OK UnsupportedPlatforms: None NoExamplesOnPlatforms: None ForceInstall: None Alert: None AlertOn: None AlertTo: None Package: BSgenome Version: 1.55.4 Maintainer: H. Pagès MaintainerEmail: hpages@fredhutch.org PackageStatus: OK UnsupportedPlatforms: None NoExamplesOnPlatforms: None ForceInstall: None Alert: None AlertOn: None AlertTo: None Package: BiocFileCache Version: 1.11.5 Maintainer: Lori Shepherd MaintainerEmail: lori.shepherd@roswellpark.org PackageStatus: OK UnsupportedPlatforms: None NoExamplesOnPlatforms: None ForceInstall: None Alert: None AlertOn: None AlertTo: None Package: interactiveDisplayBase Version: 1.25.0 Maintainer: Shawn Balcome MaintainerEmail: balc0022@umn.edu PackageStatus: OK UnsupportedPlatforms: None NoExamplesOnPlatforms: None ForceInstall: None Alert: None AlertOn: None AlertTo: None Package: AnnotationHub Version: 2.19.9 Maintainer: Bioconductor Package Maintainer MaintainerEmail: maintainer@bioconductor.org PackageStatus: OK UnsupportedPlatforms: None NoExamplesOnPlatforms: None ForceInstall: None Alert: None AlertOn: None AlertTo: None Package: ExperimentHub Version: 1.13.5 Maintainer: Bioconductor Package Maintainer MaintainerEmail: maintainer@bioconductor.org PackageStatus: OK UnsupportedPlatforms: None NoExamplesOnPlatforms: None ForceInstall: None Alert: None AlertOn: None AlertTo: None Package: gdsfmt Version: 1.23.11 Maintainer: Xiuwen Zheng MaintainerEmail: zhengx@u.washington.edu PackageStatus: OK UnsupportedPlatforms: None NoExamplesOnPlatforms: None ForceInstall: None Alert: None AlertOn: None AlertTo: None Package: biomaRt Version: 2.43.5 Maintainer: Mike Smith MaintainerEmail: grimbough@gmail.com PackageStatus: OK UnsupportedPlatforms: None NoExamplesOnPlatforms: None ForceInstall: None Alert: None AlertOn: None AlertTo: None Package: GenomicFeatures Version: 1.39.7 Maintainer: Bioconductor Package Maintainer MaintainerEmail: maintainer@bioconductor.org PackageStatus: OK UnsupportedPlatforms: None NoExamplesOnPlatforms: None ForceInstall: None Alert: None AlertOn: None AlertTo: None Package: ShortRead Version: 1.45.4 Maintainer: Bioconductor Package Maintainer MaintainerEmail: maintainer@bioconductor.org PackageStatus: OK UnsupportedPlatforms: None NoExamplesOnPlatforms: None ForceInstall: None Alert: None AlertOn: None AlertTo: None Package: VariantAnnotation Version: 1.33.4 Maintainer: Bioconductor Package Maintainer MaintainerEmail: maintainer@bioconductor.org PackageStatus: OK UnsupportedPlatforms: None NoExamplesOnPlatforms: None ForceInstall: None Alert: None AlertOn: None AlertTo: None Package: snpStats Version: 1.37.0 Maintainer: David Clayton MaintainerEmail: dc208@cam.ac.uk PackageStatus: OK UnsupportedPlatforms: None NoExamplesOnPlatforms: None ForceInstall: None Alert: None AlertOn: None AlertTo: None Package: preprocessCore Version: 1.49.2 Maintainer: Ben Bolstad MaintainerEmail: bmb@bmbolstad.com PackageStatus: OK UnsupportedPlatforms: None NoExamplesOnPlatforms: None ForceInstall: None Alert: None AlertOn: None AlertTo: None Package: affyio Version: 1.57.0 Maintainer: Ben Bolstad MaintainerEmail: bmb@bmbolstad.com PackageStatus: OK UnsupportedPlatforms: None NoExamplesOnPlatforms: None ForceInstall: None Alert: None AlertOn: None AlertTo: None Package: affy Version: 1.65.1 Maintainer: Rafael A. Irizarry MaintainerEmail: rafa@jhu.edu PackageStatus: OK UnsupportedPlatforms: None NoExamplesOnPlatforms: None ForceInstall: None Alert: None AlertOn: None AlertTo: None Package: multtest Version: 2.43.1 Maintainer: Katherine S. Pollard MaintainerEmail: katherine.pollard@gladstone.ucsf.edu PackageStatus: OK UnsupportedPlatforms: None NoExamplesOnPlatforms: None ForceInstall: None Alert: None AlertOn: None AlertTo: None Package: impute Version: 1.61.0 Maintainer: Balasubramanian Narasimhan MaintainerEmail: naras@stat.Stanford.EDU PackageStatus: OK UnsupportedPlatforms: None NoExamplesOnPlatforms: None ForceInstall: None Alert: None AlertOn: None AlertTo: None Package: Rhdf5lib Version: 1.9.2 Maintainer: Mike Smith MaintainerEmail: grimbough@gmail.com PackageStatus: OK UnsupportedPlatforms: None NoExamplesOnPlatforms: None ForceInstall: None Alert: None AlertOn: None AlertTo: None Package: rhdf5 Version: 2.31.10 Maintainer: Mike Smith MaintainerEmail: mike.smith@embl.de PackageStatus: OK UnsupportedPlatforms: None NoExamplesOnPlatforms: None ForceInstall: None Alert: None AlertOn: None AlertTo: None Package: HDF5Array Version: 1.15.18 Maintainer: Hervé Pagès MaintainerEmail: hpages@fredhutch.org PackageStatus: OK UnsupportedPlatforms: None NoExamplesOnPlatforms: None ForceInstall: None Alert: None AlertOn: None AlertTo: None Package: beachmat Version: 2.3.2 Maintainer: Aaron Lun MaintainerEmail: infinite.monkeys.with.keyboards@gmail.com PackageStatus: OK UnsupportedPlatforms: None NoExamplesOnPlatforms: None ForceInstall: None Alert: None AlertOn: None AlertTo: None Package: BiocNeighbors Version: 1.5.4 Maintainer: Aaron Lun MaintainerEmail: infinite.monkeys.with.keyboards@gmail.com PackageStatus: OK UnsupportedPlatforms: None NoExamplesOnPlatforms: None ForceInstall: None Alert: None AlertOn: None AlertTo: None Package: AnnotationFilter Version: 1.11.0 Maintainer: Bioconductor Package Maintainer MaintainerEmail: maintainer@bioconductor.org PackageStatus: OK UnsupportedPlatforms: None NoExamplesOnPlatforms: None ForceInstall: None Alert: None AlertOn: None AlertTo: None Package: limma Version: 3.43.8 Maintainer: Gordon Smyth MaintainerEmail: smyth@wehi.edu.au PackageStatus: OK UnsupportedPlatforms: None NoExamplesOnPlatforms: None ForceInstall: None Alert: None AlertOn: None AlertTo: None Package: vsn Version: 3.55.0 Maintainer: Wolfgang Huber MaintainerEmail: wolfgang.huber@embl.de PackageStatus: OK UnsupportedPlatforms: None NoExamplesOnPlatforms: None ForceInstall: None Alert: None AlertOn: None AlertTo: None Package: illuminaio Version: 0.29.0 Maintainer: Kasper Daniel Hansen MaintainerEmail: kasperdanielhansen@gmail.com PackageStatus: OK UnsupportedPlatforms: None NoExamplesOnPlatforms: None ForceInstall: None Alert: None AlertOn: None AlertTo: None Package: edgeR Version: 3.29.1 Maintainer: Yunshun Chen , Aaron Lun , Mark Robinson , Gordon Smyth MaintainerEmail: smyth@wehi.edu.au PackageStatus: OK UnsupportedPlatforms: None NoExamplesOnPlatforms: None ForceInstall: None Alert: None AlertOn: None AlertTo: None Package: Rsubread Version: 2.1.2 Maintainer: Wei Shi , Yang Liao and Gordon K Smyth MaintainerEmail: smyth@wehi.edu.au PackageStatus: OK UnsupportedPlatforms: None NoExamplesOnPlatforms: None ForceInstall: None Alert: None AlertOn: None AlertTo: None Package: geneplotter Version: 1.65.0 Maintainer: Bioconductor Package Maintainer MaintainerEmail: maintainer@bioconductor.org PackageStatus: OK UnsupportedPlatforms: None NoExamplesOnPlatforms: None ForceInstall: None Alert: None AlertOn: None AlertTo: None Package: DESeq Version: 1.39.3 Maintainer: Simon Anders MaintainerEmail: sanders@fs.tum.de PackageStatus: Deprecated UnsupportedPlatforms: None NoExamplesOnPlatforms: None ForceInstall: None Alert: None AlertOn: None AlertTo: None Package: DESeq2 Version: 1.27.31 Maintainer: Michael Love MaintainerEmail: michaelisaiahlove@gmail.com PackageStatus: OK UnsupportedPlatforms: None NoExamplesOnPlatforms: None ForceInstall: None Alert: None AlertOn: None AlertTo: None Package: tximport Version: 1.15.13 Maintainer: Michael Love MaintainerEmail: michaelisaiahlove@gmail.com PackageStatus: OK UnsupportedPlatforms: None NoExamplesOnPlatforms: None ForceInstall: None Alert: None AlertOn: None AlertTo: None Package: tximeta Version: 1.5.31 Maintainer: Michael Love MaintainerEmail: michaelisaiahlove@gmail.com PackageStatus: OK UnsupportedPlatforms: None NoExamplesOnPlatforms: None ForceInstall: None Alert: None AlertOn: None AlertTo: None Package: apeglm Version: 1.9.1 Maintainer: Anqi Zhu MaintainerEmail: anqizhu@live.unc.edu PackageStatus: OK UnsupportedPlatforms: None NoExamplesOnPlatforms: None ForceInstall: None Alert: None AlertOn: None AlertTo: None Package: qvalue Version: 2.19.0 Maintainer: John D. Storey , Andrew J. Bass MaintainerEmail: ajbass@princeton.edu PackageStatus: OK UnsupportedPlatforms: None NoExamplesOnPlatforms: None ForceInstall: None Alert: None AlertOn: None AlertTo: None Package: fishpond Version: 1.3.15 Maintainer: Michael Love MaintainerEmail: michaelisaiahlove@gmail.com PackageStatus: OK UnsupportedPlatforms: None NoExamplesOnPlatforms: None ForceInstall: None Alert: None AlertOn: None AlertTo: None Package: DEXSeq Version: 1.33.1 Maintainer: Alejandro Reyes MaintainerEmail: alejandro.reyes.ds@gmail.com PackageStatus: OK UnsupportedPlatforms: None NoExamplesOnPlatforms: None ForceInstall: None Alert: None AlertOn: None AlertTo: None Package: csaw Version: 1.21.4 Maintainer: Aaron Lun MaintainerEmail: infinite.monkeys.with.keyboards@gmail.com PackageStatus: OK UnsupportedPlatforms: None NoExamplesOnPlatforms: None ForceInstall: None Alert: None AlertOn: None AlertTo: None Package: graph Version: 1.65.3 Maintainer: Bioconductor Package Maintainer MaintainerEmail: maintainer@bioconductor.org PackageStatus: OK UnsupportedPlatforms: None NoExamplesOnPlatforms: None ForceInstall: None Alert: None AlertOn: None AlertTo: None Package: Rgraphviz Version: 2.31.0 Maintainer: Kasper Daniel Hansen MaintainerEmail: kasperdanielhansen@gmail.com PackageStatus: OK UnsupportedPlatforms: None NoExamplesOnPlatforms: None ForceInstall: None Alert: None AlertOn: None AlertTo: None Package: RBGL Version: 1.63.1 Maintainer: Bioconductor Package Maintainer MaintainerEmail: maintainer@bioconductor.org PackageStatus: OK UnsupportedPlatforms: None NoExamplesOnPlatforms: None ForceInstall: None Alert: None AlertOn: None AlertTo: None Package: ProtGenerics Version: 1.19.3 Maintainer: Laurent Gatto MaintainerEmail: laurent.gatto@uclouvain.be PackageStatus: OK UnsupportedPlatforms: None NoExamplesOnPlatforms: None ForceInstall: None Alert: None AlertOn: None AlertTo: None Package: ensembldb Version: 2.11.3 Maintainer: Johannes Rainer MaintainerEmail: johannes.rainer@eurac.edu PackageStatus: OK UnsupportedPlatforms: None NoExamplesOnPlatforms: None ForceInstall: None Alert: None AlertOn: None AlertTo: None Package: biovizBase Version: 1.35.1 Maintainer: Michael Lawrence MaintainerEmail: lawrence.michael@gene.com PackageStatus: OK UnsupportedPlatforms: None NoExamplesOnPlatforms: None ForceInstall: None Alert: None AlertOn: None AlertTo: None Package: ggbio Version: 1.35.2 Maintainer: Michael Lawrence MaintainerEmail: lawrence.michael@gene.com PackageStatus: OK UnsupportedPlatforms: None NoExamplesOnPlatforms: None ForceInstall: None Alert: None AlertOn: None AlertTo: None Package: Gviz Version: 1.31.12 Maintainer: Robert Ivanek MaintainerEmail: robert.ivanek@unibas.ch PackageStatus: OK UnsupportedPlatforms: None NoExamplesOnPlatforms: None ForceInstall: None Alert: None AlertOn: None AlertTo: None Package: mzID Version: 1.25.0 Maintainer: Laurent Gatto MaintainerEmail: laurent.gatto@uclouvain.be PackageStatus: OK UnsupportedPlatforms: None NoExamplesOnPlatforms: None ForceInstall: None Alert: None AlertOn: None AlertTo: None Package: mzR Version: 2.21.1 Maintainer: Steffen Neumann MaintainerEmail: sneumann@ipb-halle.de PackageStatus: OK UnsupportedPlatforms: None NoExamplesOnPlatforms: None ForceInstall: None Alert: None AlertOn: None AlertTo: None Package: RProtoBufLib Version: 1.99.7 Maintainer: Mike Jiang MaintainerEmail: wjiang2@fhcrc.org PackageStatus: OK UnsupportedPlatforms: None NoExamplesOnPlatforms: None ForceInstall: None Alert: None AlertOn: None AlertTo: None Package: cytolib Version: 1.99.27 Maintainer: Mike Jiang MaintainerEmail: wjiang2@fhcrc.org PackageStatus: OK UnsupportedPlatforms: None NoExamplesOnPlatforms: None ForceInstall: None Alert: None AlertOn: None AlertTo: None Package: flowCore Version: 1.99.20 Maintainer: Mike Jiang MaintainerEmail: wjiang2@fhcrc.org PackageStatus: OK UnsupportedPlatforms: None NoExamplesOnPlatforms: None ForceInstall: None Alert: None AlertOn: None AlertTo: None Package: basilisk.utils Version: 0.99.10 Maintainer: Aaron Lun MaintainerEmail: infinite.monkeys.with.keyboards@gmail.com PackageStatus: OK UnsupportedPlatforms: None NoExamplesOnPlatforms: None ForceInstall: None Alert: None AlertOn: None AlertTo: None Package: basilisk Version: 0.99.61 Maintainer: Aaron Lun MaintainerEmail: infinite.monkeys.with.keyboards@gmail.com PackageStatus: OK UnsupportedPlatforms: win32 NoExamplesOnPlatforms: None ForceInstall: None Alert: None AlertOn: None AlertTo: None Package: rBiopaxParser Version: 2.27.1 Maintainer: Frank Kramer MaintainerEmail: dev@frankkramer.de PackageStatus: OK UnsupportedPlatforms: None NoExamplesOnPlatforms: None ForceInstall: None Alert: None AlertOn: None AlertTo: None Package: pcaMethods Version: 1.79.1 Maintainer: Henning Redestig MaintainerEmail: henning.red@gmail.com PackageStatus: OK UnsupportedPlatforms: None NoExamplesOnPlatforms: None ForceInstall: None Alert: None AlertOn: None AlertTo: None Package: MSnbase Version: 2.13.6 Maintainer: Laurent Gatto MaintainerEmail: laurent.gatto@uclouvain.be PackageStatus: OK UnsupportedPlatforms: None NoExamplesOnPlatforms: None ForceInstall: None Alert: None AlertOn: None AlertTo: None Package: nem Version: 2.61.1 Maintainer: Holger Froehlich MaintainerEmail: frohlich@bit.uni-bonn.de PackageStatus: Deprecated UnsupportedPlatforms: None NoExamplesOnPlatforms: None ForceInstall: None Alert: None AlertOn: None AlertTo: None Package: affxparser Version: 1.59.0 Maintainer: Kasper Daniel Hansen MaintainerEmail: kasperdanielhansen@gmail.com PackageStatus: OK UnsupportedPlatforms: None NoExamplesOnPlatforms: None ForceInstall: None Alert: None AlertOn: None AlertTo: None