Back to Multiple platform build/check report for BioC 3.11 (small subset of software packages ONLY) |
This page was generated on 2020-01-24 03:57:03 -0500 (Fri, 24 Jan 2020).
Package 18/41 | Hostname | OS / Arch | INSTALL | BUILD | CHECK | BUILD BIN | |||||
ensembldb 2.11.3 Johannes Rainer
| malbec2 | Linux (Ubuntu 18.04.3 LTS) / x86_64 | OK | [ OK ] | OK | ||||||
tokay2 | Windows Server 2012 R2 Standard / x64 | OK | ERROR | skipped | skipped |
Package: ensembldb |
Version: 2.11.3 |
Command: /home/biocbuild/bbs-3.11-bioc/R/bin/R CMD build --keep-empty-dirs --no-resave-data ensembldb |
StartedAt: 2020-01-24 02:42:34 -0500 (Fri, 24 Jan 2020) |
EndedAt: 2020-01-24 02:45:26 -0500 (Fri, 24 Jan 2020) |
EllapsedTime: 171.6 seconds |
RetCode: 0 |
Status: OK |
PackageFile: ensembldb_2.11.3.tar.gz |
PackageFileSize: 3.163 MiB |
############################################################################## ############################################################################## ### ### Running command: ### ### /home/biocbuild/bbs-3.11-bioc/R/bin/R CMD build --keep-empty-dirs --no-resave-data ensembldb ### ############################################################################## ############################################################################## * checking for file ‘ensembldb/DESCRIPTION’ ... OK * preparing ‘ensembldb’: * checking DESCRIPTION meta-information ... OK * installing the package to build vignettes * creating vignettes ... OK * checking for LF line-endings in source and make files and shell scripts * checking for empty or unneeded directories * building ‘ensembldb_2.11.3.tar.gz’