affxparser#tokay2#install: OK affxparser#tokay2#buildsrc: OK affxparser#tokay2#checksrc: WARNINGS affxparser#tokay2#buildbin: OK affy#tokay2#install: OK affy#tokay2#buildsrc: ERROR affy#tokay2#checksrc: skipped affy#tokay2#buildbin: skipped affyio#tokay2#install: OK affyio#tokay2#buildsrc: OK affyio#tokay2#checksrc: WARNINGS affyio#tokay2#buildbin: OK annotate#tokay2#install: OK annotate#tokay2#buildsrc: OK annotate#tokay2#checksrc: OK annotate#tokay2#buildbin: OK AnnotationDbi#tokay2#install: OK AnnotationDbi#tokay2#buildsrc: OK AnnotationDbi#tokay2#checksrc: OK AnnotationDbi#tokay2#buildbin: OK AnnotationFilter#tokay2#install: OK AnnotationFilter#tokay2#buildsrc: OK AnnotationFilter#tokay2#checksrc: OK AnnotationFilter#tokay2#buildbin: OK AnnotationForge#tokay2#install: OK AnnotationForge#tokay2#buildsrc: OK AnnotationForge#tokay2#checksrc: OK AnnotationForge#tokay2#buildbin: OK AnnotationHub#tokay2#install: OK AnnotationHub#tokay2#buildsrc: OK AnnotationHub#tokay2#checksrc: WARNINGS AnnotationHub#tokay2#buildbin: OK apeglm#tokay2#install: OK apeglm#tokay2#buildsrc: OK apeglm#tokay2#checksrc: OK apeglm#tokay2#buildbin: OK basilisk#tokay2#install: OK basilisk#tokay2#buildsrc: OK basilisk#tokay2#checksrc: ERROR basilisk#tokay2#buildbin: OK basilisk.utils#tokay2#install: OK basilisk.utils#tokay2#buildsrc: OK basilisk.utils#tokay2#checksrc: OK basilisk.utils#tokay2#buildbin: OK beachmat#tokay2#install: OK beachmat#tokay2#buildsrc: OK beachmat#tokay2#checksrc: OK beachmat#tokay2#buildbin: OK Biobase#tokay2#install: OK Biobase#tokay2#buildsrc: OK Biobase#tokay2#checksrc: OK Biobase#tokay2#buildbin: OK BiocFileCache#tokay2#install: OK BiocFileCache#tokay2#buildsrc: OK BiocFileCache#tokay2#checksrc: OK BiocFileCache#tokay2#buildbin: OK BiocGenerics#tokay2#install: OK BiocGenerics#tokay2#buildsrc: OK BiocGenerics#tokay2#checksrc: ERROR BiocGenerics#tokay2#buildbin: OK BiocNeighbors#tokay2#install: OK BiocNeighbors#tokay2#buildsrc: OK BiocNeighbors#tokay2#checksrc: OK BiocNeighbors#tokay2#buildbin: OK BiocParallel#tokay2#install: OK BiocParallel#tokay2#buildsrc: OK BiocParallel#tokay2#checksrc: WARNINGS BiocParallel#tokay2#buildbin: OK BiocStyle#tokay2#install: OK BiocStyle#tokay2#buildsrc: OK BiocStyle#tokay2#checksrc: OK BiocStyle#tokay2#buildbin: OK BiocVersion#tokay2#install: OK BiocVersion#tokay2#buildsrc: OK BiocVersion#tokay2#checksrc: OK BiocVersion#tokay2#buildbin: OK biomaRt#tokay2#install: OK biomaRt#tokay2#buildsrc: OK biomaRt#tokay2#checksrc: OK biomaRt#tokay2#buildbin: OK Biostrings#tokay2#install: OK Biostrings#tokay2#buildsrc: OK Biostrings#tokay2#checksrc: WARNINGS Biostrings#tokay2#buildbin: OK biovizBase#tokay2#install: OK biovizBase#tokay2#buildsrc: ERROR biovizBase#tokay2#checksrc: skipped biovizBase#tokay2#buildbin: skipped BSgenome#tokay2#install: OK BSgenome#tokay2#buildsrc: ERROR BSgenome#tokay2#checksrc: skipped BSgenome#tokay2#buildbin: skipped csaw#tokay2#install: OK csaw#tokay2#buildsrc: OK csaw#tokay2#checksrc: OK csaw#tokay2#buildbin: OK cytolib#tokay2#install: ERROR cytolib#tokay2#buildsrc: ERROR cytolib#tokay2#checksrc: skipped cytolib#tokay2#buildbin: skipped DelayedArray#tokay2#install: OK DelayedArray#tokay2#buildsrc: OK DelayedArray#tokay2#checksrc: WARNINGS DelayedArray#tokay2#buildbin: OK DelayedMatrixStats#tokay2#install: OK DelayedMatrixStats#tokay2#buildsrc: ERROR DelayedMatrixStats#tokay2#checksrc: skipped DelayedMatrixStats#tokay2#buildbin: skipped DESeq#tokay2#install: OK DESeq#tokay2#buildsrc: ERROR DESeq#tokay2#checksrc: skipped DESeq#tokay2#buildbin: skipped DESeq2#tokay2#install: OK DESeq2#tokay2#buildsrc: OK DESeq2#tokay2#checksrc: OK DESeq2#tokay2#buildbin: OK DEXSeq#tokay2#install: OK DEXSeq#tokay2#buildsrc: OK DEXSeq#tokay2#checksrc: OK DEXSeq#tokay2#buildbin: OK DynDoc#tokay2#install: OK DynDoc#tokay2#buildsrc: OK DynDoc#tokay2#checksrc: OK DynDoc#tokay2#buildbin: OK edgeR#tokay2#install: OK edgeR#tokay2#buildsrc: ERROR edgeR#tokay2#checksrc: skipped edgeR#tokay2#buildbin: skipped ensembldb#tokay2#install: OK ensembldb#tokay2#buildsrc: OK ensembldb#tokay2#checksrc: OK ensembldb#tokay2#buildbin: OK ExperimentHub#tokay2#install: OK ExperimentHub#tokay2#buildsrc: OK ExperimentHub#tokay2#checksrc: OK ExperimentHub#tokay2#buildbin: OK fishpond#tokay2#install: OK fishpond#tokay2#buildsrc: OK fishpond#tokay2#checksrc: OK fishpond#tokay2#buildbin: OK flowCore#tokay2#install: ERROR flowCore#tokay2#buildsrc: ERROR flowCore#tokay2#checksrc: skipped flowCore#tokay2#buildbin: skipped gdsfmt#tokay2#install: OK gdsfmt#tokay2#buildsrc: OK gdsfmt#tokay2#checksrc: OK gdsfmt#tokay2#buildbin: OK genefilter#tokay2#install: OK genefilter#tokay2#buildsrc: OK genefilter#tokay2#checksrc: WARNINGS genefilter#tokay2#buildbin: OK geneplotter#tokay2#install: OK geneplotter#tokay2#buildsrc: ERROR geneplotter#tokay2#checksrc: skipped geneplotter#tokay2#buildbin: skipped GenomeInfoDb#tokay2#install: OK GenomeInfoDb#tokay2#buildsrc: OK GenomeInfoDb#tokay2#checksrc: WARNINGS GenomeInfoDb#tokay2#buildbin: OK GenomicAlignments#tokay2#install: OK GenomicAlignments#tokay2#buildsrc: OK GenomicAlignments#tokay2#checksrc: WARNINGS GenomicAlignments#tokay2#buildbin: OK GenomicFeatures#tokay2#install: OK GenomicFeatures#tokay2#buildsrc: ERROR GenomicFeatures#tokay2#checksrc: skipped GenomicFeatures#tokay2#buildbin: skipped GenomicRanges#tokay2#install: OK GenomicRanges#tokay2#buildsrc: OK GenomicRanges#tokay2#checksrc: WARNINGS GenomicRanges#tokay2#buildbin: OK ggbio#tokay2#install: OK ggbio#tokay2#buildsrc: ERROR ggbio#tokay2#checksrc: skipped ggbio#tokay2#buildbin: skipped graph#tokay2#install: OK graph#tokay2#buildsrc: ERROR graph#tokay2#checksrc: skipped graph#tokay2#buildbin: skipped Gviz#tokay2#install: OK Gviz#tokay2#buildsrc: OK Gviz#tokay2#checksrc: OK Gviz#tokay2#buildbin: OK HDF5Array#tokay2#install: OK HDF5Array#tokay2#buildsrc: OK HDF5Array#tokay2#checksrc: WARNINGS HDF5Array#tokay2#buildbin: OK illuminaio#tokay2#install: OK illuminaio#tokay2#buildsrc: ERROR illuminaio#tokay2#checksrc: skipped illuminaio#tokay2#buildbin: skipped impute#tokay2#install: OK impute#tokay2#buildsrc: OK impute#tokay2#checksrc: OK impute#tokay2#buildbin: OK interactiveDisplayBase#tokay2#install: OK interactiveDisplayBase#tokay2#buildsrc: OK interactiveDisplayBase#tokay2#checksrc: WARNINGS interactiveDisplayBase#tokay2#buildbin: OK IRanges#tokay2#install: OK IRanges#tokay2#buildsrc: OK IRanges#tokay2#checksrc: WARNINGS IRanges#tokay2#buildbin: OK KEGGgraph#tokay2#install: OK KEGGgraph#tokay2#buildsrc: OK KEGGgraph#tokay2#checksrc: OK KEGGgraph#tokay2#buildbin: OK limma#tokay2#install: OK limma#tokay2#buildsrc: ERROR limma#tokay2#checksrc: skipped limma#tokay2#buildbin: skipped microRNA#tokay2#install: OK microRNA#tokay2#buildsrc: OK microRNA#tokay2#checksrc: OK microRNA#tokay2#buildbin: OK MSnbase#tokay2#install: OK MSnbase#tokay2#buildsrc: ERROR MSnbase#tokay2#checksrc: skipped MSnbase#tokay2#buildbin: skipped multtest#tokay2#install: OK multtest#tokay2#buildsrc: OK multtest#tokay2#checksrc: WARNINGS multtest#tokay2#buildbin: OK mzID#tokay2#install: OK mzID#tokay2#buildsrc: OK mzID#tokay2#checksrc: WARNINGS mzID#tokay2#buildbin: OK mzR#tokay2#install: OK mzR#tokay2#buildsrc: OK mzR#tokay2#checksrc: WARNINGS mzR#tokay2#buildbin: OK nem#tokay2#install: OK nem#tokay2#buildsrc: OK nem#tokay2#checksrc: ERROR nem#tokay2#buildbin: OK OrganismDbi#tokay2#install: OK OrganismDbi#tokay2#buildsrc: OK OrganismDbi#tokay2#checksrc: WARNINGS OrganismDbi#tokay2#buildbin: OK pcaMethods#tokay2#install: OK pcaMethods#tokay2#buildsrc: ERROR pcaMethods#tokay2#checksrc: skipped pcaMethods#tokay2#buildbin: skipped preprocessCore#tokay2#install: OK preprocessCore#tokay2#buildsrc: OK preprocessCore#tokay2#checksrc: OK preprocessCore#tokay2#buildbin: OK ProtGenerics#tokay2#install: OK ProtGenerics#tokay2#buildsrc: OK ProtGenerics#tokay2#checksrc: WARNINGS ProtGenerics#tokay2#buildbin: OK qvalue#tokay2#install: OK qvalue#tokay2#buildsrc: ERROR qvalue#tokay2#checksrc: skipped qvalue#tokay2#buildbin: skipped RBGL#tokay2#install: OK RBGL#tokay2#buildsrc: ERROR RBGL#tokay2#checksrc: skipped RBGL#tokay2#buildbin: skipped rBiopaxParser#tokay2#install: OK rBiopaxParser#tokay2#buildsrc: OK rBiopaxParser#tokay2#checksrc: OK rBiopaxParser#tokay2#buildbin: OK Rgraphviz#tokay2#install: OK Rgraphviz#tokay2#buildsrc: ERROR Rgraphviz#tokay2#checksrc: skipped Rgraphviz#tokay2#buildbin: skipped rhdf5#tokay2#install: OK rhdf5#tokay2#buildsrc: OK rhdf5#tokay2#checksrc: OK rhdf5#tokay2#buildbin: OK Rhdf5lib#tokay2#install: OK Rhdf5lib#tokay2#buildsrc: OK Rhdf5lib#tokay2#checksrc: OK Rhdf5lib#tokay2#buildbin: OK Rhtslib#tokay2#install: OK Rhtslib#tokay2#buildsrc: OK Rhtslib#tokay2#checksrc: WARNINGS Rhtslib#tokay2#buildbin: OK ROC#tokay2#install: OK ROC#tokay2#buildsrc: OK ROC#tokay2#checksrc: OK ROC#tokay2#buildbin: OK RProtoBufLib#tokay2#install: OK RProtoBufLib#tokay2#buildsrc: OK RProtoBufLib#tokay2#checksrc: OK RProtoBufLib#tokay2#buildbin: OK Rsamtools#tokay2#install: OK Rsamtools#tokay2#buildsrc: OK Rsamtools#tokay2#checksrc: WARNINGS Rsamtools#tokay2#buildbin: OK Rsubread#tokay2#install: OK Rsubread#tokay2#buildsrc: ERROR Rsubread#tokay2#checksrc: skipped Rsubread#tokay2#buildbin: skipped rtracklayer#tokay2#install: OK rtracklayer#tokay2#buildsrc: OK rtracklayer#tokay2#checksrc: WARNINGS rtracklayer#tokay2#buildbin: OK S4Vectors#tokay2#install: OK S4Vectors#tokay2#buildsrc: OK S4Vectors#tokay2#checksrc: WARNINGS S4Vectors#tokay2#buildbin: OK ShortRead#tokay2#install: OK ShortRead#tokay2#buildsrc: ERROR ShortRead#tokay2#checksrc: skipped ShortRead#tokay2#buildbin: skipped SingleCellExperiment#tokay2#install: OK SingleCellExperiment#tokay2#buildsrc: ERROR SingleCellExperiment#tokay2#checksrc: skipped SingleCellExperiment#tokay2#buildbin: skipped snpStats#tokay2#install: OK snpStats#tokay2#buildsrc: ERROR snpStats#tokay2#checksrc: skipped snpStats#tokay2#buildbin: skipped SPIA#tokay2#install: OK SPIA#tokay2#buildsrc: OK SPIA#tokay2#checksrc: OK SPIA#tokay2#buildbin: OK SummarizedExperiment#tokay2#install: OK SummarizedExperiment#tokay2#buildsrc: OK SummarizedExperiment#tokay2#checksrc: WARNINGS SummarizedExperiment#tokay2#buildbin: OK tkWidgets#tokay2#install: OK tkWidgets#tokay2#buildsrc: OK tkWidgets#tokay2#checksrc: OK tkWidgets#tokay2#buildbin: OK tximeta#tokay2#install: OK tximeta#tokay2#buildsrc: OK tximeta#tokay2#checksrc: OK tximeta#tokay2#buildbin: OK tximport#tokay2#install: OK tximport#tokay2#buildsrc: OK tximport#tokay2#checksrc: OK tximport#tokay2#buildbin: OK VariantAnnotation#tokay2#install: OK VariantAnnotation#tokay2#buildsrc: ERROR VariantAnnotation#tokay2#checksrc: skipped VariantAnnotation#tokay2#buildbin: skipped vsn#tokay2#install: OK vsn#tokay2#buildsrc: ERROR vsn#tokay2#checksrc: skipped vsn#tokay2#buildbin: skipped widgetTools#tokay2#install: OK widgetTools#tokay2#buildsrc: OK widgetTools#tokay2#checksrc: OK widgetTools#tokay2#buildbin: OK XVector#tokay2#install: OK XVector#tokay2#buildsrc: OK XVector#tokay2#checksrc: WARNINGS XVector#tokay2#buildbin: OK zlibbioc#tokay2#install: OK zlibbioc#tokay2#buildsrc: OK zlibbioc#tokay2#checksrc: OK zlibbioc#tokay2#buildbin: OK