Back to Multiple platform build/check report for BioC 3.11 (small subset of software packages ONLY) |
This page was generated on 2020-01-24 03:57:03 -0500 (Fri, 24 Jan 2020).
Package 32/41 | Hostname | OS / Arch | INSTALL | BUILD | CHECK | BUILD BIN | |||||
Rhdf5lib 1.9.0 Mike Smith
| malbec2 | Linux (Ubuntu 18.04.3 LTS) / x86_64 | OK | [ OK ] | OK | ||||||
tokay2 | Windows Server 2012 R2 Standard / x64 | OK | OK | OK | OK |
Package: Rhdf5lib |
Version: 1.9.0 |
Command: /home/biocbuild/bbs-3.11-bioc/R/bin/R CMD build --keep-empty-dirs --no-resave-data Rhdf5lib |
StartedAt: 2020-01-24 02:36:38 -0500 (Fri, 24 Jan 2020) |
EndedAt: 2020-01-24 02:42:05 -0500 (Fri, 24 Jan 2020) |
EllapsedTime: 327.0 seconds |
RetCode: 0 |
Status: OK |
PackageFile: Rhdf5lib_1.9.0.tar.gz |
PackageFileSize: 9.283 MiB |
############################################################################## ############################################################################## ### ### Running command: ### ### /home/biocbuild/bbs-3.11-bioc/R/bin/R CMD build --keep-empty-dirs --no-resave-data Rhdf5lib ### ############################################################################## ############################################################################## * checking for file ‘Rhdf5lib/DESCRIPTION’ ... OK * preparing ‘Rhdf5lib’: * checking DESCRIPTION meta-information ... OK * cleaning src * running ‘cleanup’ * installing the package to build vignettes * creating vignettes ... OK * cleaning src * running ‘cleanup’ * checking for LF line-endings in source and make files and shell scripts * checking for empty or unneeded directories * building ‘Rhdf5lib_1.9.0.tar.gz’