Back to "Blame Jeroen" build/check report for BioC 3.11

"Blame Jeroen" build/check report for BioC 3.11

Results for ExperimentHub

This page was generated on 2020-04-15 03:20:08 -0400 (Wed, 15 Apr 2020).

These builds are using Rtools40 and R-testing by Jeroen Ooms (available at https://cran.r-project.org/bin/windows/testing/rtools40.html)
Package 34/89HostnameOS / ArchINSTALLBUILDCHECKBUILD BIN
ExperimentHub 1.13.5
Bioconductor Package Maintainer
Snapshot Date: 2020-04-14 17:00:05 -0400 (Tue, 14 Apr 2020)
URL: https://git.bioconductor.org/packages/ExperimentHub
Branch: master
Last Commit: ee0d702
Last Changed Date: 2019-12-27 12:44:47 -0400 (Fri, 27 Dec 2019)
tokay2 Windows Server 2012 R2 Standard / x64  OK  OK  OK  OK