Back to "Blame Jeroen" build/check report for BioC 3.11

"Blame Jeroen" build/check report for BioC 3.11

Results for BiocNeighbors

This page was generated on 2020-04-15 03:20:08 -0400 (Wed, 15 Apr 2020).

These builds are using Rtools40 and R-testing by Jeroen Ooms (available at https://cran.r-project.org/bin/windows/testing/rtools40.html)
Package 16/89HostnameOS / ArchINSTALLBUILDCHECKBUILD BIN
BiocNeighbors 1.5.4
Aaron Lun
Snapshot Date: 2020-04-14 17:00:05 -0400 (Tue, 14 Apr 2020)
URL: https://git.bioconductor.org/packages/BiocNeighbors
Branch: master
Last Commit: ca0b6f4
Last Changed Date: 2020-04-13 13:45:17 -0400 (Mon, 13 Apr 2020)
tokay2 Windows Server 2012 R2 Standard / x64  OK  OK  OK  OK