Back to Long Tests report for BioC 3.11 |
This page was generated on 2020-10-10 17:30:04 -0400 (Sat, 10 Oct 2020).
TO THE DEVELOPERS/MAINTAINERS OF THE xcms PACKAGE: Please make sure to use the following settings in order to reproduce any error or warning you see on this page. |
Package 7/7 | Hostname | OS / Arch | CHECK | |||||
xcms 3.10.2 Steffen Neumann
| malbec2 | Linux (Ubuntu 18.04.4 LTS) / x86_64 | OK | |||||
tokay2 | Windows Server 2012 R2 Standard / x64 | OK | ||||||
machv2 | macOS 10.14.6 Mojave / x86_64 | OK |
Package: xcms |
Version: 3.10.2 |
Command: /Library/Frameworks/R.framework/Versions/Current/Resources/bin/R CMD build --keep-empty-dirs --no-resave-data --no-build-vignettes --no-manual xcms |
StartedAt: 2020-10-10 10:00:15 -0400 (Sat, 10 Oct 2020) |
EndedAt: 2020-10-10 10:00:23 -0400 (Sat, 10 Oct 2020) |
EllapsedTime: 7.7 seconds |
RetCode: 0 |
Status: OK |
PackageFile: xcms_3.10.2.tar.gz |
PackageFileSize: 657.7 KiB |
############################################################################## ############################################################################## ### ### Running command: ### ### /Library/Frameworks/R.framework/Versions/Current/Resources/bin/R CMD build --keep-empty-dirs --no-resave-data --no-build-vignettes --no-manual xcms ### ############################################################################## ############################################################################## * checking for file ‘xcms/DESCRIPTION’ ... OK * preparing ‘xcms’: * checking DESCRIPTION meta-information ... OK * cleaning src * checking for LF line-endings in source and make files and shell scripts * checking for empty or unneeded directories * building ‘xcms_3.10.2.tar.gz’