Back to Long Tests report for BioC 3.11 |
This page was generated on 2020-10-10 17:30:03 -0400 (Sat, 10 Oct 2020).
TO THE DEVELOPERS/MAINTAINERS OF THE rhdf5 PACKAGE: Please make sure to use the following settings in order to reproduce any error or warning you see on this page. |
Package 6/7 | Hostname | OS / Arch | CHECK | |||||
rhdf5 2.32.4 Mike Smith
| malbec2 | Linux (Ubuntu 18.04.4 LTS) / x86_64 | OK | |||||
tokay2 | Windows Server 2012 R2 Standard / x64 | OK | ||||||
machv2 | macOS 10.14.6 Mojave / x86_64 | OK |
Package: rhdf5 |
Version: 2.32.4 |
Command: /home/biocbuild/bbs-3.11-bioc/R/bin/R CMD build --keep-empty-dirs --no-resave-data --no-build-vignettes --no-manual rhdf5 |
StartedAt: 2020-10-10 10:00:06 -0400 (Sat, 10 Oct 2020) |
EndedAt: 2020-10-10 10:00:07 -0400 (Sat, 10 Oct 2020) |
EllapsedTime: 1.0 seconds |
RetCode: 0 |
Status: OK |
PackageFile: rhdf5_2.32.4.tar.gz |
PackageFileSize: 210.5 KiB |
############################################################################## ############################################################################## ### ### Running command: ### ### /home/biocbuild/bbs-3.11-bioc/R/bin/R CMD build --keep-empty-dirs --no-resave-data --no-build-vignettes --no-manual rhdf5 ### ############################################################################## ############################################################################## * checking for file ‘rhdf5/DESCRIPTION’ ... OK * preparing ‘rhdf5’: * checking DESCRIPTION meta-information ... OK * cleaning src * checking for LF line-endings in source and make files and shell scripts * checking for empty or unneeded directories * building ‘rhdf5_2.32.4.tar.gz’