Back to Long Tests report for BioC 3.11 |
This page was generated on 2020-04-10 16:37:05 -0400 (Fri, 10 Apr 2020).
TO THE DEVELOPERS/MAINTAINERS OF THE BiocParallel PACKAGE: Please make sure to use the following settings in order to reproduce any error or warning you see on this page. |
Package 2/5 | Hostname | OS / Arch | CHECK | |||||
BiocParallel 1.21.2 Bioconductor Package Maintainer
| malbec2 | Linux (Ubuntu 18.04.4 LTS) / x86_64 | WARNINGS | |||||
tokay2 | Windows Server 2012 R2 Standard / x64 | WARNINGS | ||||||
machv2 | macOS 10.14.6 Mojave / x86_64 | WARNINGS |
Package: BiocParallel |
Version: 1.21.2 |
Command: chmod a+r BiocParallel -R && C:\Users\biocbuild\bbs-3.11-bioc\R\bin\R.exe CMD build --keep-empty-dirs --no-resave-data --no-build-vignettes --no-manual BiocParallel |
StartedAt: 2020-04-04 11:00:36 -0400 (Sat, 04 Apr 2020) |
EndedAt: 2020-04-04 11:01:56 -0400 (Sat, 04 Apr 2020) |
EllapsedTime: 79.7 seconds |
RetCode: 0 |
Status: OK |
PackageFile: BiocParallel_1.21.2.tar.gz |
PackageFileSize: 110.8 KiB |
############################################################################## ############################################################################## ### ### Running command: ### ### chmod a+r BiocParallel -R && C:\Users\biocbuild\bbs-3.11-bioc\R\bin\R.exe CMD build --keep-empty-dirs --no-resave-data --no-build-vignettes --no-manual BiocParallel ### ############################################################################## ############################################################################## * checking for file 'BiocParallel/DESCRIPTION' ... OK * preparing 'BiocParallel': * checking DESCRIPTION meta-information ... OK * cleaning src * installing the package to process help pages * cleaning src * checking for LF line-endings in source and make files and shell scripts * checking for empty or unneeded directories * building 'BiocParallel_1.21.2.tar.gz' Warning: file 'BiocParallel/cleanup' did not have execute permissions: corrected Warning: file 'BiocParallel/configure' did not have execute permissions: corrected