Back to Long Tests report for BioC 3.11

BUILD report for BiocParallel on celaya2

This page was generated on 2020-01-11 19:30:02 -0500 (Sat, 11 Jan 2020).

Package 2/4HostnameOS / ArchCHECK
BiocParallel 1.21.2
Bioconductor Package Maintainer
Snapshot Date: 2020-01-11 10:00:04 -0500 (Sat, 11 Jan 2020)
URL: https://git.bioconductor.org/packages/BiocParallel
Branch: master
Last Commit: 15dc9f6
Last Changed Date: 2019-12-25 18:38:52 -0500 (Wed, 25 Dec 2019)
malbec2 Linux (Ubuntu 18.04.3 LTS) / x86_64  WARNINGS 
tokay2 Windows Server 2012 R2 Standard / x64  WARNINGS 
celaya2 OS X 10.11.6 El Capitan / x86_64  WARNINGS 

Summary

Package: BiocParallel
Version: 1.21.2
Command: /Library/Frameworks/R.framework/Versions/Current/Resources/bin/R CMD build --keep-empty-dirs --no-resave-data --no-build-vignettes --no-manual BiocParallel
StartedAt: 2020-01-11 11:00:16 -0500 (Sat, 11 Jan 2020)
EndedAt: 2020-01-11 11:00:38 -0500 (Sat, 11 Jan 2020)
EllapsedTime: 21.9 seconds
RetCode: 0
Status:  OK 
PackageFile: BiocParallel_1.21.2.tar.gz
PackageFileSize: 110.8 KiB

Command output

##############################################################################
##############################################################################
###
### Running command:
###
###   /Library/Frameworks/R.framework/Versions/Current/Resources/bin/R CMD build --keep-empty-dirs --no-resave-data --no-build-vignettes --no-manual BiocParallel
###
##############################################################################
##############################################################################


* checking for file ‘BiocParallel/DESCRIPTION’ ... OK
* preparing ‘BiocParallel’:
* checking DESCRIPTION meta-information ... OK
* cleaning src
* running ‘cleanup’
* installing the package to process help pages
* cleaning src
* running ‘cleanup’
* checking for LF line-endings in source and make files and shell scripts
* checking for empty or unneeded directories
* building ‘BiocParallel_1.21.2.tar.gz’