Back to Long Tests report for BioC 3.11

Long Tests report for BioC 3.11

Results for HDF5Array

This page was generated on 2020-10-10 17:30:03 -0400 (Sat, 10 Oct 2020).

Package 5/7HostnameOS / ArchCHECK
HDF5Array 1.16.1
Hervé Pagès
Snapshot Date: 2020-10-10 09:00:02 -0400 (Sat, 10 Oct 2020)
URL: https://git.bioconductor.org/packages/HDF5Array
Branch: RELEASE_3_11
Last Commit: 0b5a293
Last Changed Date: 2020-06-16 04:42:27 -0400 (Tue, 16 Jun 2020)
malbec2 Linux (Ubuntu 18.04.4 LTS) / x86_64  OK 
tokay2 Windows Server 2012 R2 Standard / x64  WARNINGS 
machv2 macOS 10.14.6 Mojave / x86_64  OK