| Back to Long Tests report for BioC 3.11 |
This page was generated on 2020-01-11 19:30:02 -0500 (Sat, 11 Jan 2020).
| Package 3/4 | Hostname | OS / Arch | CHECK | |||||
| GenomicFeatures 1.39.2 Bioconductor Package Maintainer
| malbec2 | Linux (Ubuntu 18.04.3 LTS) / x86_64 | WARNINGS | |||||
| tokay2 | Windows Server 2012 R2 Standard / x64 | WARNINGS | ||||||
| celaya2 | OS X 10.11.6 El Capitan / x86_64 | WARNINGS |
| Package: GenomicFeatures |
| Version: 1.39.2 |
| Command: /Library/Frameworks/R.framework/Versions/Current/Resources/bin/R CMD build --keep-empty-dirs --no-resave-data --no-build-vignettes --no-manual GenomicFeatures |
| StartedAt: 2020-01-11 11:00:16 -0500 (Sat, 11 Jan 2020) |
| EndedAt: 2020-01-11 11:00:21 -0500 (Sat, 11 Jan 2020) |
| EllapsedTime: 4.5 seconds |
| RetCode: 0 |
| Status: OK |
| PackageFile: GenomicFeatures_1.39.2.tar.gz |
| PackageFileSize: 1.1 MiB |
############################################################################## ############################################################################## ### ### Running command: ### ### /Library/Frameworks/R.framework/Versions/Current/Resources/bin/R CMD build --keep-empty-dirs --no-resave-data --no-build-vignettes --no-manual GenomicFeatures ### ############################################################################## ############################################################################## * checking for file ‘GenomicFeatures/DESCRIPTION’ ... OK * preparing ‘GenomicFeatures’: * checking DESCRIPTION meta-information ... OK * checking for LF line-endings in source and make files and shell scripts * checking for empty or unneeded directories * building ‘GenomicFeatures_1.39.2.tar.gz’