This page was generated on 2020-10-17 11:54:18 -0400 (Sat, 17 Oct 2020).
sparseMatrixStats 1.0.5 Constantin Ahlmann-Eltze
| Snapshot Date: 2020-10-16 14:40:19 -0400 (Fri, 16 Oct 2020) |
| URL: https://git.bioconductor.org/packages/sparseMatrixStats |
| Branch: RELEASE_3_11 |
| Last Commit: 0eaf6f7 |
| Last Changed Date: 2020-05-24 07:16:39 -0400 (Sun, 24 May 2020) |
| malbec2 | Linux (Ubuntu 18.04.4 LTS) / x86_64 | OK | OK | OK | |  |
| tokay2 | Windows Server 2012 R2 Standard / x64 | OK | OK | OK | NA | |
| machv2 | macOS 10.14.6 Mojave / x86_64 | OK | OK | OK | OK |  |