This page was generated on 2020-10-17 11:54:08 -0400 (Sat, 17 Oct 2020).
AnnotationForge 1.30.1 Bioconductor Package Maintainer
Snapshot Date: 2020-10-16 14:40:19 -0400 (Fri, 16 Oct 2020) |
URL: https://git.bioconductor.org/packages/AnnotationForge |
Branch: RELEASE_3_11 |
Last Commit: 3f93a43 |
Last Changed Date: 2020-04-30 10:29:20 -0400 (Thu, 30 Apr 2020) |
| malbec2 | Linux (Ubuntu 18.04.4 LTS) / x86_64 | OK | OK | OK | | |
tokay2 | Windows Server 2012 R2 Standard / x64 | OK | OK | OK | OK | |
machv2 | macOS 10.14.6 Mojave / x86_64 | OK | OK | OK | OK | |