| Back to Multiple platform build/check report for BioC 3.11 |
|
This page was generated on 2020-10-17 11:56:43 -0400 (Sat, 17 Oct 2020).
| TO THE DEVELOPERS/MAINTAINERS OF THE globaltest PACKAGE: Please make sure to use the following settings in order to reproduce any error or warning you see on this page. |
| Package 743/1905 | Hostname | OS / Arch | INSTALL | BUILD | CHECK | BUILD BIN | ||||||
| globaltest 5.42.0 Jelle Goeman
| malbec2 | Linux (Ubuntu 18.04.4 LTS) / x86_64 | OK | OK | OK | |||||||
| tokay2 | Windows Server 2012 R2 Standard / x64 | OK | OK | OK | [ OK ] | |||||||
| machv2 | macOS 10.14.6 Mojave / x86_64 | OK | OK | OK | OK |
| Package: globaltest |
| Version: 5.42.0 |
| Command: rm -rf globaltest.buildbin-libdir && mkdir globaltest.buildbin-libdir && C:\Users\biocbuild\bbs-3.11-bioc\R\bin\R.exe CMD INSTALL --merge-multiarch --build --library=globaltest.buildbin-libdir globaltest_5.42.0.tar.gz |
| StartedAt: 2020-10-17 10:40:18 -0400 (Sat, 17 Oct 2020) |
| EndedAt: 2020-10-17 10:40:58 -0400 (Sat, 17 Oct 2020) |
| EllapsedTime: 40.0 seconds |
| RetCode: 0 |
| Status: OK |
| PackageFile: globaltest_5.42.0.zip |
| PackageFileSize: 1.122 MiB |
##############################################################################
##############################################################################
###
### Running command:
###
### rm -rf globaltest.buildbin-libdir && mkdir globaltest.buildbin-libdir && C:\Users\biocbuild\bbs-3.11-bioc\R\bin\R.exe CMD INSTALL --merge-multiarch --build --library=globaltest.buildbin-libdir globaltest_5.42.0.tar.gz
###
##############################################################################
##############################################################################
install for i386
* installing *source* package 'globaltest' ...
** using staged installation
** R
** inst
** byte-compile and prepare package for lazy loading
** help
*** installing help indices
converting help for package 'globaltest'
finding HTML links ... done
comparative html
diagnostics html
genesettesting html
goodnessoffit html
gt html
gt.object-class html
gtoptions html
mlogit html
multtest html
** building package indices
** installing vignettes
** testing if installed package can be loaded from temporary location
** testing if installed package can be loaded from final location
** testing if installed package keeps a record of temporary installation path
install for x64
* installing *source* package 'globaltest' ...
** testing if installed package can be loaded
* MD5 sums
packaged installation of 'globaltest' as globaltest_5.42.0.zip
* DONE (globaltest)