This page was generated on 2020-10-17 11:54:09 -0400 (Sat, 17 Oct 2020).
CTDquerier 1.8.0 Carles Hernandez-Ferrer
 
| Snapshot Date: 2020-10-16 14:40:19 -0400 (Fri, 16 Oct 2020) |  
| URL: https://git.bioconductor.org/packages/CTDquerier |  
| Branch: RELEASE_3_11 |  
| Last Commit: e261e3e |  
| Last Changed Date: 2020-04-27 15:13:14 -0400 (Mon, 27 Apr 2020) |  
 
 | malbec2  | Linux (Ubuntu 18.04.4 LTS) / x86_64  |  OK  |  OK  |  ERROR  |  |  | 
| tokay2  | Windows Server 2012 R2 Standard / x64  |  OK  |  ERROR  |  skipped  |  skipped  |  | 
| machv2  | macOS 10.14.6 Mojave / x86_64  |  OK  |  OK  |  ERROR  |  OK  |  |