| Back to Long Tests report for BioC 3.10 |
This page was generated on 2020-04-11 19:30:02 -0400 (Sat, 11 Apr 2020).
| Package 2/4 | Hostname | OS / Arch | CHECK | |||||
| BiocParallel 1.20.1 Bioconductor Package Maintainer
| malbec1 | Linux (Ubuntu 18.04.4 LTS) / x86_64 | WARNINGS |
| Package: BiocParallel |
| Version: 1.20.1 |
| Command: /home/biocbuild/bbs-3.10-bioc/R/bin/R CMD build --keep-empty-dirs --no-resave-data --no-build-vignettes --no-manual BiocParallel |
| StartedAt: 2020-04-11 11:00:05 -0400 (Sat, 11 Apr 2020) |
| EndedAt: 2020-04-11 11:00:16 -0400 (Sat, 11 Apr 2020) |
| EllapsedTime: 10.4 seconds |
| RetCode: 0 |
| Status: OK |
| PackageFile: BiocParallel_1.20.1.tar.gz |
| PackageFileSize: 110.4 KiB |
############################################################################## ############################################################################## ### ### Running command: ### ### /home/biocbuild/bbs-3.10-bioc/R/bin/R CMD build --keep-empty-dirs --no-resave-data --no-build-vignettes --no-manual BiocParallel ### ############################################################################## ############################################################################## * checking for file ‘BiocParallel/DESCRIPTION’ ... OK * preparing ‘BiocParallel’: * checking DESCRIPTION meta-information ... OK * cleaning src * running ‘cleanup’ * installing the package to process help pages * cleaning src * running ‘cleanup’ * checking for LF line-endings in source and make files and shell scripts * checking for empty or unneeded directories * building ‘BiocParallel_1.20.1.tar.gz’