| Back to Multiple platform build/check report for BioC 3.10 |
| Hostname: | tokay1 |
| OS: | Windows Server 2012 R2 Standard |
| Arch: | x64 |
| Platform: | mingw32 / x86_64-w64-mingw32 |
| R version: | 3.6.3 (2020-02-29) -- "Holding the Windsock" |
| R environment variables: | none |
| R variable (VAR) | Value ('R CMD config <VAR>' output) |
| CC | C:/Rtools/mingw_64/bin/gcc |
| CFLAGS | -O2 -Wall -std=gnu99 -mtune=core2 |
| CPICFLAGS | |
| CPP | 'config' variable 'CPP' is deprecated |
| Please refer to 'R CMD config -h' for the meaning of these variables | |
Compiler version ('C:/Rtools/mingw_64/bin/gcc --version' output):
gcc (x86_64-posix-seh, Built by MinGW-W64 project) 4.9.3 Copyright (C) 2015 Free Software Foundation, Inc. This is free software; see the source for copying conditions. There is NO warranty; not even for MERCHANTABILITY or FITNESS FOR A PARTICULAR PURPOSE.
| R variable (VAR) | Value ('R CMD config <VAR>' output) |
| CXX | C:/Rtools/mingw_64/bin/g++ -std=gnu++11 |
| CXXFLAGS | -O2 -Wall -mtune=core2 |
| CXXPICFLAGS | |
| CXXCPP | 'config' variable 'CXXCPP' is deprecated |
| Please refer to 'R CMD config -h' for the meaning of these variables | |
Compiler version ('C:/Rtools/mingw_64/bin/g++ -std=gnu++11 --version' output):
g++ (x86_64-posix-seh, Built by MinGW-W64 project) 4.9.3 Copyright (C) 2015 Free Software Foundation, Inc. This is free software; see the source for copying conditions. There is NO warranty; not even for MERCHANTABILITY or FITNESS FOR A PARTICULAR PURPOSE.
| R variable (VAR) | Value ('R CMD config <VAR>' output) |
| CXX11 | C:/Rtools/mingw_64/bin/g++ |
| CXX11FLAGS | -O2 -Wall -mtune=core2 |
| CXX11PICFLAGS | |
| CXX11STD | -std=gnu++11 |
| Please refer to 'R CMD config -h' for the meaning of these variables | |
Compiler version ('C:/Rtools/mingw_64/bin/g++ --version' output):
g++ (x86_64-posix-seh, Built by MinGW-W64 project) 4.9.3 Copyright (C) 2015 Free Software Foundation, Inc. This is free software; see the source for copying conditions. There is NO warranty; not even for MERCHANTABILITY or FITNESS FOR A PARTICULAR PURPOSE.
| R variable (VAR) | Value ('R CMD config <VAR>' output) |
| CXX14 | |
| CXX14FLAGS | |
| CXX14PICFLAGS | |
| CXX14STD | |
| Please refer to 'R CMD config -h' for the meaning of these variables | |
More information might be added in the future...