| Back to Multiple platform build/check report for BioC 3.10 | 
 | 
This page was generated on 2020-04-15 12:28:47 -0400 (Wed, 15 Apr 2020).
| Package 671/1823 | Hostname | OS / Arch | INSTALL | BUILD | CHECK | BUILD BIN | ||||||
| GENIE3 1.8.0 Van Anh Huynh-Thu 
 | malbec1 | Linux (Ubuntu 18.04.4 LTS) / x86_64 | OK | OK | OK |  | ||||||
| tokay1 | Windows Server 2012 R2 Standard / x64 | OK | [ OK ] | OK | OK |  | ||||||
| merida1 | OS X 10.11.6 El Capitan / x86_64 | OK | OK | OK | OK |  | 
| Package: GENIE3 | 
| Version: 1.8.0 | 
| Command: chmod a+r GENIE3 -R && C:\Users\biocbuild\bbs-3.10-bioc\R\bin\R.exe CMD build --keep-empty-dirs --no-resave-data GENIE3 | 
| StartedAt: 2020-04-14 23:45:22 -0400 (Tue, 14 Apr 2020) | 
| EndedAt: 2020-04-14 23:45:38 -0400 (Tue, 14 Apr 2020) | 
| EllapsedTime: 16.2 seconds | 
| RetCode: 0 | 
| Status: OK | 
| PackageFile: GENIE3_1.8.0.tar.gz | 
| PackageFileSize: 241.5 KiB | 
############################################################################## ############################################################################## ### ### Running command: ### ### chmod a+r GENIE3 -R && C:\Users\biocbuild\bbs-3.10-bioc\R\bin\R.exe CMD build --keep-empty-dirs --no-resave-data GENIE3 ### ############################################################################## ############################################################################## * checking for file 'GENIE3/DESCRIPTION' ... OK * preparing 'GENIE3': * checking DESCRIPTION meta-information ... OK * cleaning src * installing the package to build vignettes * creating vignettes ... OK * cleaning src * checking for LF line-endings in source and make files and shell scripts * checking for empty or unneeded directories * building 'GENIE3_1.8.0.tar.gz'