geNetClassifier 1.8.2 Sara Aibar
| Snapshot Date: 2015-10-08 17:20:21 -0700 (Thu, 08 Oct 2015) | | URL: https://hedgehog.fhcrc.org/bioconductor/branches/RELEASE_3_1/madman/Rpacks/geNetClassifier | | Last Changed Rev: 107483 / Revision: 109384 | | Last Changed Date: 2015-08-16 04:37:40 -0700 (Sun, 16 Aug 2015) |
| zin2 | Linux (Ubuntu 14.04.2 LTS) / x86_64 | OK | OK | OK | |  |
| moscato2 | Windows Server 2008 R2 Enterprise SP1 (64-bit) / x64 | OK | OK | OK | OK |  |
| petty | Mac OS X Snow Leopard (10.6.8) / x86_64 | OK | OK | OK | OK |  |
| morelia | Mac OS X Mavericks (10.9.5) / x86_64 | OK | OK | OK | OK |  |