All our mirrors of open source software are available via http, https, ftp and an onion service. More information about our mirrors including statistics and contact information is available on our mirror info pages.
For information about dotsrc.org and our other services please go to our website.
| File Name ↓ | File Size ↓ | Date ↓ |
|---|---|---|
| Parent directory/ | - | - |
| ABSSeq/ | - | 2015-10-09 16:41:44 |
| ABarray/ | - | 2015-10-09 16:38:20 |
| ACME/ | - | 2015-10-09 16:38:31 |
| ADaCGH2/ | - | 2015-10-09 16:39:31 |
| AGDEX/ | - | 2015-10-09 16:40:00 |
| AIMS/ | - | 2015-10-09 16:42:29 |
| ALDEx2/ | - | 2015-10-09 16:42:16 |
| ARRmNormalization/ | - | 2015-10-09 16:40:48 |
| ASEB/ | - | 2015-10-09 16:40:08 |
| ASGSCA/ | - | 2015-10-09 16:42:19 |
| ASSET/ | - | 2015-10-09 16:41:11 |
| ASSIGN/ | - | 2015-10-09 16:41:44 |
| AffyCompatible/ | - | 2015-10-09 16:38:48 |
| AffyExpress/ | - | 2015-10-09 16:38:35 |
| AffyRNADegradation/ | - | 2015-10-09 16:40:08 |
| AffyTiling/ | - | 2015-10-09 16:38:58 |
| AgiMicroRna/ | - | 2015-10-09 16:39:10 |
| AllelicImbalance/ | - | 2015-10-09 16:41:17 |
| AnalysisPageServer/ | - | 2015-10-09 16:42:33 |
| AnnotationDbi/ | - | 2015-10-09 16:38:26 |
| AnnotationForge/ | - | 2015-10-09 16:40:22 |
| AnnotationFuncs/ | - | 2015-10-09 16:39:41 |
| AnnotationHub/ | - | 2015-10-09 16:40:52 |
| ArrayExpress/ | - | 2015-10-09 16:38:55 |
| ArrayExpressHTS/ | - | 2015-10-09 16:39:45 |
| ArrayTV/ | - | 2015-10-09 16:41:14 |
| ArrayTools/ | - | 2015-10-09 16:38:54 |
| AtlasRDF/ | - | 2015-10-09 16:41:27 |
| BAC/ | - | 2015-10-09 16:38:42 |
| BADER/ | - | 2015-10-09 16:41:13 |
| BAGS/ | - | 2015-10-09 16:40:10 |
| BCRANK/ | - | 2015-10-09 16:38:43 |
| BEAT/ | - | 2015-10-09 16:41:28 |
| BEclear/ | - | 2015-10-09 16:43:02 |
| BGmix/ | - | 2015-10-09 16:38:40 |
| BHC/ | - | 2015-10-09 16:39:23 |
| BRAIN/ | - | 2015-10-09 16:40:13 |
| BSgenome/ | - | 2015-10-09 16:38:19 |
| BUS/ | - | 2015-10-09 16:39:07 |
| BaseSpaceR/ | - | 2015-10-09 16:40:51 |
| Basic4Cseq/ | - | 2015-10-09 16:41:39 |
| BayesPeak/ | - | 2015-10-09 16:39:20 |
| BeadDataPackR/ | - | 2015-10-09 16:39:18 |
| BiGGR/ | - | 2015-10-09 16:41:13 |
| BiRewire/ | - | 2015-10-09 16:41:14 |
| BiSeq/ | - | 2015-10-09 16:40:56 |
| BicARE/ | - | 2015-10-09 16:38:57 |
| BioMVCClass/ | - | 2015-10-09 16:38:21 |
| BioNet/ | - | 2015-10-09 16:39:25 |
| BioSeqClass/ | - | 2015-10-09 16:39:12 |
| Biobase/ | - | 2015-10-09 16:37:40 |
| BiocCaseStudies/ | - | 2015-10-09 16:38:40 |
| BiocCheck/ | - | 2015-10-09 16:41:45 |
| BiocGenerics/ | - | 2015-10-09 16:40:07 |
| BiocInstaller/ | - | 2015-10-09 16:39:45 |
| BiocParallel/ | - | 2015-10-09 16:40:37 |
| BiocStyle/ | - | 2015-10-09 16:41:04 |
| Biostrings/ | - | 2015-10-09 16:37:51 |
| BitSeq/ | - | 2015-10-09 16:40:17 |
| BrainStars/ | - | 2015-10-09 16:40:14 |
| BridgeDbR/ | - | 2015-10-09 16:42:25 |
| BrowserViz/ | - | 2015-10-09 16:42:43 |
| BrowserVizDemo/ | - | 2015-10-09 16:42:53 |
| BubbleTree/ | - | 2015-10-09 16:42:40 |
| BufferedMatrix/ | - | 2015-10-09 16:38:27 |
| BufferedMatrixMethods/ | - | 2015-10-09 16:38:27 |
| CAFE/ | - | 2015-10-09 16:41:39 |
| CAGEr/ | - | 2015-10-09 16:40:46 |
| CALIB/ | - | 2015-10-09 16:38:30 |
| CAMERA/ | - | 2015-10-09 16:39:01 |
| CAnD/ | - | 2015-10-09 16:42:57 |
| CFAssay/ | - | 2015-10-09 16:42:26 |
| CGEN/ | - | 2015-10-09 16:39:25 |
| CGHbase/ | - | 2015-10-09 16:38:49 |
| CGHcall/ | - | 2015-10-09 16:38:35 |
| CGHnormaliter/ | - | 2015-10-09 16:39:10 |
| CGHregions/ | - | 2015-10-09 16:38:49 |
| CMA/ | - | 2015-10-09 16:38:49 |
| CNAnorm/ | - | 2015-10-09 16:40:00 |
| CNEr/ | - | 2015-10-09 16:41:36 |
| CNORdt/ | - | 2015-10-09 16:40:32 |
| CNORfeeder/ | - | 2015-10-09 16:40:51 |
| CNORfuzzy/ | - | 2015-10-09 16:40:28 |
| CNORode/ | - | 2015-10-09 16:40:32 |
| CNTools/ | - | 2015-10-09 16:39:05 |
| CNVrd2/ | - | 2015-10-09 16:41:24 |
| CNVtools/ | - | 2015-10-09 16:39:12 |
| CODEX/ | - | 2015-10-09 16:42:33 |
| COHCAP/ | - | 2015-10-09 16:41:27 |
| COMPASS/ | - | 2015-10-09 16:41:36 |
| COPDSexualDimorphism/ | - | 2015-04-15 17:23:21 |
| CORREP/ | - | 2015-10-09 16:38:32 |
| COSNet/ | - | 2015-10-09 16:42:27 |
| CRISPRseek/ | - | 2015-10-09 16:41:25 |
| CRImage/ | - | 2015-10-09 16:39:30 |
| CSAR/ | - | 2015-10-09 16:39:13 |
| CSSP/ | - | 2015-10-09 16:41:06 |
| CancerMutationAnalysis/ | - | 2015-10-09 16:40:17 |
| Cardinal/ | - | 2015-10-09 16:42:38 |
| Category/ | - | 2015-10-09 16:38:06 |
| CellNOptR/ | - | 2015-10-09 16:40:05 |
| CexoR/ | - | 2015-10-09 16:41:17 |
| ChAMP/ | - | 2015-10-09 16:41:22 |
| ChIPQC/ | - | 2015-10-09 16:41:44 |
| ChIPXpress/ | - | 2015-10-09 16:40:27 |
| ChIPpeakAnno/ | - | 2015-10-09 16:39:08 |
| ChIPseeker/ | - | 2015-10-09 16:41:50 |
| ChIPseqR/ | - | 2015-10-09 16:39:11 |
| ChIPsim/ | - | 2015-10-09 16:39:09 |
| ChemmineOB/ | - | 2015-10-09 16:41:12 |
| ChemmineR/ | - | 2015-10-09 16:38:55 |
| ChromHeatMap/ | - | 2015-10-09 16:39:11 |
| ClassifyR/ | - | 2015-10-09 16:42:04 |
| Clomial/ | - | 2015-10-09 16:41:38 |
| Clonality/ | - | 2015-10-09 16:39:35 |
| CoCiteStats/ | - | 2015-10-09 16:38:01 |
| CoGAPS/ | - | 2015-10-09 16:39:25 |
| CoRegNet/ | - | 2015-10-09 16:42:23 |
| CompGO/ | - | 2015-10-09 16:41:44 |
| ComplexHeatmap/ | - | 2015-10-09 16:42:50 |
| ConsensusClusterPlus/ | - | 2015-10-09 16:39:14 |
| CopyNumber450k/ | - | 2015-10-09 16:41:36 |
| CopywriteR/ | - | 2015-10-09 16:42:53 |
| CorMut/ | - | 2015-10-09 16:40:24 |
| Cormotif/ | - | 2015-10-09 16:39:51 |
| CoverageView/ | - | 2015-10-09 16:41:46 |
| DART/ | - | 2015-10-09 16:40:10 |
| DASiR/ | - | 2015-10-09 16:40:53 |
| DAVIDQuery/ | - | 2015-10-09 16:39:00 |
| DBChIP/ | - | 2015-10-09 16:40:24 |
| DECIPHER/ | - | 2015-10-09 16:40:01 |
| DEDS/ | - | 2015-10-09 16:37:59 |
| DEGraph/ | - | 2015-10-09 16:39:32 |
| DEGreport/ | - | 2015-10-09 16:41:55 |
| DEGseq/ | - | 2015-10-09 16:39:12 |
| DESeq/ | - | 2015-10-09 16:39:13 |
| DESeq2/ | - | 2015-10-09 16:40:47 |
| DEXSeq/ | - | 2015-10-09 16:39:48 |
| DFP/ | - | 2015-10-09 16:38:52 |
| DMRcaller/ | - | 2015-10-09 16:42:51 |
| DMRcate/ | - | 2015-10-09 16:41:38 |
| DMRforPairs/ | - | 2015-10-09 16:41:47 |
| DNAcopy/ | - | 2015-10-09 16:37:55 |
| DNaseR/ | - | 2015-03-01 17:12:36 |
| DOQTL/ | - | 2015-10-09 16:41:57 |
| DOSE/ | - | 2015-10-09 16:39:48 |
| DSS/ | - | 2015-10-09 16:40:22 |
| DTA/ | - | 2015-10-09 16:39:59 |
| DeMAND/ | - | 2015-04-03 17:24:22 |
| DeconRNASeq/ | - | 2015-10-09 16:40:31 |
| DiffBind/ | - | 2015-10-09 16:39:59 |
| DirichletMultinomial/ | - | 2015-10-09 16:40:19 |
| DriverNet/ | - | 2015-10-09 16:40:38 |
| DrugVsDisease/ | - | 2015-10-09 16:40:43 |
| DupChecker/ | - | 2015-10-09 16:41:53 |
| DynDoc/ | - | 2015-10-09 16:37:40 |
| EBImage/ | - | 2015-10-09 16:38:17 |
| EBSeq/ | - | 2015-10-09 16:40:59 |
| EBSeqHMM/ | - | 2015-10-09 16:42:27 |
| EBarrays/ | - | 2015-10-09 16:37:53 |
| EBcoexpress/ | - | 2015-10-09 16:40:18 |
| EDASeq/ | - | 2015-10-09 16:39:59 |
| EDDA/ | - | 2015-10-09 16:41:38 |
| ELBOW/ | - | 2015-10-09 16:41:33 |
| EMDomics/ | - | 2015-10-09 16:43:02 |
| ENCODExplorer/ | - | 2015-10-09 16:42:58 |
| ENVISIONQuery/ | - | 2015-10-09 16:39:41 |
| ENmix/ | - | 2015-10-09 16:42:56 |
| EasyqpcR/ | - | 2015-10-09 16:40:28 |
| EnrichmentBrowser/ | - | 2015-10-09 16:42:13 |
| ExiMiR/ | - | 2015-10-09 16:39:37 |
| ExpressionView/ | - | 2015-10-09 16:39:20 |
| FEM/ | - | 2015-10-09 16:42:18 |
| FGNet/ | - | 2015-10-09 16:41:22 |
| FISHalyseR/ | - | 2015-10-09 16:42:51 |
| FRGEpistasis/ | - | 2015-10-09 16:41:45 |
| FlowRepositoryR/ | - | 2015-10-09 16:42:57 |
| FlowSOM/ | - | 2015-10-09 16:42:32 |
| FourCSeq/ | - | 2015-10-09 16:42:09 |
| FunciSNP/ | - | 2015-10-09 16:40:22 |
| GENE.E/ | - | 2015-10-09 16:40:54 |
| GENESIS/ | - | 2015-10-09 16:42:47 |
| GEOmetadb/ | - | 2015-10-09 16:38:46 |
| GEOquery/ | - | 2015-10-09 16:38:13 |
| GEOsubmission/ | - | 2015-10-09 16:39:22 |
| GEWIST/ | - | 2015-10-09 16:40:08 |
| GGBase/ | - | 2015-10-09 16:38:48 |
| GGtools/ | - | 2015-10-09 16:38:22 |
| GLAD/ | - | 2015-10-09 16:37:58 |
| GOFunction/ | - | 2015-10-09 16:39:51 |
| GOSemSim/ | - | 2015-10-09 16:38:58 |
| GOSim/ | - | 2015-10-09 16:41:14 |
| GOTHiC/ | - | 2015-10-09 16:41:24 |
| GOexpress/ | - | 2015-10-09 16:42:13 |
| GOstats/ | - | 2015-10-09 16:37:55 |
| GOsummaries/ | - | 2015-10-09 16:42:11 |
| GRENITS/ | - | 2015-10-09 16:39:51 |
| GSAR/ | - | 2015-10-09 16:41:55 |
| GSCA/ | - | 2015-10-09 16:41:36 |
| GSEABase/ | - | 2015-10-09 16:38:34 |
| GSEAlm/ | - | 2015-10-09 16:38:44 |
| GSRI/ | - | 2015-10-09 16:39:22 |
| GSReg/ | - | 2015-10-09 16:42:00 |
| GSVA/ | - | 2015-10-09 16:39:45 |
| GWASTools/ | - | 2015-10-09 16:40:01 |
| GeneAnswers/ | - | 2015-10-09 16:39:11 |
| GeneExpressionSignature/ | - | 2015-10-09 16:39:57 |
| GeneGA/ | - | 2015-10-09 16:39:31 |
| GeneMeta/ | - | 2015-10-09 16:38:07 |
| GeneNetworkBuilder/ | - | 2015-10-09 16:40:27 |
| GeneOverlap/ | - | 2015-10-09 16:41:27 |
| GeneRegionScan/ | - | 2015-10-09 16:39:03 |
| GeneSelectMMD/ | - | 2015-10-09 16:39:01 |
| GeneSelector/ | - | 2015-10-09 16:38:46 |
| GeneticsDesign/ | - | 2015-10-09 16:38:28 |
| GeneticsPed/ | - | 2015-10-09 16:38:32 |
| GenoView/ | - | 2015-10-09 16:42:09 |
| GenomeGraphs/ | - | 2015-10-09 16:38:47 |
| GenomeInfoDb/ | - | 2015-10-09 16:41:34 |
| GenomicAlignments/ | - | 2015-10-09 16:41:24 |
| GenomicFeatures/ | - | 2015-10-09 16:39:10 |
| GenomicFiles/ | - | 2015-10-09 16:41:49 |
| GenomicInteractions/ | - | 2015-10-09 16:42:15 |
| GenomicRanges/ | - | 2015-10-09 16:39:17 |
| GenomicTuples/ | - | 2015-10-09 16:42:20 |
| Genominator/ | - | 2015-10-09 16:39:13 |
| GlobalAncova/ | - | 2015-10-09 16:38:11 |
| GoogleGenomics/ | - | 2015-10-09 16:42:54 |
| GraphAT/ | - | 2015-10-09 16:37:56 |
| GraphAlignment/ | - | 2015-10-09 16:38:42 |
| GraphPAC/ | - | 2015-10-09 16:40:39 |
| GreyListChIP/ | - | 2015-10-09 16:42:38 |
| Gviz/ | - | 2015-10-09 16:40:11 |
| HCsnip/ | - | 2015-10-09 16:40:49 |
| HDTD/ | - | 2015-10-09 16:41:52 |
| HELP/ | - | 2015-10-09 16:38:50 |
| HEM/ | - | 2015-10-09 16:37:56 |
| HIBAG/ | - | 2015-10-09 16:42:39 |
| HMMcopy/ | - | 2015-10-09 16:40:33 |
| HTSFilter/ | - | 2015-10-09 16:40:44 |
| HTSanalyzeR/ | - | 2015-10-09 16:39:25 |
| HTSeqGenie/ | - | 2015-10-09 16:25:11 |
| HTqPCR/ | - | 2015-10-09 16:39:11 |
| Harshlight/ | - | 2015-10-09 16:38:20 |
| Heatplus/ | - | 2015-10-09 16:38:17 |
| HiTC/ | - | 2015-10-09 16:40:18 |
| HilbertVis/ | - | 2015-10-09 16:38:57 |
| HilbertVisGUI/ | - | 2015-10-09 16:38:57 |
| HybridMTest/ | - | 2015-10-09 16:40:14 |
| IMPCdata/ | - | 2015-10-09 16:42:24 |
| INPower/ | - | 2015-10-09 16:41:39 |
| IPPD/ | - | 2015-10-09 16:39:33 |
| IRanges/ | - | 2015-10-09 16:37:51 |
| ITALICS/ | - | 2015-10-09 16:38:52 |
| IVAS/ | - | 2015-10-09 16:42:38 |
| Icens/ | - | 2015-10-09 16:37:52 |
| IdMappingAnalysis/ | - | 2015-10-09 16:40:14 |
| IdMappingRetrieval/ | - | 2015-10-09 16:39:51 |
| IdeoViz/ | - | 2015-10-09 16:42:18 |
| InPAS/ | - | 2015-10-09 16:42:47 |
| IsoGeneGUI/ | - | 2015-10-09 16:39:25 |
| KCsmart/ | - | 2015-10-09 16:38:55 |
| KEGGREST/ | - | 2015-10-09 16:40:43 |
| KEGGgraph/ | - | 2015-10-09 16:38:58 |
| KEGGprofile/ | - | 2015-10-09 16:40:23 |
| LBE/ | - | 2015-10-09 16:38:29 |
| LEA/ | - | 2015-10-09 16:42:45 |
| LMGene/ | - | 2015-10-09 16:38:08 |
| LPE/ | - | 2015-10-09 16:37:50 |
| LPEadj/ | - | 2015-10-09 16:38:49 |
| LVSmiRNA/ | - | 2015-10-09 16:39:29 |
| LiquidAssociation/ | - | 2015-10-09 16:39:12 |
| LowMACA/ | - | 2015-10-09 16:42:49 |
| M3D/ | - | 2015-10-09 16:42:04 |
| MAIT/ | - | 2015-10-09 16:42:21 |
| MANOR/ | - | 2015-10-09 16:38:12 |
| MBASED/ | - | 2015-10-09 16:42:07 |
| MBAmethyl/ | - | 2015-10-09 16:42:26 |
| MBCB/ | - | 2015-10-09 16:39:24 |
| MCRestimate/ | - | 2015-10-09 16:38:57 |
| MEDIPS/ | - | 2015-10-09 16:39:32 |
| MEDME/ | - | 2015-10-09 16:38:54 |
| MEIGOR/ | - | 2015-10-09 16:42:01 |
| MGFM/ | - | 2015-10-09 16:42:14 |
| MIMOSA/ | - | 2015-10-09 16:41:35 |
| MLInterfaces/ | - | 2015-10-09 16:37:57 |
| MLP/ | - | 2015-10-09 16:39:32 |
| MLSeq/ | - | 2015-10-09 16:41:40 |
| MMDiff/ | - | 2015-10-09 16:40:55 |
| MPFE/ | - | 2015-10-09 16:42:05 |
| MSGFgui/ | - | 2015-10-09 16:42:18 |
| MSGFplus/ | - | 2015-10-09 16:42:16 |
| MSnID/ | - | 2015-10-09 16:42:13 |
| MSnbase/ | - | 2015-10-09 16:39:40 |
| MSstats/ | - | 2015-10-09 16:41:19 |
| MVCClass/ | - | 2015-10-09 16:38:00 |
| MantelCorr/ | - | 2015-10-09 16:38:12 |
| MassArray/ | - | 2015-10-09 16:39:16 |
| MassSpecWavelet/ | - | 2015-10-09 16:38:31 |
| MatrixRider/ | - | 2015-10-09 16:42:45 |
| MeSHDbi/ | - | 2015-10-09 16:41:49 |
| MeSHSim/ | - | 2015-10-09 16:42:36 |
| MeasurementError.cor/ | - | 2015-10-09 16:37:48 |
| MergeMaid/ | - | 2015-10-09 16:37:56 |
| Metab/ | - | 2015-10-09 16:42:29 |
| MethTargetedNGS/ | - | 2015-10-09 16:42:55 |
| MethylAid/ | - | 2015-10-09 16:41:53 |
| MethylMix/ | - | 2015-10-09 16:42:08 |
| MethylSeekR/ | - | 2015-10-09 16:40:44 |
| Mfuzz/ | - | 2015-10-09 16:38:15 |
| MiChip/ | - | 2015-10-09 16:39:09 |
| MiPP/ | - | 2015-10-09 16:38:05 |
| MiRaGE/ | - | 2015-10-09 16:40:20 |
| MineICA/ | - | 2015-10-09 16:40:46 |
| MinimumDistance/ | - | 2015-10-09 16:40:18 |
| Mirsynergy/ | - | 2015-10-09 16:41:35 |
| MmPalateMiRNA/ | - | 2015-10-09 16:40:04 |
| MoPS/ | - | 2015-10-09 16:41:53 |
| MotIV/ | - | 2015-10-09 16:39:18 |
| MotifDb/ | - | 2015-10-09 16:40:27 |
| Mulcom/ | - | 2015-10-09 16:39:27 |
| MultiMed/ | - | 2015-10-09 16:42:01 |
| NCIgraph/ | - | 2015-10-09 16:39:44 |
| NGScopy/ | - | 2015-10-09 16:42:10 |
| NOISeq/ | - | 2015-10-09 16:40:34 |
| NTW/ | - | 2015-10-09 16:39:24 |
| NanoStringQCPro/ | - | 2015-10-09 16:42:54 |
| NarrowPeaks/ | - | 2015-10-09 16:40:12 |
| NetPathMiner/ | - | 2015-10-09 16:41:50 |
| NetSAM/ | - | 2015-10-09 16:41:02 |
| NormqPCR/ | - | 2015-10-09 16:39:53 |
| NuPoP/ | - | 2015-10-09 16:39:26 |
| OCplus/ | - | 2015-10-09 16:38:17 |
| OLIN/ | - | 2015-10-09 16:37:57 |
| OLINgui/ | - | 2015-10-09 16:37:59 |
| OSAT/ | - | 2015-10-09 16:40:23 |
| OTUbase/ | - | 2015-10-09 16:39:28 |
| OmicCircos/ | - | 2015-10-09 16:41:04 |
| OmicsMarkeR/ | - | 2015-10-09 16:42:52 |
| OncoSimulR/ | - | 2015-10-09 16:42:02 |
| OrderedList/ | - | 2015-10-09 16:38:18 |
| OrganismDbi/ | - | 2015-10-09 16:40:29 |
| OutlierD/ | - | 2015-10-09 16:38:37 |
| PAA/ | - | 2015-10-09 16:42:19 |
| PADOG/ | - | 2015-10-09 16:40:26 |
| PANR/ | - | 2015-10-09 16:39:58 |
| PAPi/ | - | 2015-10-09 16:40:54 |
| PAnnBuilder/ | - | 2015-10-09 16:39:01 |
| PCpheno/ | - | 2015-10-09 16:38:42 |
| PECA/ | - | 2015-10-09 16:41:25 |
| PGSEA/ | - | 2015-10-09 16:38:31 |
| PICS/ | - | 2015-10-09 16:39:21 |
| PING/ | - | 2015-10-09 16:40:13 |
| PLPE/ | - | 2015-10-09 16:38:53 |
| PREDA/ | - | 2015-10-09 16:39:55 |
| PROMISE/ | - | 2015-10-09 16:39:22 |
| PROPER/ | - | 2015-10-09 16:42:31 |
| PROcess/ | - | 2015-10-09 16:37:53 |
| PSEA/ | - | 2015-10-09 16:42:15 |
| PSICQUIC/ | - | 2015-10-09 16:41:24 |
| PWMEnrich/ | - | 2015-10-09 16:40:22 |
| PathNet/ | - | 2015-10-09 16:40:43 |
| Pbase/ | - | 2015-10-09 16:41:57 |
| PhenStat/ | - | 2015-10-09 16:41:26 |
| Polyfit/ | - | 2015-10-09 16:41:59 |
| ProCoNA/ | - | 2015-10-09 16:41:15 |
| ProtGenerics/ | - | 2015-10-09 16:42:40 |
| Pviz/ | - | 2015-10-09 16:42:00 |
| QDNAseq/ | - | 2015-10-09 16:41:41 |
| QUALIFIER/ | - | 2015-10-09 16:40:13 |
| QuartPAC/ | - | 2015-10-09 16:42:30 |
| QuasR/ | - | 2015-10-09 16:40:42 |
| R3CPET/ | - | 2015-10-09 16:42:57 |
| R453Plus1Toolbox/ | - | 2015-10-09 16:39:31 |
| RBGL/ | - | 2015-10-09 16:37:49 |
| RBM/ | - | 2015-10-09 16:42:50 |
| RBioinf/ | - | 2015-10-09 16:38:47 |
| RCASPAR/ | - | 2015-10-09 16:39:48 |
| RCyjs/ | - | 2015-10-09 16:42:55 |
| RCytoscape/ | - | 2015-10-09 16:39:27 |
| RDAVIDWebService/ | - | 2015-10-09 16:41:03 |
| RDRToolbox/ | - | 2015-10-09 16:39:26 |
| REDseq/ | - | 2015-10-09 16:39:47 |
| RGSEA/ | - | 2015-10-09 16:41:56 |
| RGalaxy/ | - | 2015-10-09 16:40:23 |
| RIPSeeker/ | - | 2015-10-09 16:40:35 |
| RLMM/ | - | 2015-10-09 16:38:11 |
| RMassBank/ | - | 2015-10-09 16:40:27 |
| RNASeqPower/ | - | 2015-10-09 16:40:50 |
| RNAinteract/ | - | 2015-10-09 16:39:39 |
| RNAither/ | - | 2015-10-09 16:38:55 |
| RNAprobR/ | - | 2015-10-09 16:42:46 |
| ROC/ | - | 2015-10-09 16:37:42 |
| ROntoTools/ | - | 2015-10-09 16:40:52 |
| RPA/ | - | 2015-10-09 16:39:07 |
| RRHO/ | - | 2015-10-09 16:41:07 |
| RSVSim/ | - | 2015-10-09 16:40:40 |
| RTCA/ | - | 2015-10-09 16:39:10 |
| RTN/ | - | 2015-10-09 16:41:09 |
| RTopper/ | - | 2015-10-09 16:39:59 |
| RUVSeq/ | - | 2015-10-09 16:41:55 |
| RUVcorr/ | - | 2015-10-09 16:42:52 |
| RUVnormalize/ | - | 2015-10-09 16:42:05 |
| RWebServices/ | - | 2015-10-09 16:23:17 |
| RamiGO/ | - | 2015-10-09 16:39:52 |
| RankProd/ | - | 2015-10-09 16:38:04 |
| Rariant/ | - | 2015-10-09 16:41:45 |
| RbcBook1/ | - | 2015-10-09 16:38:24 |
| Rbowtie/ | - | 2015-10-09 16:40:42 |
| Rcade/ | - | 2015-10-09 16:40:33 |
| Rchemcpp/ | - | 2015-10-09 16:41:08 |
| RchyOptimyx/ | - | 2015-10-09 16:40:16 |
| Rcpi/ | - | 2015-10-09 16:41:41 |
| Rdisop/ | - | 2015-10-09 16:38:38 |
| ReQON/ | - | 2015-10-09 16:40:05 |
| ReactomePA/ | - | 2015-10-09 16:40:15 |
| ReadqPCR/ | - | 2015-10-09 16:39:50 |
| RedeR/ | - | 2015-10-09 16:39:52 |
| RefNet/ | - | 2015-10-09 16:41:49 |
| RefPlus/ | - | 2015-10-09 16:38:26 |
| Repitools/ | - | 2015-10-09 16:39:50 |
| ReportingTools/ | - | 2015-10-09 16:40:31 |
| Resourcerer/ | - | 2014-10-10 15:59:29 |
| Rgraphviz/ | - | 2015-10-09 16:37:45 |
| Rhtslib/ | - | 2015-10-09 16:42:42 |
| Ringo/ | - | 2015-10-09 16:38:31 |
| Risa/ | - | 2015-10-09 16:40:30 |
| Rmagpie/ | - | 2015-10-09 16:39:05 |
| RmiR/ | - | 2015-10-09 16:39:06 |
| RnBeads/ | - | 2015-10-09 16:42:58 |
| RnaSeqSampleSize/ | - | 2015-10-09 16:42:34 |
| Rnits/ | - | 2015-10-09 16:42:08 |
| Roleswitch/ | - | 2015-10-09 16:41:13 |
| Rolexa/ | - | 2015-10-09 16:39:07 |
| RpsiXML/ | - | 2015-10-09 16:38:53 |
| Rqc/ | - | 2015-10-09 16:42:26 |
| Rsamtools/ | - | 2015-10-09 16:39:19 |
| Rsubread/ | - | 2015-10-09 16:39:42 |
| Rtreemix/ | - | 2015-10-09 16:38:40 |
| S4Vectors/ | - | 2015-10-09 16:41:51 |
| SAGx/ | - | 2015-10-09 16:38:23 |
| SANTA/ | - | 2015-10-09 16:40:47 |
| SBMLR/ | - | 2015-10-09 16:38:01 |
| SCAN.UPC/ | - | 2015-10-09 16:40:32 |
| SELEX/ | - | 2015-10-09 16:42:40 |
| SGSeq/ | - | 2015-10-09 16:42:22 |
| SIM/ | - | 2015-10-09 16:38:50 |
| SIMAT/ | - | 2015-10-09 16:42:47 |
| SJava/ | - | 2015-10-09 16:23:49 |
| SLGI/ | - | 2015-10-09 16:38:41 |
| SLqPCR/ | - | 2015-10-09 16:38:30 |
| SMAP/ | - | 2015-10-09 16:38:35 |
| SNAGEE/ | - | 2015-10-09 16:40:36 |
| SNPRelate/ | - | 2015-10-09 16:42:10 |
| SNPchip/ | - | 2015-10-09 16:38:16 |
| SPEM/ | - | 2015-10-09 16:40:51 |
| SPIA/ | - | 2015-10-09 16:39:00 |
| SQUADD/ | - | 2015-10-09 16:39:28 |
| SRAdb/ | - | 2015-10-09 16:39:21 |
| SSPA/ | - | 2015-10-09 16:39:03 |
| STAN/ | - | 2015-10-09 16:42:03 |
| STATegRa/ | - | 2015-10-09 16:42:22 |
| STRINGdb/ | - | 2015-10-09 16:41:16 |
| SVM2CRM/ | - | 2015-10-09 16:42:53 |
| SamSPECTRAL/ | - | 2015-10-09 16:39:17 |
| ScISI/ | - | 2015-10-09 16:38:15 |
| SemDist/ | - | 2015-10-09 16:42:06 |
| SeqArray/ | - | 2015-10-09 16:40:50 |
| SeqGSEA/ | - | 2015-10-09 16:40:53 |
| SeqVarTools/ | - | 2015-10-09 16:41:09 |
| ShortRead/ | - | 2015-10-09 16:38:49 |
| SigCheck/ | - | 2015-10-09 16:42:21 |
| SigFuge/ | - | 2015-10-09 16:41:05 |
| SimBindProfiles/ | - | 2015-10-09 16:41:16 |
| SomatiCA/ | - | 2015-10-09 16:40:45 |
| SomaticSignatures/ | - | 2015-10-09 16:41:35 |
| SpacePAC/ | - | 2015-10-09 16:41:10 |
| SpeCond/ | - | 2015-10-09 16:39:13 |
| SplicingGraphs/ | - | 2015-10-09 16:40:57 |
| Starr/ | - | 2015-10-09 16:39:08 |
| Streamer/ | - | 2015-10-09 16:39:53 |
| Sushi/ | - | 2015-10-09 16:41:47 |
| SwimR/ | - | 2015-10-09 16:41:11 |
| TCC/ | - | 2015-10-09 16:41:12 |
| TDARACNE/ | - | 2015-10-09 16:39:36 |
| TEQC/ | - | 2015-10-09 16:39:34 |
| TFBSTools/ | - | 2015-10-09 16:41:21 |
| TIN/ | - | 2015-10-09 16:42:48 |
| TPP/ | - | 2015-10-09 16:42:54 |
| TRONCO/ | - | 2015-10-09 16:42:35 |
| TSCAN/ | - | 2015-10-09 16:42:11 |
| TSSi/ | - | 2015-10-09 16:39:55 |
| TargetScore/ | - | 2015-10-09 16:41:06 |
| TargetSearch/ | - | 2015-10-09 16:39:04 |
| TitanCNA/ | - | 2015-10-09 16:41:48 |
| ToPASeq/ | - | 2015-10-09 16:42:25 |
| TransView/ | - | 2015-10-09 16:40:34 |
| TurboNorm/ | - | 2015-10-09 16:39:34 |
| TypeInfo/ | - | 2015-10-09 16:38:19 |
| UNDO/ | - | 2015-10-09 16:41:42 |
| UniProt.ws/ | - | 2015-10-09 16:40:36 |
| VanillaICE/ | - | 2015-10-09 16:38:36 |
| VariantAnnotation/ | - | 2015-10-09 16:39:54 |
| VariantFiltering/ | - | 2015-10-09 16:41:46 |
| VariantTools/ | - | 2015-10-09 16:25:12 |
| Vega/ | - | 2015-10-09 16:39:35 |
| VegaMC/ | - | 2015-10-09 16:40:16 |
| XDE/ | - | 2015-10-09 16:38:42 |
| XVector/ | - | 2015-10-09 16:40:57 |
| a4/ | - | 2015-10-09 16:39:45 |
| a4Base/ | - | 2015-10-09 16:39:44 |
| a4Classif/ | - | 2015-10-09 16:39:45 |
| a4Core/ | - | 2015-10-09 16:39:45 |
| a4Preproc/ | - | 2015-10-09 16:39:45 |
| a4Reporting/ | - | 2015-10-09 16:39:45 |
| aCGH/ | - | 2015-10-09 16:37:55 |
| adSplit/ | - | 2015-10-09 16:38:15 |
| affxparser/ | - | 2015-10-09 16:38:10 |
| affy/ | - | 2015-10-09 16:37:43 |
| affyContam/ | - | 2015-10-09 16:38:56 |
| affyILM/ | - | 2015-10-09 16:39:23 |
| affyPLM/ | - | 2015-10-09 16:37:48 |
| affyPara/ | - | 2015-10-09 16:38:44 |
| affyQCReport/ | - | 2015-10-09 16:38:08 |
| affycomp/ | - | 2015-10-09 16:37:46 |
| affycoretools/ | - | 2015-10-09 16:38:11 |
| affyio/ | - | 2015-10-09 16:37:42 |
| affylmGUI/ | - | 2015-10-09 16:37:54 |
| affypdnn/ | - | 2015-10-09 16:37:49 |
| agilp/ | - | 2015-10-09 16:40:32 |
| alsace/ | - | 2015-10-09 16:41:39 |
| altcdfenvs/ | - | 2015-10-09 16:37:53 |
| ampliQueso/ | - | 2015-10-09 16:41:17 |
| annaffy/ | - | 2015-10-09 16:37:47 |
| annmap/ | - | 2015-10-09 16:40:21 |
| annotate/ | - | 2015-10-09 16:37:40 |
| annotationTools/ | - | 2015-10-09 16:38:29 |
| anota/ | - | 2015-10-09 16:39:45 |
| antiProfiles/ | - | 2015-10-09 16:40:54 |
| apComplex/ | - | 2015-10-09 16:38:01 |
| aroma.light/ | - | 2015-10-09 16:38:21 |
| arrayMvout/ | - | 2015-10-09 16:38:56 |
| arrayQuality/ | - | 2015-10-09 16:37:53 |
| arrayQualityMetrics/ | - | 2015-10-09 16:38:35 |
| asmn/ | - | 2015-04-15 17:23:05 |
| attract/ | - | 2015-10-09 16:39:23 |
| ballgown/ | - | 2015-10-09 16:42:02 |
| bamsignals/ | - | 2015-10-09 16:42:47 |
| baySeq/ | - | 2015-10-09 16:39:11 |
| beadarray/ | - | 2015-10-09 16:38:15 |
| beadarraySNP/ | - | 2015-10-09 16:38:22 |
| betr/ | - | 2015-10-09 16:39:02 |
| bgafun/ | - | 2015-10-09 16:38:37 |
| bgx/ | - | 2015-10-09 16:38:33 |
| bigmemoryExtras/ | - | 2015-10-09 16:40:32 |
| bioDist/ | - | 2015-10-09 16:38:01 |
| bioassayR/ | - | 2015-10-09 16:41:17 |
| biocGraph/ | - | 2015-10-09 16:38:34 |
| biocViews/ | - | 2015-10-09 16:38:10 |
| biomaRt/ | - | 2015-10-09 16:38:02 |
| biomvRCNS/ | - | 2015-10-09 16:40:46 |
| biosvd/ | - | 2015-10-09 16:41:33 |
| biovizBase/ | - | 2015-10-09 16:40:00 |
| birta/ | - | 2015-10-09 16:40:15 |
| birte/ | - | 2015-10-09 16:42:39 |
| blima/ | - | 2015-10-09 16:41:52 |
| bridge/ | - | 2015-10-09 16:38:06 |
| bsseq/ | - | 2015-10-09 16:40:24 |
| bumphunter/ | - | 2015-10-09 16:40:38 |
| canceR/ | - | 2015-10-09 16:42:44 |
| cancerclass/ | - | 2015-10-09 16:40:20 |
| casper/ | - | 2015-10-09 16:40:43 |
| categoryCompare/ | - | 2015-10-09 16:40:19 |
| ccrepe/ | - | 2015-10-09 16:41:26 |
| cellGrowth/ | - | 2015-10-09 16:40:15 |
| cellHTS/ | - | 2015-10-09 16:38:16 |
| cellHTS2/ | - | 2015-10-09 16:38:34 |
| cghMCR/ | - | 2015-10-09 16:38:18 |
| charm/ | - | 2015-10-09 16:39:16 |
| chimera/ | - | 2015-10-09 16:40:46 |
| chipenrich/ | - | 2015-10-09 16:41:13 |
| chipseq/ | - | 2015-10-09 16:39:06 |
| chopsticks/ | - | 2015-10-09 16:39:38 |
| chroGPS/ | - | 2015-10-09 16:40:34 |
| chromDraw/ | - | 2015-10-09 16:42:33 |
| cisPath/ | - | 2015-10-09 16:40:46 |
| cleanUpdTSeq/ | - | 2015-10-09 16:41:04 |
| cleaver/ | - | 2015-10-09 16:41:01 |
| clippda/ | - | 2015-10-09 16:39:09 |
| clipper/ | - | 2015-10-09 16:40:43 |
| clonotypeR/ | - | 2015-10-09 16:40:58 |
| clst/ | - | 2015-10-09 16:39:39 |
| clstutils/ | - | 2015-10-09 16:39:40 |
| clusterProfiler/ | - | 2015-10-09 16:39:40 |
| clusterStab/ | - | 2015-10-09 16:38:07 |
| cn.farms/ | - | 2015-10-09 16:39:41 |
| cn.mops/ | - | 2015-10-09 16:40:06 |
| cnvGSA/ | - | 2015-10-09 16:40:17 |
| coGPS/ | - | 2015-10-09 16:40:14 |
| coMET/ | - | 2015-10-09 16:42:33 |
| coRNAi/ | - | 2015-10-09 16:39:24 |
| cobindR/ | - | 2015-10-09 16:41:06 |
| codelink/ | - | 2015-10-09 16:38:13 |
| cogena/ | - | 2015-10-09 16:42:53 |
| compEpiTools/ | - | 2015-10-09 16:42:07 |
| compcodeR/ | - | 2015-10-09 16:41:48 |
| conumee/ | - | 2015-10-09 16:42:55 |
| convert/ | - | 2015-10-09 16:37:54 |
| copa/ | - | 2015-10-09 16:38:15 |
| copynumber/ | - | 2015-10-09 16:40:53 |
| cosmiq/ | - | 2015-10-09 16:41:54 |
| cpvSNP/ | - | 2015-10-09 16:42:30 |
| cqn/ | - | 2015-10-09 16:39:49 |
| crlmm/ | - | 2015-10-09 16:39:02 |
| csaw/ | - | 2015-10-09 16:42:22 |
| ctc/ | - | 2015-10-09 16:37:41 |
| cummeRbund/ | - | 2015-10-09 16:40:00 |
| customProDB/ | - | 2015-10-09 16:41:01 |
| cycle/ | - | 2015-10-09 16:39:11 |
| cytofkit/ | - | 2015-10-09 16:42:37 |
| daMA/ | - | 2015-10-09 16:37:47 |
| dagLogo/ | - | 2015-10-09 16:41:17 |
| ddCt/ | - | 2015-10-09 16:39:08 |
| ddgraph/ | - | 2015-10-09 16:40:19 |
| deepSNV/ | - | 2015-10-09 16:40:11 |
| deltaGseg/ | - | 2015-10-09 16:40:48 |
| derfinder/ | - | 2015-10-09 16:42:17 |
| derfinderHelper/ | - | 2015-10-09 16:42:17 |
| derfinderPlot/ | - | 2015-10-09 16:42:17 |
| dexus/ | - | 2015-10-09 16:40:48 |
| diffGeneAnalysis/ | - | 2015-10-09 16:38:08 |
| diffHic/ | - | 2015-10-09 16:42:57 |
| diggit/ | - | 2015-10-09 16:42:44 |
| dks/ | - | 2015-10-09 16:39:59 |
| domainsignatures/ | - | 2015-10-09 16:38:52 |
| dualKS/ | - | 2015-10-09 16:41:39 |
| dyebias/ | - | 2015-10-09 16:39:02 |
| easyRNASeq/ | - | 2015-10-09 16:40:09 |
| ecolitk/ | - | 2015-10-09 16:37:49 |
| edge/ | - | 2015-10-09 16:43:02 |
| edgeR/ | - | 2015-10-09 16:38:54 |
| eiR/ | - | 2015-10-09 16:40:51 |
| eisa/ | - | 2015-10-09 16:39:13 |
| ensemblVEP/ | - | 2015-10-09 16:40:39 |
| ensembldb/ | - | 2015-10-09 16:42:48 |
| epigenomix/ | - | 2015-10-09 16:40:48 |
| epivizr/ | - | 2015-10-09 16:41:17 |
| erccdashboard/ | - | 2015-10-09 16:42:07 |
| exomeCopy/ | - | 2015-10-09 16:40:04 |
| exomePeak/ | - | 2015-10-09 16:41:18 |
| exonfindR/ | - | 2014-10-12 16:11:29 |
| explorase/ | - | 2015-10-09 16:28:04 |
| fabia/ | - | 2015-10-09 16:39:23 |
| facopy/ | - | 2015-10-09 16:42:24 |
| factDesign/ | - | 2015-10-09 16:37:48 |
| farms/ | - | 2015-10-09 16:39:27 |
| fastLiquidAssociation/ | - | 2015-10-09 16:41:51 |
| fastseg/ | - | 2015-10-09 16:40:06 |
| fdrame/ | - | 2015-10-09 16:38:08 |
| ffpe/ | - | 2015-10-09 16:40:14 |
| flagme/ | - | 2015-10-09 16:38:57 |
| flipflop/ | - | 2015-10-09 16:41:22 |
| flowBeads/ | - | 2015-10-09 16:41:00 |
| flowBin/ | - | 2015-10-09 16:41:27 |
| flowCHIC/ | - | 2015-10-09 16:42:21 |
| flowCL/ | - | 2015-10-09 16:41:45 |
| flowClean/ | - | 2015-10-09 16:41:54 |
| flowClust/ | - | 2015-10-09 16:38:45 |
| flowCore/ | - | 2015-10-09 16:38:25 |
| flowCyBar/ | - | 2015-10-09 16:41:44 |
| flowDensity/ | - | 2015-10-09 16:41:58 |
| flowFP/ | - | 2015-10-09 16:39:06 |
| flowFit/ | - | 2015-10-09 16:40:58 |
| flowFlowJo/ | - | 2015-03-20 16:54:25 |
| flowMap/ | - | 2015-10-09 16:41:18 |
| flowMatch/ | - | 2015-10-09 16:41:25 |
| flowMeans/ | - | 2015-10-09 16:39:21 |
| flowMerge/ | - | 2015-10-09 16:39:06 |
| flowPeaks/ | - | 2015-10-09 16:40:21 |
| flowPhyto/ | - | 2015-02-07 17:08:09 |
| flowPlots/ | - | 2015-10-09 16:39:41 |
| flowQ/ | - | 2015-10-09 16:38:26 |
| flowQB/ | - | 2015-10-09 16:40:21 |
| flowStats/ | - | 2015-10-09 16:39:04 |
| flowTrans/ | - | 2015-10-09 16:39:23 |
| flowType/ | - | 2015-10-09 16:39:50 |
| flowUtils/ | - | 2015-10-09 16:38:25 |
| flowVS/ | - | 2015-10-09 16:42:58 |
| flowViz/ | - | 2015-10-09 16:38:26 |
| flowWorkspace/ | - | 2015-10-09 16:39:46 |
| flowcatchR/ | - | 2015-10-09 16:42:20 |
| fmcsR/ | - | 2015-10-09 16:40:28 |
| focalCall/ | - | 2015-10-09 16:42:20 |
| frma/ | - | 2015-10-09 16:39:14 |
| frmaTools/ | - | 2015-10-09 16:39:14 |
| gCMAP/ | - | 2015-10-09 16:40:30 |
| gCMAPWeb/ | - | 2015-10-09 16:40:48 |
| gQTLBase/ | - | 2015-10-09 16:42:31 |
| gQTLstats/ | - | 2015-10-09 16:42:32 |
| gaga/ | - | 2015-10-09 16:38:41 |
| gage/ | - | 2015-10-09 16:39:30 |
| gaggle/ | - | 2015-10-09 16:38:19 |
| gaia/ | - | 2015-10-09 16:39:33 |
| gaucho/ | - | 2015-10-09 16:41:49 |
| gcrma/ | - | 2015-10-09 16:37:47 |
| gdsfmt/ | - | 2015-10-09 16:42:35 |
| geNetClassifier/ | - | 2015-10-09 16:40:53 |
| geecc/ | - | 2015-10-09 16:42:12 |
| genArise/ | - | 2015-10-09 16:37:58 |
| geneRecommender/ | - | 2015-10-09 16:38:05 |
| geneRxCluster/ | - | 2015-10-09 16:41:27 |
| genefilter/ | - | 2015-10-09 16:37:41 |
| genefu/ | - | 2015-10-09 16:39:42 |
| geneplotter/ | - | 2015-10-09 16:37:41 |
| genoCN/ | - | 2015-10-09 16:39:18 |
| genomation/ | - | 2015-10-09 16:42:29 |
| genomeIntervals/ | - | 2015-10-09 16:39:01 |
| genomes/ | - | 2015-10-09 16:39:23 |
| genoset/ | - | 2015-10-09 16:39:43 |
| gespeR/ | - | 2015-10-09 16:42:34 |
| ggbio/ | - | 2015-10-09 16:40:03 |
| ggtree/ | - | 2015-10-09 16:42:37 |
| girafe/ | - | 2015-10-09 16:39:18 |
| globaltest/ | - | 2015-10-09 16:37:56 |
| gmapR/ | - | 2015-10-09 16:25:03 |
| goProfiles/ | - | 2015-10-09 16:38:48 |
| goTools/ | - | 2015-10-09 16:37:54 |
| goseq/ | - | 2015-10-09 16:39:20 |
| gpls/ | - | 2015-10-09 16:37:47 |
| gprege/ | - | 2015-10-09 16:40:15 |
| graph/ | - | 2015-10-09 16:37:44 |
| graphite/ | - | 2015-10-09 16:39:57 |
| groHMM/ | - | 2015-10-09 16:42:23 |
| gtrellis/ | - | 2015-10-09 16:42:48 |
| gwascat/ | - | 2015-10-09 16:40:12 |
| h5vc/ | - | 2015-10-09 16:41:23 |
| hapFabia/ | - | 2015-10-09 16:40:29 |
| hiAnnotator/ | - | 2015-10-09 16:41:51 |
| hiReadsProcessor/ | - | 2015-10-09 16:42:07 |
| hopach/ | - | 2015-10-09 16:37:59 |
| hpar/ | - | 2015-10-09 16:40:30 |
| htSeqTools/ | - | 2015-10-09 16:39:52 |
| hyperdraw/ | - | 2015-10-09 16:39:14 |
| hypergraph/ | - | 2015-10-09 16:38:06 |
| iASeq/ | - | 2015-10-09 16:40:18 |
| iBBiG/ | - | 2015-10-09 16:40:17 |
| iBMQ/ | - | 2015-10-09 16:40:40 |
| iChip/ | - | 2015-10-09 16:39:15 |
| iClusterPlus/ | - | 2015-10-09 16:41:30 |
| iPAC/ | - | 2015-10-09 16:40:25 |
| iSeq/ | - | 2015-10-09 16:39:29 |
| ibh/ | - | 2015-10-09 16:39:40 |
| idiogram/ | - | 2015-10-09 16:38:05 |
| illuminaio/ | - | 2015-10-09 16:40:36 |
| imageHTS/ | - | 2015-10-09 16:39:26 |
| immunoClust/ | - | 2015-10-09 16:42:45 |
| impute/ | - | 2015-10-09 16:37:52 |
| inSilicoDb/ | - | 2015-10-09 16:39:49 |
| inSilicoMerging/ | - | 2015-10-09 16:40:17 |
| intansv/ | - | 2015-10-09 16:41:06 |
| interactiveDisplay/ | - | 2015-10-09 16:41:23 |
| interactiveDisplayBase/ | - | 2015-10-09 16:42:03 |
| inveRsion/ | - | 2015-10-09 16:39:40 |
| iontree/ | - | 2015-10-09 16:39:55 |
| isobar/ | - | 2015-10-09 16:40:04 |
| iterativeBMA/ | - | 2015-10-09 16:38:51 |
| iterativeBMAsurv/ | - | 2015-10-09 16:38:52 |
| jmosaics/ | - | 2015-10-09 16:40:49 |
| joda/ | - | 2015-10-09 16:39:38 |
| kebabs/ | - | 2015-10-09 16:42:24 |
| keggorthology/ | - | 2015-10-09 16:38:34 |
| lapmix/ | - | 2015-10-09 16:38:22 |
| les/ | - | 2015-10-09 16:39:28 |
| limma/ | - | 2015-10-09 16:37:46 |
| limmaGUI/ | - | 2015-10-09 16:37:54 |
| lmdme/ | - | 2015-10-09 16:40:29 |
| logicFS/ | - | 2015-10-09 16:38:19 |
| logitT/ | - | 2015-10-09 16:38:53 |
| lol/ | - | 2015-10-09 16:39:44 |
| lpNet/ | - | 2015-10-09 16:40:45 |
| lumi/ | - | 2015-10-09 16:38:27 |
| mAPKL/ | - | 2015-10-09 16:42:35 |
| mBPCR/ | - | 2015-10-09 16:39:08 |
| mQTL.NMR/ | - | 2015-10-09 16:42:01 |
| maCorrPlot/ | - | 2015-10-09 16:38:17 |
| maPredictDSC/ | - | 2015-10-09 16:41:04 |
| maSigPro/ | - | 2015-10-09 16:38:11 |
| maanova/ | - | 2015-10-09 16:38:09 |
| macat/ | - | 2015-10-09 16:38:00 |
| made4/ | - | 2015-10-09 16:38:02 |
| maigesPack/ | - | 2015-10-09 16:38:37 |
| makecdfenv/ | - | 2015-10-09 16:37:44 |
| manta/ | - | 2015-10-09 16:40:10 |
| marray/ | - | 2015-10-09 16:37:54 |
| maskBAD/ | - | 2015-10-09 16:40:08 |
| massiR/ | - | 2015-10-09 16:41:40 |
| matchBox/ | - | 2015-10-09 16:40:35 |
| mcaGUI/ | - | 2015-10-09 16:39:42 |
| mdgsa/ | - | 2015-10-09 16:42:32 |
| mdqc/ | - | 2015-10-09 16:38:43 |
| meshr/ | - | 2015-10-09 16:41:50 |
| messina/ | - | 2015-10-09 16:41:43 |
| metaArray/ | - | 2015-10-09 16:38:13 |
| metaMS/ | - | 2015-10-09 16:41:46 |
| metaSeq/ | - | 2015-10-09 16:41:23 |
| metabomxtr/ | - | 2015-10-09 16:42:04 |
| metagene/ | - | 2015-10-09 16:42:04 |
| metagenomeSeq/ | - | 2015-10-09 16:40:52 |
| metahdep/ | - | 2015-10-09 16:39:01 |
| metaseqR/ | - | 2015-10-09 16:41:40 |
| methVisual/ | - | 2015-10-09 16:39:15 |
| methyAnalysis/ | - | 2015-10-09 16:40:28 |
| methylMnM/ | - | 2015-10-09 16:41:18 |
| methylPipe/ | - | 2015-10-09 16:42:08 |
| methylumi/ | - | 2015-10-09 16:39:05 |
| mgsa/ | - | 2015-10-09 16:39:35 |
| miRNApath/ | - | 2015-10-09 16:38:50 |
| miRNAtap/ | - | 2015-10-09 16:42:05 |
| microRNA/ | - | 2015-10-09 16:38:54 |
| minet/ | - | 2015-10-09 16:38:51 |
| minfi/ | - | 2015-10-09 16:40:01 |
| missMethyl/ | - | 2015-10-09 16:42:02 |
| mitoODE/ | - | 2015-10-09 16:41:01 |
| mmnet/ | - | 2015-10-09 16:41:25 |
| mogsa/ | - | 2015-10-09 16:42:52 |
| monocle/ | - | 2015-10-09 16:41:52 |
| mosaics/ | - | 2015-10-09 16:39:37 |
| motifRG/ | - | 2015-10-09 16:40:19 |
| motifStack/ | - | 2015-10-09 16:40:31 |
| msa/ | - | 2015-10-09 16:43:00 |
| msmsEDA/ | - | 2015-10-09 16:41:07 |
| msmsTests/ | - | 2015-10-09 16:41:08 |
| multiscan/ | - | 2015-10-09 16:38:51 |
| multtest/ | - | 2015-10-09 16:37:41 |
| muscle/ | - | 2015-10-09 16:42:44 |
| mvGST/ | - | 2015-10-09 16:42:23 |
| mygene/ | - | 2015-10-09 16:42:28 |
| mzID/ | - | 2015-10-09 16:41:13 |
| mzR/ | - | 2015-10-09 16:39:57 |
| ncdfFlow/ | - | 2015-10-09 16:40:06 |
| neaGUI/ | - | 2015-10-09 16:41:14 |
| nem/ | - | 2015-10-09 16:38:24 |
| netbenchmark/ | - | 2015-10-09 16:42:46 |
| netbiov/ | - | 2015-10-09 16:42:02 |
| nethet/ | - | 2015-10-09 16:42:31 |
| netresponse/ | - | 2015-10-09 16:39:29 |
| networkBMA/ | - | 2015-10-09 16:40:25 |
| nnNorm/ | - | 2015-10-09 16:37:57 |
| nondetects/ | - | 2015-10-09 16:41:44 |
| npGSEA/ | - | 2015-10-09 16:41:47 |
| nucleR/ | - | 2015-10-09 16:39:53 |
| nudge/ | - | 2015-10-09 16:38:18 |
| occugene/ | - | 2015-10-09 16:38:26 |
| oligo/ | - | 2015-10-09 16:38:07 |
| oligoClasses/ | - | 2015-10-09 16:38:36 |
| omicade4/ | - | 2015-10-09 16:41:15 |
| oneChannelGUI/ | - | 2015-10-09 16:38:32 |
| ontoCAT/ | - | 2015-10-09 16:39:30 |
| openCyto/ | - | 2015-10-09 16:41:19 |
| oposSOM/ | - | 2015-10-09 16:41:58 |
| pRoloc/ | - | 2015-10-09 16:40:38 |
| pRolocGUI/ | - | 2015-10-09 16:41:59 |
| paircompviz/ | - | 2015-10-09 16:41:02 |
| pandaR/ | - | 2015-10-09 16:42:56 |
| panp/ | - | 2015-10-09 16:38:12 |
| parglms/ | - | 2015-10-09 16:42:36 |
| parody/ | - | 2015-10-09 16:38:56 |
| pathRender/ | - | 2015-10-09 16:38:13 |
| pathifier/ | - | 2015-10-09 16:41:02 |
| pathview/ | - | 2015-10-09 16:40:49 |
| paxtoolsr/ | - | 2015-10-09 16:42:19 |
| pcaGoPromoter/ | - | 2015-10-09 16:40:10 |
| pcaMethods/ | - | 2015-10-09 16:38:24 |
| pcot2/ | - | 2015-10-09 16:38:21 |
| pdInfoBuilder/ | - | 2015-10-09 16:38:27 |
| pdmclass/ | - | 2015-10-09 16:38:08 |
| pepStat/ | - | 2015-10-09 16:41:58 |
| pepXMLTab/ | - | 2015-10-09 16:42:28 |
| phenoDist/ | - | 2015-10-09 16:39:32 |
| phenoTest/ | - | 2015-10-09 16:39:37 |
| phyloseq/ | - | 2015-10-09 16:40:11 |
| piano/ | - | 2015-10-09 16:40:55 |
| pickgene/ | - | 2015-10-09 16:37:50 |
| pint/ | - | 2015-10-09 16:39:16 |
| pkgDepTools/ | - | 2015-10-09 16:38:22 |
| plateCore/ | - | 2015-10-09 16:39:09 |
| plethy/ | - | 2015-10-09 16:40:58 |
| plgem/ | - | 2015-10-09 16:38:04 |
| plier/ | - | 2015-10-09 16:38:02 |
| plrs/ | - | 2015-10-09 16:40:37 |
| plw/ | - | 2015-10-09 16:38:40 |
| pmm/ | - | 2015-10-09 16:42:51 |
| podkat/ | - | 2015-10-09 16:42:50 |
| polyester/ | - | 2015-10-09 16:42:16 |
| ppiStats/ | - | 2015-10-09 16:38:25 |
| prada/ | - | 2015-10-09 16:37:55 |
| prebs/ | - | 2015-10-09 16:40:55 |
| predictionet/ | - | 2015-10-09 16:40:02 |
| preprocessCore/ | - | 2015-10-09 16:37:43 |
| proBAMr/ | - | 2015-10-09 16:42:19 |
| procoil/ | - | 2015-10-09 16:39:39 |
| prot2D/ | - | 2015-10-09 16:40:59 |
| proteinProfiles/ | - | 2015-10-09 16:40:47 |
| proteoQC/ | - | 2015-10-09 16:41:53 |
| puma/ | - | 2015-10-09 16:38:33 |
| pvac/ | - | 2015-10-09 16:39:38 |
| pvca/ | - | 2015-10-09 16:40:38 |
| pwOmics/ | - | 2015-10-09 16:43:02 |
| qcmetrics/ | - | 2015-10-09 16:41:19 |
| qpcrNorm/ | - | 2015-10-09 16:39:02 |
| qpgraph/ | - | 2015-10-09 16:38:59 |
| qrqc/ | - | 2015-10-09 16:39:44 |
| quantro/ | - | 2015-10-09 16:42:06 |
| quantsmooth/ | - | 2015-10-09 16:38:20 |
| qusage/ | - | 2015-10-09 16:41:12 |
| qvalue/ | - | 2015-10-09 16:37:51 |
| r3Cseq/ | - | 2015-10-09 16:40:03 |
| rBiopaxParser/ | - | 2015-10-09 16:40:45 |
| rGADEM/ | - | 2015-10-09 16:39:15 |
| rGREAT/ | - | 2015-10-09 16:42:39 |
| rHVDM/ | - | 2015-10-09 16:38:30 |
| rMAT/ | - | 2015-10-09 16:39:04 |
| rRDP/ | - | 2015-10-09 16:42:15 |
| rSFFreader/ | - | 2015-10-09 16:40:35 |
| rTANDEM/ | - | 2015-10-09 16:40:41 |
| rTRM/ | - | 2015-10-09 16:41:03 |
| rTRMui/ | - | 2015-10-09 16:41:15 |
| rain/ | - | 2015-10-09 16:42:11 |
| rama/ | - | 2015-10-09 16:37:52 |
| randPack/ | - | 2015-10-09 16:39:49 |
| rbsurv/ | - | 2015-10-09 16:38:33 |
| rcellminer/ | - | 2015-10-09 16:42:49 |
| reb/ | - | 2015-10-09 16:38:09 |
| regionReport/ | - | 2015-10-09 16:42:17 |
| regioneR/ | - | 2015-10-09 16:42:51 |
| rfPred/ | - | 2015-10-09 16:41:08 |
| rgsepd/ | - | 2015-10-09 16:42:33 |
| rhdf5/ | - | 2015-10-09 16:40:09 |
| riboSeqR/ | - | 2015-10-09 16:41:57 |
| rnaSeqMap/ | - | 2015-10-09 16:39:31 |
| roar/ | - | 2015-10-09 16:41:26 |
| rols/ | - | 2015-10-09 16:40:21 |
| rpx/ | - | 2015-10-09 16:41:41 |
| rqubic/ | - | 2015-10-09 16:39:56 |
| rsbml/ | - | 2015-10-09 16:38:37 |
| rtracklayer/ | - | 2015-10-09 16:38:48 |
| sRAP/ | - | 2015-10-09 16:41:21 |
| sSeq/ | - | 2015-10-09 16:40:57 |
| safe/ | - | 2015-10-09 16:38:03 |
| sagenhaft/ | - | 2015-10-09 16:38:01 |
| sangerseqR/ | - | 2015-10-09 16:41:37 |
| sapFinder/ | - | 2015-10-09 16:41:42 |
| saps/ | - | 2015-10-09 16:42:30 |
| savR/ | - | 2015-10-09 16:41:33 |
| scsR/ | - | 2015-10-09 16:41:38 |
| segmentSeq/ | - | 2015-10-09 16:39:17 |
| seq2pathway/ | - | 2015-10-09 16:42:37 |
| seqCNA/ | - | 2015-10-09 16:41:05 |
| seqLogo/ | - | 2015-10-09 16:38:28 |
| seqPattern/ | - | 2015-10-09 16:42:36 |
| seqTools/ | - | 2015-10-09 16:42:28 |
| seqbias/ | - | 2015-10-09 16:39:36 |
| seqplots/ | - | 2015-10-09 16:42:12 |
| shinyMethyl/ | - | 2015-10-09 16:42:00 |
| shinyTANDEM/ | - | 2015-10-09 16:41:20 |
| sidap/ | - | 2015-02-09 19:00:44 |
| sigPathway/ | - | 2015-10-09 16:38:20 |
| sigaR/ | - | 2015-10-09 16:40:08 |
| siggenes/ | - | 2015-10-09 16:37:47 |
| sigsquared/ | - | 2015-10-09 16:42:41 |
| similaRpeak/ | - | 2015-10-09 16:43:01 |
| simpleaffy/ | - | 2015-10-09 16:37:50 |
| simulatorZ/ | - | 2015-10-09 16:42:14 |
| sincell/ | - | 2015-10-09 16:42:39 |
| sizepower/ | - | 2015-10-09 16:38:16 |
| skewr/ | - | 2015-10-09 16:42:41 |
| snapCGH/ | - | 2015-10-09 16:38:14 |
| snm/ | - | 2015-10-09 16:39:33 |
| snpStats/ | - | 2015-10-09 16:38:43 |
| soGGi/ | - | 2015-10-09 16:42:56 |
| spade/ | - | 2015-10-09 16:40:07 |
| specL/ | - | 2015-10-09 16:42:27 |
| spikeLI/ | - | 2015-10-09 16:38:21 |
| spkTools/ | - | 2015-10-09 16:38:59 |
| spliceR/ | - | 2015-10-09 16:41:01 |
| spliceSites/ | - | 2015-10-09 16:41:20 |
| splicegear/ | - | 2015-10-09 16:37:46 |
| splots/ | - | 2015-10-09 16:38:23 |
| spotSegmentation/ | - | 2015-10-09 16:38:02 |
| sscore/ | - | 2015-10-09 16:38:14 |
| ssize/ | - | 2015-10-09 16:38:06 |
| ssviz/ | - | 2015-10-09 16:41:56 |
| staRank/ | - | 2015-10-09 16:40:20 |
| stepNorm/ | - | 2015-10-09 16:37:59 |
| stepwiseCM/ | - | 2015-10-09 16:40:02 |
| supraHex/ | - | 2015-10-09 16:41:11 |
| survcomp/ | - | 2015-10-09 16:39:43 |
| sva/ | - | 2015-10-09 16:40:03 |
| switchBox/ | - | 2015-10-09 16:42:09 |
| synapter/ | - | 2015-10-09 16:40:24 |
| systemPipeR/ | - | 2015-10-09 16:42:13 |
| tRanslatome/ | - | 2015-10-09 16:40:59 |
| ternarynet/ | - | 2015-10-09 16:40:12 |
| tigre/ | - | 2015-10-09 16:39:20 |
| tilingArray/ | - | 2015-10-09 16:38:03 |
| timecourse/ | - | 2015-10-09 16:38:09 |
| tkWidgets/ | - | 2015-10-09 16:37:42 |
| topGO/ | - | 2015-10-09 16:38:29 |
| trackViewer/ | - | 2015-10-09 16:41:34 |
| tracktables/ | - | 2015-10-09 16:42:25 |
| triform/ | - | 2015-10-09 16:40:26 |
| trigger/ | - | 2015-10-09 16:40:07 |
| trio/ | - | 2015-10-09 16:41:10 |
| triplex/ | - | 2015-10-09 16:40:56 |
| tspair/ | - | 2015-10-09 16:39:00 |
| tweeDEseq/ | - | 2015-10-09 16:40:05 |
| twilight/ | - | 2015-10-09 16:37:58 |
| unifiedWMWqPCR/ | - | 2015-10-09 16:41:37 |
| vbmp/ | - | 2015-10-09 16:38:35 |
| viper/ | - | 2015-10-09 16:41:43 |
| virtualArray/ | - | 2014-10-10 16:02:58 |
| vsn/ | - | 2015-10-09 16:37:43 |
| vtpnet/ | - | 2015-10-09 16:41:00 |
| wateRmelon/ | - | 2015-10-09 16:40:39 |
| wavClusteR/ | - | 2015-10-09 16:41:54 |
| waveTiling/ | - | 2015-10-09 16:40:26 |
| weaver/ | - | 2015-10-09 16:39:58 |
| webbioc/ | - | 2015-10-09 16:37:49 |
| widgetTools/ | - | 2015-10-09 16:37:45 |
| xcms/ | - | 2015-10-09 16:38:05 |
| xmapbridge/ | - | 2015-10-09 16:38:56 |
| xps/ | - | 2015-10-09 16:38:39 |
| yaqcaffy/ | - | 2015-10-09 16:38:38 |
| zlibbioc/ | - | 2015-10-09 16:39:48 |
| 120px-Blue_Light_Icon.svg.png | 7.1 KiB | 2015-10-09 16:21:24 |
| 120px-Green_Light_Icon.svg.png | 7.1 KiB | 2015-10-09 16:21:24 |
| 120px-Red_Light_Icon.svg.png | 7.0 KiB | 2015-10-09 16:21:24 |
| DEVEL3b-green.png | 777 B | 2014-10-15 17:34:11 |
| DEVEL3b-green2.png | 742 B | 2015-10-09 16:21:24 |
| DEVEL3b.png | 2.6 KiB | 2014-10-15 15:49:44 |
| STATUS_DB.txt | 447.5 KiB | 2015-10-09 16:20:58 |
| index.html | 4.8 MiB | 2015-10-09 16:45:22 |
| meat-index.txt | 200.4 KiB | 2015-10-09 16:20:58 |
| morelia-NodeInfo.html | 5.6 KiB | 2015-10-09 16:44:17 |
| morelia-R-instpkgs.html | 79.7 KiB | 2015-10-09 16:44:17 |
| morelia-index.html | 1.0 MiB | 2015-10-09 16:44:17 |
| moscato2-NodeInfo.html | 6.0 KiB | 2015-10-09 16:44:17 |
| moscato2-R-instpkgs.html | 83.3 KiB | 2015-10-09 16:44:17 |
| moscato2-index.html | 1.0 MiB | 2015-10-09 16:43:38 |
| petty-NodeInfo.html | 6.1 KiB | 2015-10-09 16:44:17 |
| petty-R-instpkgs.html | 82.1 KiB | 2015-10-09 16:44:17 |
| petty-index.html | 1.0 MiB | 2015-10-09 16:43:58 |
| report.css | 7.9 KiB | 2015-10-09 16:21:24 |
| report.js | 5.1 KiB | 2015-10-09 16:21:24 |
| report.tgz | 14.3 MiB | 2015-10-09 16:45:26 |
| zin2-NodeInfo.html | 5.8 KiB | 2015-10-09 16:44:17 |
| zin2-R-instpkgs.html | 82.9 KiB | 2015-10-09 16:44:17 |
| zin2-index.html | 961.0 KiB | 2015-10-09 16:43:19 |