All our mirrors of open source software are available via http, https, ftp and an onion service. More information about our mirrors including statistics and contact information is available on our mirror info pages.
For information about dotsrc.org and our other services please go to our website.
| File Name ↓ | File Size ↓ | Date ↓ |
|---|---|---|
| Parent directory/ | - | - |
| ALL/ | - | 2012-03-24 01:01:26 |
| ALLMLL/ | - | 2012-03-24 01:01:26 |
| AffymetrixDataTestFiles/ | - | 2012-03-24 01:01:25 |
| AmpAffyExample/ | - | 2012-03-24 01:01:27 |
| BeadArrayUseCases/ | - | 2012-03-24 01:01:36 |
| CCl4/ | - | 2012-03-24 01:01:29 |
| CLL/ | - | 2012-03-24 01:01:27 |
| DLBCL/ | - | 2012-03-24 01:01:33 |
| ENCODEFig4Band4D/ | - | 2012-01-10 02:02:11 |
| EatonEtAlChIPseq/ | - | 2012-03-24 01:01:33 |
| GGdata/ | - | 2012-03-24 01:01:27 |
| GSVAdata/ | - | 2012-03-24 01:01:34 |
| GWASdata/ | - | 2012-03-24 01:01:35 |
| HEEBOdata/ | - | 2012-03-24 01:01:28 |
| HIVcDNAvantWout03/ | - | 2012-03-24 01:01:28 |
| ITALICSData/ | - | 2012-03-24 01:01:30 |
| IlluminaHumanMethylation450kmanifest/ | - | 2012-03-24 01:01:35 |
| Iyer517/ | - | 2012-03-24 01:01:28 |
| LiebermanAidenHiC2009/ | - | 2012-03-24 01:01:35 |
| MAQCsubset/ | - | 2012-03-24 01:01:28 |
| MAQCsubsetAFX/ | - | 2012-03-24 01:01:30 |
| MAQCsubsetILM/ | - | 2012-03-24 01:01:30 |
| MEEBOdata/ | - | 2012-03-24 01:01:28 |
| NCIgraphData/ | - | 2012-03-24 01:01:34 |
| Neve2006/ | - | 2012-03-24 01:01:29 |
| PREDAsampledata/ | - | 2012-03-24 01:01:35 |
| ProData/ | - | 2012-03-24 01:01:28 |
| RNAinteractMAPK/ | - | 2012-03-24 01:01:34 |
| RnaSeqTutorial/ | - | 2012-03-24 01:01:36 |
| SNAData/ | - | 2012-03-24 01:01:28 |
| SpikeIn/ | - | 2012-03-24 01:01:28 |
| SpikeInSubset/ | - | 2012-03-24 01:01:28 |
| TCGAMethylation450k/ | - | 2012-03-24 01:01:35 |
| TargetSearchData/ | - | 2012-03-24 01:01:30 |
| XhybCasneuf/ | - | 2012-03-24 01:01:29 |
| affycompData/ | - | 2012-03-24 01:01:34 |
| affydata/ | - | 2012-03-24 01:01:25 |
| beadarrayExampleData/ | - | 2012-03-24 01:01:35 |
| beta7/ | - | 2012-03-24 01:01:27 |
| bladderbatch/ | - | 2012-03-24 01:01:35 |
| breastCancerMAINZ/ | - | 2012-03-24 01:01:34 |
| breastCancerNKI/ | - | 2012-03-24 01:01:34 |
| breastCancerTRANSBIG/ | - | 2012-03-24 01:01:34 |
| breastCancerUNT/ | - | 2012-03-24 01:01:34 |
| breastCancerUPP/ | - | 2012-03-24 01:01:34 |
| breastCancerVDX/ | - | 2012-03-24 01:01:34 |
| bronchialIL13/ | - | 2012-03-24 01:01:27 |
| ccTutorial/ | - | 2012-03-24 01:01:30 |
| ceu1kg/ | - | 2012-03-24 01:01:34 |
| ceuhm3/ | - | 2012-03-24 01:01:34 |
| cgdv17/ | - | 2012-03-24 01:01:36 |
| charmData/ | - | 2012-03-24 01:01:33 |
| cheung2010/ | - | 2012-03-24 01:01:35 |
| cnvGSAdata/ | - | 2012-03-24 01:01:36 |
| colonCA/ | - | 2012-03-24 01:01:27 |
| davidTiling/ | - | 2012-03-24 01:01:27 |
| dressCheck/ | - | 2012-03-24 01:01:33 |
| dsQTL/ | - | 2012-03-24 01:01:36 |
| dyebiasexamples/ | - | 2012-03-24 01:01:30 |
| ecoliLeucine/ | - | 2012-03-24 01:01:27 |
| encoDnaseI/ | - | 2012-03-24 01:01:30 |
| estrogen/ | - | 2012-03-24 01:01:27 |
| faahKO/ | - | 2012-03-24 01:01:27 |
| facsDorit/ | - | 2012-03-24 01:01:27 |
| ffpeExampleData/ | - | 2012-03-24 01:01:36 |
| fibroEset/ | - | 2012-03-24 01:01:27 |
| flowWorkspaceData/ | - | 2012-03-24 01:01:34 |
| frmaExampleData/ | - | 2012-03-24 01:01:31 |
| gageData/ | - | 2012-03-24 01:01:34 |
| gaschYHS/ | - | 2012-03-24 01:01:27 |
| gatingMLData/ | - | 2012-03-24 01:01:27 |
| gcspikelite/ | - | 2012-03-24 01:01:30 |
| geneLenDataBase/ | - | 2012-03-24 01:01:33 |
| ggtut/ | - | 2012-03-24 01:01:35 |
| golubEsets/ | - | 2012-03-24 01:01:27 |
| hapmap100khind/ | - | 2012-03-24 01:01:29 |
| hapmap100kxba/ | - | 2012-03-24 01:01:29 |
| hapmap500knsp/ | - | 2012-03-24 01:01:29 |
| hapmap500ksty/ | - | 2012-03-24 01:01:29 |
| hapmapsnp5/ | - | 2012-03-24 01:01:30 |
| hapmapsnp6/ | - | 2012-03-24 01:01:30 |
| harbChIP/ | - | 2012-03-24 01:01:28 |
| hgu133abarcodevecs/ | - | 2012-03-24 01:01:31 |
| hgu133afrmavecs/ | - | 2012-03-24 01:01:31 |
| hgu133plus2barcodevecs/ | - | 2012-03-24 01:01:31 |
| hgu133plus2frmavecs/ | - | 2012-03-24 01:01:31 |
| hgu2beta7/ | - | 2012-03-24 01:01:28 |
| hmyriB36/ | - | 2012-03-24 01:01:30 |
| humanStemCell/ | - | 2012-03-24 01:01:30 |
| ind1KG/ | - | 2012-03-24 01:01:31 |
| iontreeData/ | - | 2012-03-24 01:01:35 |
| kidpack/ | - | 2012-03-24 01:01:28 |
| leeBamViews/ | - | 2012-03-24 01:01:33 |
| lumiBarnes/ | - | 2012-03-24 01:01:29 |
| lungExpression/ | - | 2012-03-24 01:01:29 |
| maqcExpression4plex/ | - | 2012-03-24 01:01:29 |
| minfiData/ | - | 2012-03-24 01:01:35 |
| mosaicsExample/ | - | 2012-03-24 01:01:34 |
| mouse4302barcodevecs/ | - | 2012-03-24 01:01:31 |
| mouse4302frmavecs/ | - | 2012-03-24 01:01:31 |
| msdata/ | - | 2012-03-24 01:01:30 |
| mvoutData/ | - | 2012-03-24 01:01:30 |
| pasilla/ | - | 2012-03-24 01:01:35 |
| pasillaBamSubset/ | - | 2012-03-24 01:01:36 |
| pcaGoPromoter.Hs.hg19/ | - | 2012-03-24 01:01:36 |
| pcaGoPromoter.Mm.mm9/ | - | 2012-03-24 01:01:36 |
| pcaGoPromoter.Rn.rn4/ | - | 2012-03-24 01:01:36 |
| ppiData/ | - | 2012-03-24 01:01:28 |
| pumadata/ | - | 2012-03-24 01:01:29 |
| rfcdmin/ | - | 2011-10-27 01:04:12 |
| rheumaticConditionWOLLBOLD/ | - | 2012-03-24 01:01:36 |
| serumStimulation/ | - | 2012-03-24 01:01:36 |
| simpIntLists/ | - | 2012-03-24 01:01:34 |
| stjudem/ | - | 2012-03-24 01:01:28 |
| tinesath1cdf/ | - | 2012-03-24 01:01:29 |
| tinesath1probe/ | - | 2012-03-24 01:01:29 |
| tweeDEseqCountData/ | - | 2012-03-24 01:01:36 |
| yeastCC/ | - | 2012-03-24 01:01:28 |
| yeastExpData/ | - | 2012-03-24 01:01:29 |
| yeastGSData/ | - | 2012-03-24 01:01:30 |
| yeastNagalakshmi/ | - | 2012-03-24 01:01:35 |
| yeastRNASeq/ | - | 2012-03-24 01:01:31 |
| STATUS_DB.txt | 31.8 KiB | 2012-03-24 01:01:11 |
| index.html | 327.0 KiB | 2012-03-24 01:01:39 |
| liverpool-NodeInfo.html | 4.7 KiB | 2011-07-07 00:58:51 |
| liverpool-R-instpkgs.html | 54.7 KiB | 2011-07-07 00:58:51 |
| liverpool-index.html | 72.3 KiB | 2011-07-07 00:58:51 |
| meat-index.txt | 23.8 KiB | 2012-03-24 01:01:08 |
| moscato1-NodeInfo.html | 4.8 KiB | 2012-03-24 01:01:37 |
| moscato1-R-instpkgs.html | 57.8 KiB | 2012-03-24 01:01:37 |
| moscato1-index.html | 86.6 KiB | 2012-03-24 01:01:37 |
| petty-NodeInfo.html | 5.0 KiB | 2011-07-02 00:59:59 |
| petty-R-instpkgs.html | 26.2 KiB | 2011-07-02 00:59:59 |
| petty-index.html | 70.0 KiB | 2011-07-02 00:59:58 |
| pitt-NodeInfo.html | 4.9 KiB | 2012-03-24 01:01:37 |
| pitt-R-instpkgs.html | 55.9 KiB | 2012-03-24 01:01:37 |
| pitt-index.html | 83.9 KiB | 2012-03-24 01:01:37 |
| report.css | 6.5 KiB | 2012-03-24 01:01:11 |
| report.js | 3.9 KiB | 2012-03-24 01:01:11 |
| report.tgz | 427.9 KiB | 2012-03-24 01:01:41 |
| wilson2-NodeInfo.html | 4.8 KiB | 2012-03-24 01:01:37 |
| wilson2-R-instpkgs.html | 58.1 KiB | 2012-03-24 01:01:37 |
| wilson2-index.html | 74.7 KiB | 2012-03-24 01:01:36 |