All our mirrors of open source software are available via http, https, ftp and an onion service. More information about our mirrors including statistics and contact information is available on our mirror info pages.
For information about dotsrc.org and our other services please go to our website.
| File Name ↓ | File Size ↓ | Date ↓ | 
|---|---|---|
| Parent directory/ | - | - | 
| ABarray/ | - | 2012-03-24 19:00:59 | 
| ACME/ | - | 2012-03-24 19:01:05 | 
| ADaCGH2/ | - | 2012-03-24 19:01:41 | 
| AGDEX/ | - | 2012-03-24 19:01:53 | 
| AffyCompatible/ | - | 2012-03-24 19:01:18 | 
| AffyExpress/ | - | 2012-03-24 19:01:11 | 
| AffyTiling/ | - | 2012-03-24 19:01:23 | 
| Agi4x44PreProcess/ | - | 2012-03-24 19:01:21 | 
| AgiMicroRna/ | - | 2012-03-24 19:01:30 | 
| AnnotationDbi/ | - | 2012-03-24 19:01:02 | 
| AnnotationFuncs/ | - | 2012-03-24 19:01:45 | 
| ArrayExpress/ | - | 2012-03-24 19:01:21 | 
| ArrayExpressHTS/ | - | 2012-03-24 19:01:47 | 
| ArrayTools/ | - | 2012-03-24 19:01:20 | 
| BAC/ | - | 2012-03-24 19:01:15 | 
| BCRANK/ | - | 2012-03-24 19:01:16 | 
| BGmix/ | - | 2012-03-24 19:01:14 | 
| BHC/ | - | 2012-03-24 19:01:37 | 
| BSgenome/ | - | 2012-03-24 19:00:59 | 
| BUS/ | - | 2012-03-24 19:01:27 | 
| BayesPeak/ | - | 2012-03-24 19:01:36 | 
| BeadDataPackR/ | - | 2012-03-24 19:01:34 | 
| BicARE/ | - | 2012-03-24 19:01:21 | 
| BioMVCClass/ | - | 2012-03-24 19:01:00 | 
| BioNet/ | - | 2012-03-24 19:01:38 | 
| BioSeqClass/ | - | 2012-03-24 19:01:31 | 
| Biobase/ | - | 2012-03-24 19:00:34 | 
| BiocCaseStudies/ | - | 2012-03-24 19:01:14 | 
| BiocInstaller/ | - | 2012-03-24 19:01:47 | 
| Bioconductor/ | - | 2011-06-15 20:37:24 | 
| Biostrings/ | - | 2012-03-24 19:00:41 | 
| BufferedMatrix/ | - | 2012-03-24 19:01:04 | 
| BufferedMatrixMethods/ | - | 2012-03-24 19:01:04 | 
| CALIB/ | - | 2012-03-24 19:01:05 | 
| CAMERA/ | - | 2012-03-24 19:01:24 | 
| CGEN/ | - | 2012-03-24 19:01:38 | 
| CGHbase/ | - | 2012-03-24 19:01:18 | 
| CGHcall/ | - | 2012-03-24 19:01:11 | 
| CGHnormaliter/ | - | 2012-03-24 19:01:30 | 
| CGHregions/ | - | 2012-03-24 19:01:18 | 
| CMA/ | - | 2012-03-24 19:01:18 | 
| CNAnorm/ | - | 2012-03-24 19:01:53 | 
| CNTools/ | - | 2012-03-24 19:01:26 | 
| CNVtools/ | - | 2012-03-24 19:01:31 | 
| CORREP/ | - | 2012-03-24 19:01:06 | 
| CRImage/ | - | 2012-03-24 19:00:19 | 
| CSAR/ | - | 2012-03-24 19:01:32 | 
| Category/ | - | 2012-03-24 19:00:51 | 
| CellNOptR/ | - | 2012-03-24 19:01:55 | 
| ChIPpeakAnno/ | - | 2012-03-24 19:01:29 | 
| ChIPseqR/ | - | 2012-03-24 19:01:31 | 
| ChIPsim/ | - | 2012-03-24 19:01:29 | 
| ChemmineR/ | - | 2012-03-24 19:01:21 | 
| ChromHeatMap/ | - | 2012-03-24 19:01:31 | 
| Clonality/ | - | 2012-03-24 19:01:42 | 
| CoCiteStats/ | - | 2012-03-24 19:00:49 | 
| CoGAPS/ | - | 2012-03-24 18:59:07 | 
| ConsensusClusterPlus/ | - | 2012-03-24 19:01:33 | 
| Cormotif/ | - | 2012-03-24 19:01:49 | 
| DAVIDQuery/ | - | 2012-03-24 19:01:24 | 
| DECIPHER/ | - | 2012-03-24 19:01:53 | 
| DEDS/ | - | 2012-03-24 19:00:48 | 
| DEGraph/ | - | 2012-03-24 19:01:41 | 
| DEGseq/ | - | 2012-03-24 19:01:31 | 
| DESeq/ | - | 2012-03-24 19:01:32 | 
| DEXSeq/ | - | 2012-03-24 19:01:48 | 
| DFP/ | - | 2012-03-24 19:01:19 | 
| DNAcopy/ | - | 2012-03-24 19:00:43 | 
| DOSE/ | - | 2012-03-24 19:01:48 | 
| DTA/ | - | 2012-03-24 19:01:52 | 
| DiffBind/ | - | 2012-03-24 19:01:52 | 
| DynDoc/ | - | 2012-03-24 19:00:34 | 
| EBImage/ | - | 2012-03-24 18:59:40 | 
| EBarrays/ | - | 2012-03-24 19:00:42 | 
| EDASeq/ | - | 2012-03-24 19:01:52 | 
| ENVISIONQuery/ | - | 2012-03-24 19:00:24 | 
| ExiMiR/ | - | 2012-03-24 19:01:43 | 
| ExpressionView/ | - | 2012-03-24 19:01:35 | 
| GEOmetadb/ | - | 2012-03-24 19:01:16 | 
| GEOquery/ | - | 2012-03-24 19:00:56 | 
| GEOsubmission/ | - | 2012-03-24 19:01:36 | 
| GGBase/ | - | 2012-03-24 19:01:18 | 
| GGtools/ | - | 2012-03-24 19:01:00 | 
| GLAD/ | - | 2012-03-24 19:00:48 | 
| GOFunction/ | - | 2012-03-24 19:01:49 | 
| GOSemSim/ | - | 2012-03-24 19:01:23 | 
| GOstats/ | - | 2012-03-24 19:00:44 | 
| GRENITS/ | - | 2012-03-24 19:01:49 | 
| GSEABase/ | - | 2012-03-24 19:01:10 | 
| GSEAlm/ | - | 2012-03-24 19:01:16 | 
| GSRI/ | - | 2012-03-24 19:01:36 | 
| GSVA/ | - | 2012-03-24 19:01:47 | 
| GWASTools/ | - | 2012-03-24 19:01:53 | 
| GeneAnswers/ | - | 2012-03-24 19:01:30 | 
| GeneExpressionSignature/ | - | 2012-03-24 19:01:51 | 
| GeneGA/ | - | 2012-03-24 19:01:40 | 
| GeneMeta/ | - | 2012-03-24 19:00:52 | 
| GeneR/ | - | 2012-03-24 19:00:41 | 
| GeneRegionScan/ | - | 2012-03-24 19:01:25 | 
| GeneRfold/ | - | 2012-03-24 19:00:58 | 
| GeneSelectMMD/ | - | 2012-03-24 19:01:24 | 
| GeneSelector/ | - | 2012-03-24 19:01:16 | 
| GeneSpring/ | - | 2011-04-20 04:59:19 | 
| GeneTraffic/ | - | 2011-08-27 19:04:22 | 
| GeneticsDesign/ | - | 2012-03-24 19:01:04 | 
| GeneticsPed/ | - | 2012-03-24 19:01:06 | 
| GenomeGraphs/ | - | 2012-03-24 19:01:17 | 
| GenomicFeatures/ | - | 2012-03-24 19:01:30 | 
| GenomicRanges/ | - | 2012-03-24 19:01:34 | 
| Genominator/ | - | 2012-03-24 19:01:31 | 
| GlobalAncova/ | - | 2012-03-24 19:00:55 | 
| GraphAT/ | - | 2012-03-24 19:00:45 | 
| GraphAlignment/ | - | 2012-03-24 19:01:15 | 
| HELP/ | - | 2012-03-24 19:01:18 | 
| HEM/ | - | 2012-03-24 19:00:45 | 
| HTSanalyzeR/ | - | 2012-03-24 19:01:38 | 
| HTqPCR/ | - | 2012-03-24 19:01:31 | 
| Harshlight/ | - | 2012-03-24 19:00:59 | 
| Heatplus/ | - | 2012-03-24 19:00:58 | 
| HilbertVis/ | - | 2012-03-24 19:00:03 | 
| HilbertVisGUI/ | - | 2012-03-24 19:01:22 | 
| IPPD/ | - | 2012-03-24 19:01:41 | 
| IRanges/ | - | 2012-03-24 19:00:41 | 
| ITALICS/ | - | 2012-03-24 19:01:19 | 
| Icens/ | - | 2012-03-24 19:00:42 | 
| IdMappingRetrieval/ | - | 2012-03-24 19:00:28 | 
| IsoGeneGUI/ | - | 2012-03-24 19:01:38 | 
| KCsmart/ | - | 2012-03-24 19:01:21 | 
| KEGGSOAP/ | - | 2012-03-24 19:00:47 | 
| KEGGgraph/ | - | 2012-03-24 19:01:23 | 
| LBE/ | - | 2012-03-24 19:01:05 | 
| LMGene/ | - | 2012-03-24 19:00:53 | 
| LPE/ | - | 2012-03-24 19:00:40 | 
| LPEadj/ | - | 2012-03-24 19:01:18 | 
| LVSmiRNA/ | - | 2012-03-24 19:01:40 | 
| LiquidAssociation/ | - | 2012-03-24 19:01:31 | 
| MANOR/ | - | 2012-03-24 19:00:55 | 
| MBCB/ | - | 2012-03-24 19:01:38 | 
| MCRestimate/ | - | 2012-03-24 19:01:22 | 
| MEDIPS/ | - | 2012-03-24 19:01:41 | 
| MEDME/ | - | 2012-03-24 19:01:20 | 
| MLInterfaces/ | - | 2012-03-24 19:00:47 | 
| MLP/ | - | 2012-03-24 19:01:41 | 
| MSnbase/ | - | 2012-03-24 19:01:44 | 
| MVCClass/ | - | 2012-03-24 19:00:49 | 
| MantelCorr/ | - | 2012-03-24 19:00:55 | 
| MassArray/ | - | 2012-03-24 19:01:34 | 
| MassSpecWavelet/ | - | 2012-03-24 19:01:05 | 
| MeasurementError.cor/ | - | 2012-03-24 19:00:38 | 
| MergeMaid/ | - | 2012-03-24 19:00:47 | 
| Mfuzz/ | - | 2012-03-24 19:00:57 | 
| MiChip/ | - | 2012-03-24 19:01:30 | 
| MiPP/ | - | 2012-03-24 19:00:51 | 
| MmPalateMiRNA/ | - | 2012-03-24 19:01:55 | 
| MotIV/ | - | 2012-03-24 19:01:34 | 
| Mulcom/ | - | 2012-03-24 19:01:39 | 
| NCIgraph/ | - | 2012-03-24 19:01:46 | 
| NTW/ | - | 2012-03-24 19:01:37 | 
| NormqPCR/ | - | 2012-03-24 19:01:50 | 
| NuPoP/ | - | 2012-03-24 19:01:39 | 
| OCplus/ | - | 2012-03-24 19:00:58 | 
| OLIN/ | - | 2012-03-24 19:00:47 | 
| OLINgui/ | - | 2012-03-24 19:00:48 | 
| OTUbase/ | - | 2012-03-24 19:01:39 | 
| OrderedList/ | - | 2012-03-24 19:00:59 | 
| OutlierD/ | - | 2012-03-24 19:01:11 | 
| PAN/ | - | 2012-03-20 19:01:46 | 
| PANR/ | - | 2012-03-24 19:01:52 | 
| PAnnBuilder/ | - | 2012-03-24 19:01:24 | 
| PCpheno/ | - | 2012-03-24 19:01:15 | 
| PGSEA/ | - | 2012-03-24 19:01:05 | 
| PICS/ | - | 2012-03-24 19:01:36 | 
| PLPE/ | - | 2012-03-24 19:01:20 | 
| PREDA/ | - | 2012-03-24 19:01:51 | 
| PROMISE/ | - | 2012-03-24 19:01:36 | 
| PROcess/ | - | 2012-03-24 19:00:42 | 
| PatientGeneSets/ | - | 2012-03-24 19:01:38 | 
| R453Plus1Toolbox/ | - | 2012-03-24 19:01:41 | 
| RBGL/ | - | 2012-03-24 19:00:39 | 
| RBioinf/ | - | 2012-03-24 19:01:17 | 
| RCASPAR/ | - | 2012-03-24 19:01:48 | 
| RCytoscape/ | - | 2012-03-24 19:01:39 | 
| RDRToolbox/ | - | 2012-03-24 19:01:38 | 
| REDseq/ | - | 2012-03-24 19:01:47 | 
| RLMM/ | - | 2012-03-24 19:00:55 | 
| RMAGEML/ | - | 2012-03-24 18:58:30 | 
| RMAPPER/ | - | 2012-03-24 19:01:40 | 
| RNAinteract/ | - | 2012-03-24 19:01:44 | 
| RNAither/ | - | 2012-03-24 19:01:21 | 
| ROC/ | - | 2012-03-24 19:00:35 | 
| RPA/ | - | 2012-03-24 19:01:27 | 
| RTCA/ | - | 2012-03-24 19:01:30 | 
| RTools4TB/ | - | 2012-03-24 19:01:28 | 
| RTopper/ | - | 2012-03-24 19:01:52 | 
| RWebServices/ | - | 2012-03-24 18:58:46 | 
| RamiGO/ | - | 2012-03-24 19:01:49 | 
| RankProd/ | - | 2012-03-24 19:00:50 | 
| RbcBook1/ | - | 2012-03-24 19:01:01 | 
| Rdbi/ | - | 2011-04-20 04:59:18 | 
| RdbiPgSQL/ | - | 2011-04-20 04:57:41 | 
| Rdisop/ | - | 2012-03-24 19:01:13 | 
| ReQON/ | - | 2012-03-24 19:01:55 | 
| ReadqPCR/ | - | 2012-03-24 19:01:49 | 
| RedeR/ | - | 2012-03-24 19:01:49 | 
| RefPlus/ | - | 2012-03-24 19:01:03 | 
| Repitools/ | - | 2012-03-24 19:01:49 | 
| Resourcerer/ | - | 2012-03-24 19:00:43 | 
| Rgraphviz/ | - | 2012-03-24 19:00:37 | 
| Ringo/ | - | 2012-03-24 19:01:05 | 
| Rmagpie/ | - | 2012-03-24 19:01:26 | 
| RmiR/ | - | 2012-03-24 19:01:26 | 
| Rolexa/ | - | 2012-03-24 19:01:27 | 
| RpsiXML/ | - | 2012-03-24 19:01:20 | 
| Rredland/ | - | 2011-09-27 19:01:12 | 
| Rsamtools/ | - | 2012-03-24 19:01:35 | 
| Rsubread/ | - | 2012-03-24 18:59:12 | 
| Rtreemix/ | - | 2012-03-24 19:01:14 | 
| Ruuid/ | - | 2011-06-24 19:22:10 | 
| SAGx/ | - | 2012-03-24 19:01:01 | 
| SBMLR/ | - | 2012-03-24 19:00:49 | 
| SIM/ | - | 2012-03-24 19:01:18 | 
| SJava/ | - | 2012-03-24 18:58:59 | 
| SLGI/ | - | 2012-03-24 19:01:15 | 
| SLqPCR/ | - | 2012-03-24 19:01:05 | 
| SMAP/ | - | 2012-03-24 19:01:11 | 
| SNPchip/ | - | 2012-03-24 19:00:58 | 
| SPIA/ | - | 2012-03-24 19:01:24 | 
| SQUADD/ | - | 2012-03-24 19:01:39 | 
| SRAdb/ | - | 2012-03-24 19:01:36 | 
| SSPA/ | - | 2012-03-24 19:01:25 | 
| SamSPECTRAL/ | - | 2012-03-24 19:01:34 | 
| ScISI/ | - | 2012-03-24 19:00:57 | 
| ShortRead/ | - | 2012-03-24 19:01:18 | 
| SpeCond/ | - | 2012-03-24 19:01:31 | 
| Starr/ | - | 2012-03-24 19:01:29 | 
| Streamer/ | - | 2012-03-24 19:01:50 | 
| TDARACNE/ | - | 2012-03-24 19:01:43 | 
| TEQC/ | - | 2012-03-24 19:01:42 | 
| TSSi/ | - | 2012-03-24 19:01:50 | 
| TargetSearch/ | - | 2012-03-24 19:01:26 | 
| TurboNorm/ | - | 2012-03-24 19:01:42 | 
| TypeInfo/ | - | 2012-03-24 19:00:59 | 
| VanillaICE/ | - | 2012-03-24 19:01:11 | 
| VariantAnnotation/ | - | 2012-03-24 19:01:50 | 
| Vega/ | - | 2012-03-24 19:01:42 | 
| XDE/ | - | 2012-03-24 19:01:15 | 
| a4/ | - | 2012-03-24 19:01:47 | 
| a4Base/ | - | 2012-03-24 19:01:46 | 
| a4Classif/ | - | 2012-03-24 19:01:46 | 
| a4Core/ | - | 2012-03-24 19:01:46 | 
| a4Preproc/ | - | 2012-03-24 19:01:46 | 
| a4Reporting/ | - | 2012-03-24 19:01:46 | 
| aCGH/ | - | 2012-03-24 19:00:45 | 
| adSplit/ | - | 2012-03-24 19:00:58 | 
| affxparser/ | - | 2012-03-24 19:00:54 | 
| affy/ | - | 2012-03-24 19:00:36 | 
| affyContam/ | - | 2012-03-24 19:01:21 | 
| affyILM/ | - | 2012-03-24 19:01:37 | 
| affyPLM/ | - | 2012-03-24 19:00:38 | 
| affyPara/ | - | 2012-03-24 19:01:16 | 
| affyQCReport/ | - | 2012-03-24 19:00:52 | 
| affycomp/ | - | 2012-03-24 19:00:37 | 
| affycoretools/ | - | 2012-03-24 19:00:55 | 
| affyio/ | - | 2012-03-24 19:00:35 | 
| affylmGUI/ | - | 2012-03-24 19:00:42 | 
| affypdnn/ | - | 2012-03-24 19:00:40 | 
| altcdfenvs/ | - | 2012-03-24 19:00:42 | 
| annaffy/ | - | 2012-03-24 19:00:37 | 
| annotate/ | - | 2012-03-24 19:00:34 | 
| annotationTools/ | - | 2012-03-24 19:01:04 | 
| anota/ | - | 2012-03-24 19:01:47 | 
| apComplex/ | - | 2012-03-24 19:00:49 | 
| aroma.light/ | - | 2012-03-24 19:01:00 | 
| arrayMvout/ | - | 2012-03-24 19:01:21 | 
| arrayQuality/ | - | 2012-03-24 19:00:42 | 
| arrayQualityMetrics/ | - | 2012-03-24 19:01:11 | 
| attract/ | - | 2012-03-24 19:01:37 | 
| baySeq/ | - | 2012-03-24 19:01:30 | 
| beadarray/ | - | 2012-03-24 19:00:57 | 
| beadarraySNP/ | - | 2012-03-24 19:01:00 | 
| betr/ | - | 2012-03-24 19:01:25 | 
| bgafun/ | - | 2012-03-24 19:01:12 | 
| bgx/ | - | 2012-03-24 19:01:06 | 
| bioDist/ | - | 2012-03-24 19:00:49 | 
| biocGraph/ | - | 2012-03-24 19:01:11 | 
| biocViews/ | - | 2012-03-24 19:00:55 | 
| biomaRt/ | - | 2012-03-24 19:00:50 | 
| biovizBase/ | - | 2012-03-24 19:01:53 | 
| bridge/ | - | 2012-03-24 19:00:51 | 
| cellHTS/ | - | 2012-03-24 19:00:58 | 
| cellHTS2/ | - | 2012-03-24 19:01:10 | 
| cghMCR/ | - | 2012-03-24 19:00:59 | 
| charm/ | - | 2012-03-24 19:01:34 | 
| chipseq/ | - | 2012-03-24 19:01:26 | 
| chopsticks/ | - | 2012-03-24 19:01:43 | 
| clippda/ | - | 2012-03-24 19:01:30 | 
| clst/ | - | 2012-03-24 19:01:44 | 
| clstutils/ | - | 2012-03-24 19:01:44 | 
| clusterProfiler/ | - | 2012-03-24 19:01:44 | 
| clusterStab/ | - | 2012-03-24 19:00:52 | 
| cn.farms/ | - | 2012-03-24 19:01:45 | 
| cn.mops/ | - | 2012-03-24 19:01:55 | 
| coRNAi/ | - | 2012-03-24 19:01:37 | 
| codelink/ | - | 2012-03-24 19:00:56 | 
| convert/ | - | 2012-03-24 19:00:43 | 
| copa/ | - | 2012-03-24 19:00:58 | 
| cosmo/ | - | 2012-03-24 19:01:03 | 
| cosmoGUI/ | - | 2012-03-24 19:01:04 | 
| cqn/ | - | 2012-03-24 19:01:48 | 
| crlmm/ | - | 2012-03-24 19:01:25 | 
| ctc/ | - | 2012-03-24 19:00:35 | 
| cummeRbund/ | - | 2012-03-24 19:01:53 | 
| cycle/ | - | 2012-03-24 19:01:30 | 
| daMA/ | - | 2012-03-24 19:00:37 | 
| ddCt/ | - | 2012-03-24 19:01:29 | 
| diffGeneAnalysis/ | - | 2012-03-24 19:00:53 | 
| dks/ | - | 2012-03-24 19:01:52 | 
| domainsignatures/ | - | 2012-03-24 19:01:20 | 
| dualKS/ | - | 2012-03-24 19:01:19 | 
| dyebias/ | - | 2012-03-24 19:01:25 | 
| ecolitk/ | - | 2012-03-24 19:00:40 | 
| edd/ | - | 2012-03-24 19:00:35 | 
| edgeR/ | - | 2012-03-24 19:01:20 | 
| eisa/ | - | 2012-03-24 19:01:32 | 
| exomeCopy/ | - | 2012-03-24 19:01:55 | 
| explorase/ | - | 2012-03-24 18:59:54 | 
| externalVector/ | - | 2012-03-24 19:00:38 | 
| fabia/ | - | 2012-03-24 19:01:37 | 
| factDesign/ | - | 2012-03-24 19:00:38 | 
| farms/ | - | 2012-03-24 19:01:39 | 
| fastseg/ | - | 2012-03-24 19:01:56 | 
| fdrame/ | - | 2012-03-24 19:00:53 | 
| flagme/ | - | 2012-03-24 19:01:22 | 
| flowClust/ | - | 2012-03-24 19:01:16 | 
| flowCore/ | - | 2012-03-24 19:01:01 | 
| flowFP/ | - | 2012-03-24 19:01:27 | 
| flowFlowJo/ | - | 2012-03-24 19:01:24 | 
| flowMeans/ | - | 2012-03-24 19:01:36 | 
| flowMerge/ | - | 2012-03-24 19:01:26 | 
| flowPhyto/ | - | 2012-03-24 19:01:42 | 
| flowPlots/ | - | 2012-03-24 19:01:45 | 
| flowQ/ | - | 2012-03-24 19:01:01 | 
| flowStats/ | - | 2012-03-24 19:01:26 | 
| flowTrans/ | - | 2012-03-24 19:01:36 | 
| flowType/ | - | 2012-03-24 19:01:49 | 
| flowUtils/ | - | 2012-03-24 19:01:01 | 
| flowViz/ | - | 2012-03-24 19:01:02 | 
| flowWorkspace/ | - | 2012-03-24 19:01:47 | 
| frma/ | - | 2012-03-24 19:01:32 | 
| frmaTools/ | - | 2012-03-24 19:01:32 | 
| gaga/ | - | 2012-03-24 19:01:14 | 
| gage/ | - | 2012-03-24 19:01:40 | 
| gaggle/ | - | 2012-03-24 19:00:59 | 
| gaia/ | - | 2012-03-24 19:01:41 | 
| gcrma/ | - | 2012-03-24 19:00:37 | 
| genArise/ | - | 2012-03-24 19:00:47 | 
| gene2pathway/ | - | 2012-03-24 19:01:23 | 
| geneRecommender/ | - | 2012-03-24 19:00:51 | 
| genefilter/ | - | 2012-03-24 19:00:35 | 
| genefu/ | - | 2012-03-24 19:01:45 | 
| geneplotter/ | - | 2012-03-24 19:00:35 | 
| genoCN/ | - | 2012-03-24 19:01:34 | 
| genomeIntervals/ | - | 2012-03-24 19:01:24 | 
| genomes/ | - | 2012-03-24 19:01:37 | 
| genoset/ | - | 2012-03-24 19:01:46 | 
| ggbio/ | - | 2012-03-24 19:01:54 | 
| girafe/ | - | 2012-03-24 19:01:35 | 
| globaltest/ | - | 2012-03-24 19:00:47 | 
| goProfiles/ | - | 2012-03-24 19:01:18 | 
| goTools/ | - | 2012-03-24 19:00:42 | 
| goseq/ | - | 2012-03-24 19:01:36 | 
| gpls/ | - | 2012-03-24 19:00:38 | 
| graph/ | - | 2012-03-24 19:00:36 | 
| graphite/ | - | 2012-03-24 19:01:52 | 
| hexbin/ | - | 2011-11-08 20:05:44 | 
| hopach/ | - | 2012-03-24 19:00:48 | 
| htSeqTools/ | - | 2012-03-24 19:01:49 | 
| hyperdraw/ | - | 2012-03-24 19:01:33 | 
| hypergraph/ | - | 2012-03-24 19:00:51 | 
| iChip/ | - | 2012-03-24 19:01:33 | 
| iFlow/ | - | 2012-03-24 19:01:32 | 
| iSeq/ | - | 2012-03-24 19:01:40 | 
| ibh/ | - | 2012-03-24 19:01:44 | 
| idiogram/ | - | 2012-03-24 19:00:51 | 
| imageHTS/ | - | 2012-03-24 19:00:18 | 
| impute/ | - | 2012-03-24 19:00:42 | 
| inSilicoDb/ | - | 2012-03-24 19:01:48 | 
| inveRsion/ | - | 2012-03-24 19:01:44 | 
| iontree/ | - | 2012-03-24 19:00:29 | 
| isobar/ | - | 2012-03-24 19:01:55 | 
| iterativeBMA/ | - | 2012-03-24 19:01:19 | 
| iterativeBMAsurv/ | - | 2012-03-24 19:01:19 | 
| joda/ | - | 2012-03-24 19:01:44 | 
| keggorthology/ | - | 2012-03-24 19:01:11 | 
| lapmix/ | - | 2012-03-24 19:01:00 | 
| les/ | - | 2012-03-24 19:01:39 | 
| limma/ | - | 2012-03-24 19:00:37 | 
| limmaGUI/ | - | 2012-03-24 19:00:43 | 
| logicFS/ | - | 2012-03-24 18:59:41 | 
| logitT/ | - | 2012-03-24 19:01:20 | 
| lol/ | - | 2012-03-24 19:01:46 | 
| lumi/ | - | 2012-03-24 19:01:04 | 
| mBPCR/ | - | 2012-03-24 19:01:29 | 
| maCorrPlot/ | - | 2012-03-24 19:00:58 | 
| maDB/ | - | 2012-03-24 19:00:52 | 
| maSigPro/ | - | 2012-03-24 19:00:55 | 
| maanova/ | - | 2012-03-24 19:00:53 | 
| macat/ | - | 2012-03-24 19:00:49 | 
| made4/ | - | 2012-03-24 19:00:50 | 
| maigesPack/ | - | 2012-03-24 19:01:12 | 
| makePlatformDesign/ | - | 2011-04-20 04:59:23 | 
| makecdfenv/ | - | 2012-03-24 19:00:36 | 
| marray/ | - | 2012-03-24 19:00:43 | 
| mcaGUI/ | - | 2012-03-24 19:01:45 | 
| mdqc/ | - | 2012-03-24 19:01:15 | 
| metaArray/ | - | 2012-03-24 19:00:56 | 
| metahdep/ | - | 2012-03-24 19:01:24 | 
| methVisual/ | - | 2012-03-24 19:01:33 | 
| methylumi/ | - | 2012-03-24 19:01:26 | 
| mgsa/ | - | 2012-03-24 19:01:42 | 
| miRNApath/ | - | 2012-03-24 19:01:19 | 
| microRNA/ | - | 2012-03-24 19:01:20 | 
| minet/ | - | 2012-03-24 19:01:19 | 
| minfi/ | - | 2012-03-24 19:01:54 | 
| mosaics/ | - | 2012-03-24 19:01:43 | 
| multiscan/ | - | 2012-03-24 19:01:19 | 
| multtest/ | - | 2012-03-24 19:00:35 | 
| mzR/ | - | 2012-03-24 19:01:51 | 
| ncdfFlow/ | - | 2012-03-24 19:01:55 | 
| nem/ | - | 2012-03-24 19:01:01 | 
| netresponse/ | - | 2012-03-24 19:01:39 | 
| nnNorm/ | - | 2012-03-24 19:00:47 | 
| nucleR/ | - | 2012-03-24 19:01:50 | 
| nudge/ | - | 2012-03-24 19:00:59 | 
| occugene/ | - | 2012-03-24 19:01:03 | 
| oligo/ | - | 2012-03-24 19:00:52 | 
| oligoClasses/ | - | 2012-03-24 19:01:11 | 
| oneChannelGUI/ | - | 2012-03-24 19:01:06 | 
| ontoCAT/ | - | 2012-03-24 19:01:40 | 
| ontoTools/ | - | 2012-03-24 19:00:38 | 
| pamr/ | - | 2011-10-26 19:06:03 | 
| panp/ | - | 2012-03-24 19:00:55 | 
| parody/ | - | 2012-03-24 19:01:21 | 
| pathRender/ | - | 2012-03-24 19:00:56 | 
| pcaMethods/ | - | 2012-03-24 19:01:01 | 
| pcot2/ | - | 2012-03-24 19:01:00 | 
| pdInfoBuilder/ | - | 2012-03-24 19:01:04 | 
| pdmclass/ | - | 2012-03-24 19:00:52 | 
| pgUtils/ | - | 2012-03-24 19:00:52 | 
| phenoDist/ | - | 2012-03-24 19:00:20 | 
| phenoTest/ | - | 2012-03-24 19:01:43 | 
| pickgene/ | - | 2012-03-24 19:00:40 | 
| pint/ | - | 2012-03-24 19:01:33 | 
| pkgDepTools/ | - | 2012-03-24 19:01:00 | 
| plateCore/ | - | 2012-03-24 19:01:30 | 
| plgem/ | - | 2012-03-24 19:00:50 | 
| plier/ | - | 2012-03-24 19:00:49 | 
| plw/ | - | 2012-03-24 19:01:14 | 
| ppiStats/ | - | 2012-03-24 19:01:01 | 
| prada/ | - | 2012-03-24 19:00:43 | 
| predictionet/ | - | 2012-03-24 19:01:54 | 
| preprocessCore/ | - | 2012-03-24 19:00:36 | 
| procoil/ | - | 2012-03-24 19:01:44 | 
| puma/ | - | 2012-03-24 19:01:07 | 
| pvac/ | - | 2012-03-24 19:01:44 | 
| qpcrNorm/ | - | 2012-03-24 19:01:25 | 
| qpgraph/ | - | 2012-03-24 19:01:23 | 
| qrqc/ | - | 2012-03-24 19:01:46 | 
| qtbase/ | - | 2012-03-03 20:01:38 | 
| qtpaint/ | - | 2012-03-12 18:08:16 | 
| quantsmooth/ | - | 2012-03-24 19:00:59 | 
| qvalue/ | - | 2012-03-24 19:00:41 | 
| r3Cseq/ | - | 2012-03-24 19:01:54 | 
| rGADEM/ | - | 2012-03-24 19:01:33 | 
| rHVDM/ | - | 2012-03-24 19:01:05 | 
| rMAT/ | - | 2012-03-24 19:01:25 | 
| rama/ | - | 2012-03-24 19:00:42 | 
| randPack/ | - | 2012-03-24 19:01:48 | 
| rbsurv/ | - | 2012-03-24 19:01:06 | 
| reb/ | - | 2012-03-24 19:00:53 | 
| rflowcyt/ | - | 2011-04-21 04:58:23 | 
| rnaSeqMap/ | - | 2012-03-24 19:01:40 | 
| rqubic/ | - | 2012-03-24 19:01:51 | 
| rsbml/ | - | 2012-03-24 19:01:12 | 
| rtracklayer/ | - | 2012-03-24 19:01:17 | 
| safe/ | - | 2012-03-24 19:00:50 | 
| sagenhaft/ | - | 2012-03-24 19:00:49 | 
| segmentSeq/ | - | 2012-03-24 19:01:34 | 
| seqLogo/ | - | 2012-03-24 19:01:04 | 
| seqbias/ | - | 2012-03-24 19:01:42 | 
| sigPathway/ | - | 2012-03-24 19:00:59 | 
| siggenes/ | - | 2012-03-24 19:00:37 | 
| simpleaffy/ | - | 2012-03-24 19:00:40 | 
| simulatorAPMS/ | - | 2011-04-21 04:58:28 | 
| sizepower/ | - | 2012-03-24 19:00:58 | 
| snapCGH/ | - | 2012-03-24 19:00:56 | 
| snm/ | - | 2012-03-24 19:01:41 | 
| snpMatrix/ | - | 2011-11-15 20:05:46 | 
| snpStats/ | - | 2012-03-24 19:01:16 | 
| spikeLI/ | - | 2012-03-24 19:01:00 | 
| spkTools/ | - | 2012-03-24 19:01:23 | 
| splicegear/ | - | 2012-03-24 19:00:37 | 
| splots/ | - | 2012-03-24 19:01:00 | 
| spotSegmentation/ | - | 2012-03-24 19:00:50 | 
| sscore/ | - | 2012-03-24 19:00:57 | 
| ssize/ | - | 2012-03-24 19:00:51 | 
| stepNorm/ | - | 2012-03-24 19:00:49 | 
| stepwiseCM/ | - | 2012-03-24 19:01:54 | 
| survcomp/ | - | 2012-03-24 19:01:46 | 
| sva/ | - | 2012-03-24 19:01:54 | 
| tigre/ | - | 2012-03-24 19:01:35 | 
| tilingArray/ | - | 2012-03-24 19:00:50 | 
| timecourse/ | - | 2012-03-24 19:00:53 | 
| tkWidgets/ | - | 2012-03-24 19:00:35 | 
| topGO/ | - | 2012-03-24 19:01:04 | 
| trigger/ | - | 2012-03-24 19:01:56 | 
| tspair/ | - | 2012-03-24 19:01:24 | 
| tweeDEseq/ | - | 2012-03-24 19:01:55 | 
| twilight/ | - | 2012-03-24 19:00:48 | 
| vbmp/ | - | 2012-03-24 19:01:11 | 
| vsn/ | - | 2012-03-24 19:00:36 | 
| weaver/ | - | 2012-03-24 19:01:52 | 
| webbioc/ | - | 2012-03-24 19:00:40 | 
| widgetTools/ | - | 2012-03-24 19:00:37 | 
| xcms/ | - | 2012-03-24 19:00:50 | 
| xmapbridge/ | - | 2012-03-24 19:01:21 | 
| xmapcore/ | - | 2012-03-24 19:01:37 | 
| xps/ | - | 2012-03-24 19:01:13 | 
| yaqcaffy/ | - | 2012-03-24 19:01:12 | 
| zlibbioc/ | - | 2012-03-24 19:01:47 | 
| STATUS_DB.txt | 114.1 KiB | 2012-03-24 18:58:29 | 
| gewurz-NodeInfo.html | 5.0 KiB | 2012-01-09 20:07:02 | 
| gewurz-R-instpkgs.html | 53.4 KiB | 2012-01-09 20:07:02 | 
| gewurz-index.html | 358.8 KiB | 2012-01-09 20:06:52 | 
| index.html | 1.3 MiB | 2012-03-24 19:02:14 | 
| liverpool-NodeInfo.html | 4.7 KiB | 2012-01-09 20:07:02 | 
| liverpool-R-instpkgs.html | 54.4 KiB | 2012-01-09 20:07:02 | 
| liverpool-index.html | 371.3 KiB | 2012-01-09 20:06:46 | 
| meat-index.txt | 99.7 KiB | 2012-03-24 18:58:26 | 
| moscato1-NodeInfo.html | 4.8 KiB | 2012-03-24 19:02:06 | 
| moscato1-R-instpkgs.html | 57.8 KiB | 2012-03-24 19:02:06 | 
| moscato1-index.html | 365.7 KiB | 2012-03-24 19:02:03 | 
| pelham-NodeInfo.html | 5.0 KiB | 2011-06-22 19:08:25 | 
| pelham-R-instpkgs.html | 52.2 KiB | 2011-06-22 19:08:25 | 
| pelham-index.html | 335.4 KiB | 2011-06-22 19:08:25 | 
| pitt-NodeInfo.html | 4.9 KiB | 2012-03-24 19:02:07 | 
| pitt-R-instpkgs.html | 55.9 KiB | 2012-03-24 19:02:07 | 
| pitt-index.html | 354.4 KiB | 2012-03-24 19:02:06 | 
| report.css | 6.5 KiB | 2012-03-24 18:58:29 | 
| report.js | 3.9 KiB | 2012-03-24 18:58:29 | 
| report.tgz | 3.0 MiB | 2012-03-24 19:02:15 | 
| wilson2-NodeInfo.html | 4.8 KiB | 2012-03-24 19:02:06 | 
| wilson2-R-instpkgs.html | 58.1 KiB | 2012-03-24 19:02:06 | 
| wilson2-index.html | 319.7 KiB | 2012-03-24 19:01:59 |