| iSeq 1.5.0 Qianxing Mo
 
 | Snapshot Date: 2011-07-06 19:21:50 -0700 (Wed, 06 Jul 2011) |  | URL: https://hedgehog.fhcrc.org/bioconductor/trunk/madman/Rpacks/iSeq |  | Last Changed Rev: 54810 / Revision: 56603 |  | Last Changed Date: 2011-04-13 18:14:51 -0700 (Wed, 13 Apr 2011) | 
 | wilson2 | Linux (openSUSE 11.4) / x86_64 | OK | OK |  | 
| liverpool | Windows Server 2003 R2 (32-bit) / x64 | OK | OK | [ OK ] | 
| gewurz | Windows Server 2008 R2 Enterprise (64-bit) / x64 | OK | OK | OK | 
| moscato1 | Windows Server 2008 R2 Enterprise (64-bit) / x64 | OK | OK | OK | 
| pitt | Mac OS X Leopard (10.5.8) / i386 | OK | OK | OK | 
* installing *source* package 'iSeq' ...
** libs
gcc  -I"E:/biocbld/bbs-2.9-bioc/R/include"          -O3 -Wall  -std=gnu99 -c iSeq.c -o iSeq.o
iSeq.c: In function 'iSeq1':
iSeq.c:208:20: warning: unused variable 'j'
gcc -shared -s -static-libgcc -o iSeq.dll tmp.def iSeq.o -LE:/biocbld/bbs-2.9-bioc/R/bin/i386 -lR
installing to E:/biocbld/bbs-2.9-bioc/meat/iSeq.buildbin-libdir/iSeq/libs/i386
** R
** data
**  moving datasets to lazyload DB
** demo
** inst
** preparing package for lazy loading
** help
*** installing help indices
** building package indices ...
*** tangling vignette sources ...
   'iSeq.Rnw' 
** testing if installed package can be loaded
* MD5 sums
packaged installation of 'iSeq' as iSeq_1.5.0.zip
* DONE (iSeq)