| lumi 2.5.1 Pan Du
 
 | Snapshot Date: 2011-05-09 07:20:56 -0700 (Mon, 09 May 2011) |  | URL: https://hedgehog.fhcrc.org/bioconductor/trunk/madman/Rpacks/lumi |  | Last Changed Rev: 55052 / Revision: 55359 |  | Last Changed Date: 2011-04-23 17:59:02 -0700 (Sat, 23 Apr 2011) | 
 | wilson2 | Linux (openSUSE 11.4) / x86_64 | OK | OK |  | 
| liverpool | Windows Server 2003 R2 (32-bit) / x64 | OK | OK | OK | 
| gewurz | Windows Server 2008 R2 Enterprise (64-bit) / x64 | [ OK ] | OK | OK | 
| pelham | Mac OS X Leopard (10.5.8) / i386 | OK | OK | OK | 
* checking for file 'lumi/DESCRIPTION' ... OK
* preparing 'lumi':
* checking DESCRIPTION meta-information ... OK
* installing the package to re-build vignettes
* creating vignettes ... OK
* excluding invalid files
Subdirectory 'R' contains invalid file names:
  'affyExpresso.R.deprecated' 'affyVstRma.R.deprecated'
Subdirectory 'man' contains invalid file names:
  'affyExpresso.Rd.deprecated' 'affyVstRma.Rd.deprecated'
* checking for LF line-endings in source and make files
* checking for empty or unneeded directories
* looking to see if a 'data/datalist' file should be added
* building 'lumi_2.5.1.tar.gz'