Biobase 2.13.2 Biocore Team c/o BioC user list
 | Snapshot Date: 2011-05-09 07:20:56 -0700 (Mon, 09 May 2011) |  | URL: https://hedgehog.fhcrc.org/bioconductor/trunk/madman/Rpacks/Biobase |  | Last Changed Rev: 55198 / Revision: 55359 |  | Last Changed Date: 2011-05-01 23:56:27 -0700 (Sun, 01 May 2011) |  
  | wilson2  | Linux (openSUSE 11.4) / x86_64  |  OK  |  WARNINGS  |  | 
| liverpool  | Windows Server 2003 R2 (32-bit) / x64  |  OK  |  WARNINGS  | [ OK ] | 
| gewurz  | Windows Server 2008 R2 Enterprise (64-bit) / x64  |  OK  |  WARNINGS  |  OK  | 
| pelham  | Mac OS X Leopard (10.5.8) / i386  |  OK  |  WARNINGS  |  OK  | 
* installing *source* package 'Biobase' ...
** libs
gcc  -I"E:/biocbld/bbs-2.9-bioc/R/include"          -O3 -Wall  -std=gnu99 -c Rinit.c -o Rinit.o
gcc  -I"E:/biocbld/bbs-2.9-bioc/R/include"          -O3 -Wall  -std=gnu99 -c anyMissing.c -o anyMissing.o
gcc  -I"E:/biocbld/bbs-2.9-bioc/R/include"          -O3 -Wall  -std=gnu99 -c envir.c -o envir.o
gcc  -I"E:/biocbld/bbs-2.9-bioc/R/include"          -O3 -Wall  -std=gnu99 -c matchpt.c -o matchpt.o
gcc  -I"E:/biocbld/bbs-2.9-bioc/R/include"          -O3 -Wall  -std=gnu99 -c rowMedians.c -o rowMedians.o
gcc  -I"E:/biocbld/bbs-2.9-bioc/R/include"          -O3 -Wall  -std=gnu99 -c sublist_extract.c -o sublist_extract.o
gcc -shared -s -static-libgcc -o Biobase.dll tmp.def Rinit.o anyMissing.o envir.o matchpt.o rowMedians.o sublist_extract.o -LE:/biocbld/bbs-2.9-bioc/R/bin/i386 -lR
installing to E:/biocbld/bbs-2.9-bioc/meat/Biobase.buildbin-libdir/Biobase/libs/i386
** R
** data
** inst
** preparing package for lazy loading
** help
*** installing help indices
** building package indices ...
*** tangling vignette sources ...
   'BiobaseDevelopment.Rnw' 
   'Bioconductor.Rnw' 
   'ExpressionSetIntroduction.Rnw' 
   'HowTo.Rnw' 
   'Qviews.Rnw' 
   'esApply.Rnw' 
** testing if installed package can be loaded
* MD5 sums
packaged installation of 'Biobase' as Biobase_2.13.2.zip
* DONE (Biobase)