All our mirrors of open source software are available via http, https, ftp and an onion service. More information about our mirrors including statistics and contact information is available on our mirror info pages.
For information about dotsrc.org and our other services please go to our website.
| File Name ↓ | File Size ↓ | Date ↓ |
|---|---|---|
| Parent directory/ | - | - |
| ABarray/ | - | 2011-05-10 23:02:52 |
| ACME/ | - | 2011-05-10 23:02:44 |
| ADaCGH2/ | - | 2011-05-10 23:02:50 |
| AffyCompatible/ | - | 2011-05-10 23:02:44 |
| AffyExpress/ | - | 2011-05-10 23:02:54 |
| AffyTiling/ | - | 2011-05-10 23:02:52 |
| Agi4x44PreProcess/ | - | 2011-05-10 23:02:55 |
| AgiMicroRna/ | - | 2011-05-10 23:02:51 |
| AnnotationDbi/ | - | 2011-05-10 23:02:50 |
| AnnotationFuncs/ | - | 2011-05-10 23:02:49 |
| ArrayExpress/ | - | 2011-05-10 23:02:53 |
| ArrayExpressHTS/ | - | 2011-05-10 23:02:55 |
| ArrayTools/ | - | 2011-05-10 23:02:54 |
| BAC/ | - | 2011-05-10 23:02:47 |
| BCRANK/ | - | 2011-05-10 23:02:45 |
| BGmix/ | - | 2011-05-10 23:02:49 |
| BHC/ | - | 2011-05-10 23:02:49 |
| BSgenome/ | - | 2011-05-10 23:02:53 |
| BUS/ | - | 2011-05-10 23:02:49 |
| BayesPeak/ | - | 2011-05-10 23:02:47 |
| BeadDataPackR/ | - | 2011-05-10 23:02:54 |
| BicARE/ | - | 2011-05-10 23:02:46 |
| BioMVCClass/ | - | 2011-05-10 23:02:46 |
| BioNet/ | - | 2011-05-10 23:02:47 |
| BioSeqClass/ | - | 2011-05-10 23:02:46 |
| Biobase/ | - | 2011-05-10 23:02:51 |
| BiocCaseStudies/ | - | 2011-05-10 23:02:55 |
| Bioconductor/ | - | 2011-05-10 23:02:46 |
| Biostrings/ | - | 2011-05-10 23:02:55 |
| BufferedMatrix/ | - | 2011-05-10 23:02:44 |
| BufferedMatrixMethods/ | - | 2011-05-10 23:02:49 |
| CALIB/ | - | 2011-05-10 23:02:56 |
| CAMERA/ | - | 2011-05-10 23:02:55 |
| CGEN/ | - | 2011-05-10 23:02:51 |
| CGHbase/ | - | 2011-05-10 23:02:44 |
| CGHcall/ | - | 2011-05-10 23:02:52 |
| CGHnormaliter/ | - | 2011-05-10 23:02:51 |
| CGHregions/ | - | 2011-05-10 23:02:44 |
| CMA/ | - | 2011-05-10 23:02:44 |
| CNTools/ | - | 2011-05-10 23:02:55 |
| CNVtools/ | - | 2011-05-10 23:02:45 |
| CORREP/ | - | 2011-05-10 23:02:51 |
| CRImage/ | - | 2011-05-10 23:02:54 |
| CSAR/ | - | 2011-05-10 23:02:51 |
| Category/ | - | 2011-05-10 23:02:54 |
| ChIPpeakAnno/ | - | 2011-05-10 23:02:52 |
| ChIPseqR/ | - | 2011-05-10 23:02:52 |
| ChIPsim/ | - | 2011-05-10 23:02:50 |
| ChemmineR/ | - | 2011-05-10 23:02:46 |
| ChromHeatMap/ | - | 2011-05-10 23:02:56 |
| Clonality/ | - | 2011-05-10 23:02:48 |
| CoCiteStats/ | - | 2011-05-10 23:02:47 |
| CoGAPS/ | - | 2011-05-10 23:02:48 |
| ConsensusClusterPlus/ | - | 2011-05-10 23:02:46 |
| DAVIDQuery/ | - | 2011-05-10 23:02:52 |
| DEDS/ | - | 2011-05-10 23:02:49 |
| DEGraph/ | - | 2011-05-10 23:02:51 |
| DEGseq/ | - | 2011-05-10 23:02:51 |
| DESeq/ | - | 2011-05-10 23:02:48 |
| DFP/ | - | 2011-05-10 23:02:46 |
| DNAcopy/ | - | 2011-05-10 23:02:48 |
| DynDoc/ | - | 2011-05-10 23:02:44 |
| EBImage/ | - | 2011-05-10 23:02:50 |
| EBarrays/ | - | 2011-05-10 23:02:50 |
| ENVISIONQuery/ | - | 2011-05-10 23:02:55 |
| ExiMiR/ | - | 2011-05-10 23:02:55 |
| ExpressionView/ | - | 2011-05-10 23:02:45 |
| GEOmetadb/ | - | 2011-05-10 23:02:52 |
| GEOquery/ | - | 2011-05-10 23:02:52 |
| GEOsubmission/ | - | 2011-05-10 23:02:50 |
| GGBase/ | - | 2011-05-10 23:02:45 |
| GGtools/ | - | 2011-05-10 23:02:49 |
| GLAD/ | - | 2011-05-10 23:02:46 |
| GOSemSim/ | - | 2011-05-10 23:02:48 |
| GOstats/ | - | 2011-05-10 23:02:48 |
| GSEABase/ | - | 2011-05-10 23:02:46 |
| GSEAlm/ | - | 2011-05-10 23:02:45 |
| GSRI/ | - | 2011-05-10 23:02:51 |
| GSVA/ | - | 2011-05-10 23:02:46 |
| GeneAnswers/ | - | 2011-05-10 23:02:54 |
| GeneGA/ | - | 2011-05-10 23:02:49 |
| GeneMeta/ | - | 2011-05-10 23:02:47 |
| GeneR/ | - | 2011-05-10 23:02:46 |
| GeneRegionScan/ | - | 2011-05-10 23:02:55 |
| GeneRfold/ | - | 2011-05-10 23:02:45 |
| GeneSelectMMD/ | - | 2011-05-10 23:02:44 |
| GeneSelector/ | - | 2011-05-10 23:02:56 |
| GeneSpring/ | - | 2011-05-10 23:02:55 |
| GeneTraffic/ | - | 2011-05-10 23:02:50 |
| GeneticsDesign/ | - | 2011-05-10 23:02:49 |
| GeneticsPed/ | - | 2011-05-10 23:02:50 |
| GenomeGraphs/ | - | 2011-05-10 23:02:51 |
| GenomicFeatures/ | - | 2011-05-10 23:02:44 |
| GenomicRanges/ | - | 2011-05-10 23:02:54 |
| Genominator/ | - | 2011-05-10 23:02:52 |
| GlobalAncova/ | - | 2011-05-10 23:02:54 |
| GraphAT/ | - | 2011-05-10 23:02:55 |
| GraphAlignment/ | - | 2011-05-10 23:02:55 |
| HELP/ | - | 2011-05-10 23:02:46 |
| HEM/ | - | 2011-05-10 23:02:50 |
| HTSanalyzeR/ | - | 2011-05-10 23:02:55 |
| HTqPCR/ | - | 2011-05-10 23:02:44 |
| Harshlight/ | - | 2011-05-10 23:02:54 |
| Heatplus/ | - | 2011-05-10 23:02:50 |
| HilbertVis/ | - | 2011-05-10 23:02:45 |
| HilbertVisGUI/ | - | 2011-05-10 23:02:56 |
| IPPD/ | - | 2011-05-10 23:02:47 |
| IRanges/ | - | 2011-05-10 23:02:50 |
| ITALICS/ | - | 2011-05-10 23:02:50 |
| Icens/ | - | 2011-05-10 23:02:52 |
| IsoGeneGUI/ | - | 2011-05-10 23:02:51 |
| KCsmart/ | - | 2011-05-10 23:02:49 |
| KEGGSOAP/ | - | 2011-05-10 23:02:51 |
| KEGGgraph/ | - | 2011-05-10 23:02:55 |
| LBE/ | - | 2011-05-10 23:02:44 |
| LMGene/ | - | 2011-05-10 23:02:53 |
| LPE/ | - | 2011-05-10 23:02:51 |
| LPEadj/ | - | 2011-05-10 23:02:47 |
| LVSmiRNA/ | - | 2011-05-10 23:02:52 |
| LiquidAssociation/ | - | 2011-05-10 23:02:54 |
| MANOR/ | - | 2011-05-10 23:02:48 |
| MBCB/ | - | 2011-05-10 23:02:53 |
| MCRestimate/ | - | 2011-05-10 23:02:50 |
| MEDIPS/ | - | 2011-05-10 23:02:56 |
| MEDME/ | - | 2011-05-10 23:02:51 |
| MLInterfaces/ | - | 2011-05-10 23:02:49 |
| MLP/ | - | 2011-05-10 23:02:53 |
| MSnbase/ | - | 2011-05-10 23:02:52 |
| MVCClass/ | - | 2011-05-10 23:02:46 |
| MantelCorr/ | - | 2011-05-10 23:02:46 |
| MassArray/ | - | 2011-05-10 23:02:48 |
| MassSpecWavelet/ | - | 2011-05-10 23:02:55 |
| MeasurementError.cor/ | - | 2011-05-10 23:02:50 |
| MergeMaid/ | - | 2011-05-10 23:02:48 |
| Mfuzz/ | - | 2011-05-10 23:02:50 |
| MiChip/ | - | 2011-05-10 23:02:56 |
| MiPP/ | - | 2011-05-10 23:02:50 |
| MotIV/ | - | 2011-05-10 23:02:55 |
| Mulcom/ | - | 2011-05-10 23:02:46 |
| NCIgraph/ | - | 2011-05-10 23:02:52 |
| NTW/ | - | 2011-05-10 23:02:44 |
| NuPoP/ | - | 2011-05-10 23:02:47 |
| OCplus/ | - | 2011-05-10 23:02:53 |
| OLIN/ | - | 2011-05-10 23:02:55 |
| OLINgui/ | - | 2011-05-10 23:02:51 |
| OTUbase/ | - | 2011-05-10 23:02:45 |
| OrderedList/ | - | 2011-05-10 23:02:51 |
| OutlierD/ | - | 2011-05-10 23:02:51 |
| PAnnBuilder/ | - | 2011-05-10 23:02:52 |
| PCpheno/ | - | 2011-05-10 23:02:54 |
| PGSEA/ | - | 2011-05-10 23:02:53 |
| PICS/ | - | 2011-05-10 23:02:51 |
| PLPE/ | - | 2011-05-10 23:02:45 |
| PROMISE/ | - | 2011-05-10 23:02:53 |
| PROcess/ | - | 2011-05-10 23:02:50 |
| PatientGeneSets/ | - | 2011-05-10 23:02:44 |
| R453Plus1Toolbox/ | - | 2011-05-10 23:02:50 |
| RBGL/ | - | 2011-05-10 23:02:53 |
| RBioinf/ | - | 2011-05-10 23:02:47 |
| RCytoscape/ | - | 2011-05-10 23:02:49 |
| RDRToolbox/ | - | 2011-05-10 23:02:47 |
| RLMM/ | - | 2011-05-10 23:02:54 |
| RMAGEML/ | - | 2011-05-10 23:02:47 |
| RMAPPER/ | - | 2011-05-10 23:02:45 |
| RNAinteract/ | - | 2011-05-10 23:02:44 |
| RNAither/ | - | 2011-05-10 23:02:45 |
| ROC/ | - | 2011-05-10 23:02:51 |
| RPA/ | - | 2011-05-10 23:02:54 |
| RTCA/ | - | 2011-05-10 23:02:48 |
| RTools4TB/ | - | 2011-05-10 23:02:55 |
| RWebServices/ | - | 2011-05-10 23:02:50 |
| RankProd/ | - | 2011-05-10 23:02:55 |
| RbcBook1/ | - | 2011-05-10 23:02:55 |
| Rdbi/ | - | 2011-05-10 23:02:50 |
| RdbiPgSQL/ | - | 2011-05-10 23:02:49 |
| Rdisop/ | - | 2011-05-10 23:02:56 |
| RefPlus/ | - | 2011-05-10 23:02:54 |
| Resourcerer/ | - | 2011-05-10 23:02:54 |
| Rgraphviz/ | - | 2011-05-10 23:02:53 |
| Ringo/ | - | 2011-05-10 23:02:55 |
| Rmagpie/ | - | 2011-05-10 23:02:46 |
| RmiR/ | - | 2011-05-10 23:02:52 |
| Rolexa/ | - | 2011-05-10 23:02:44 |
| RpsiXML/ | - | 2011-05-10 23:02:45 |
| Rredland/ | - | 2011-05-10 23:02:52 |
| Rsamtools/ | - | 2011-05-10 23:02:48 |
| Rsubread/ | - | 2011-05-10 23:02:53 |
| Rtreemix/ | - | 2011-05-10 23:02:50 |
| Ruuid/ | - | 2011-05-10 23:02:46 |
| SAGx/ | - | 2011-05-10 23:02:53 |
| SBMLR/ | - | 2011-05-10 23:02:44 |
| SIM/ | - | 2011-05-10 23:02:52 |
| SJava/ | - | 2011-05-10 23:02:53 |
| SLGI/ | - | 2011-05-10 23:02:55 |
| SLqPCR/ | - | 2011-05-10 23:02:48 |
| SMAP/ | - | 2011-05-10 23:02:45 |
| SNPchip/ | - | 2011-05-10 23:02:56 |
| SPIA/ | - | 2011-05-10 23:02:52 |
| SQUADD/ | - | 2011-05-10 23:02:55 |
| SRAdb/ | - | 2011-05-10 23:02:52 |
| SSPA/ | - | 2011-05-10 23:02:53 |
| SamSPECTRAL/ | - | 2011-05-10 23:02:52 |
| ScISI/ | - | 2011-05-10 23:02:46 |
| ShortRead/ | - | 2011-05-10 23:02:53 |
| SpeCond/ | - | 2011-05-10 23:02:51 |
| Starr/ | - | 2011-05-10 23:02:56 |
| TDARACNE/ | - | 2011-05-10 23:02:44 |
| TEQC/ | - | 2011-05-10 23:02:53 |
| TargetSearch/ | - | 2011-05-10 23:02:49 |
| TurboNorm/ | - | 2011-05-10 23:02:54 |
| TypeInfo/ | - | 2011-05-10 23:02:46 |
| VanillaICE/ | - | 2011-05-10 23:02:52 |
| Vega/ | - | 2011-05-10 23:02:46 |
| XDE/ | - | 2011-05-10 23:02:56 |
| a4/ | - | 2011-05-10 23:02:47 |
| a4Base/ | - | 2011-05-10 23:02:49 |
| a4Classif/ | - | 2011-05-10 23:02:47 |
| a4Core/ | - | 2011-05-10 23:02:55 |
| a4Preproc/ | - | 2011-05-10 23:02:47 |
| a4Reporting/ | - | 2011-05-10 23:02:45 |
| aCGH/ | - | 2011-05-10 23:02:47 |
| adSplit/ | - | 2011-05-10 23:02:45 |
| affxparser/ | - | 2011-05-10 23:02:48 |
| affy/ | - | 2011-05-10 23:02:52 |
| affyContam/ | - | 2011-05-10 23:02:55 |
| affyILM/ | - | 2011-05-10 23:02:51 |
| affyPLM/ | - | 2011-05-10 23:02:54 |
| affyPara/ | - | 2011-05-10 23:02:54 |
| affyQCReport/ | - | 2011-05-10 23:02:48 |
| affycomp/ | - | 2011-05-10 23:02:48 |
| affycoretools/ | - | 2011-05-10 23:02:46 |
| affyio/ | - | 2011-05-10 23:02:45 |
| affylmGUI/ | - | 2011-05-10 23:02:45 |
| affypdnn/ | - | 2011-05-10 23:02:48 |
| altcdfenvs/ | - | 2011-05-10 23:02:56 |
| annaffy/ | - | 2011-05-10 23:02:45 |
| annotate/ | - | 2011-05-10 23:02:53 |
| annotationTools/ | - | 2011-05-10 23:02:53 |
| anota/ | - | 2011-05-10 23:02:48 |
| apComplex/ | - | 2011-05-10 23:02:51 |
| aroma.light/ | - | 2011-05-10 23:02:48 |
| arrayMvout/ | - | 2011-05-10 23:02:50 |
| arrayQuality/ | - | 2011-05-10 23:02:46 |
| arrayQualityMetrics/ | - | 2011-05-10 23:02:47 |
| attract/ | - | 2011-05-10 23:02:45 |
| baySeq/ | - | 2011-05-10 23:02:51 |
| beadarray/ | - | 2011-05-10 23:02:50 |
| beadarraySNP/ | - | 2011-05-10 23:02:53 |
| betr/ | - | 2011-05-10 23:02:53 |
| bgafun/ | - | 2011-05-10 23:02:49 |
| bgx/ | - | 2011-05-10 23:02:47 |
| bioDist/ | - | 2011-05-10 23:02:46 |
| biocGraph/ | - | 2011-05-10 23:02:54 |
| biocViews/ | - | 2011-05-10 23:02:54 |
| biomaRt/ | - | 2011-05-10 23:02:53 |
| bridge/ | - | 2011-05-10 23:02:54 |
| cellHTS/ | - | 2011-05-10 23:02:50 |
| cellHTS2/ | - | 2011-05-10 23:02:53 |
| cghMCR/ | - | 2011-05-10 23:02:47 |
| charm/ | - | 2011-05-10 23:02:45 |
| chipseq/ | - | 2011-05-10 23:02:47 |
| chopsticks/ | - | 2011-05-10 23:02:46 |
| clippda/ | - | 2011-05-10 23:02:49 |
| clst/ | - | 2011-05-10 23:02:48 |
| clstutils/ | - | 2011-05-10 23:02:44 |
| clusterProfiler/ | - | 2011-05-10 23:02:51 |
| clusterStab/ | - | 2011-05-10 23:02:50 |
| cn.farms/ | - | 2011-05-10 23:02:52 |
| coRNAi/ | - | 2011-05-10 23:02:47 |
| codelink/ | - | 2011-05-10 23:02:48 |
| convert/ | - | 2011-05-10 23:02:51 |
| copa/ | - | 2011-05-10 23:02:45 |
| cosmo/ | - | 2011-05-10 23:02:48 |
| cosmoGUI/ | - | 2011-05-10 23:02:51 |
| crlmm/ | - | 2011-05-10 23:02:51 |
| ctc/ | - | 2011-05-10 23:02:52 |
| cycle/ | - | 2011-05-10 23:02:53 |
| daMA/ | - | 2011-05-10 23:02:54 |
| ddCt/ | - | 2011-05-10 23:02:49 |
| diffGeneAnalysis/ | - | 2011-05-10 23:02:50 |
| domainsignatures/ | - | 2011-05-10 23:02:51 |
| dualKS/ | - | 2011-05-10 23:02:49 |
| dyebias/ | - | 2011-05-10 23:02:46 |
| ecolitk/ | - | 2011-05-10 23:02:50 |
| edd/ | - | 2011-05-10 23:02:50 |
| edgeR/ | - | 2011-05-10 23:02:47 |
| eisa/ | - | 2011-05-10 23:02:47 |
| explorase/ | - | 2011-05-10 23:02:52 |
| externalVector/ | - | 2011-05-10 23:02:52 |
| fabia/ | - | 2011-05-10 23:02:55 |
| factDesign/ | - | 2011-05-10 23:02:53 |
| farms/ | - | 2011-05-10 23:02:46 |
| fdrame/ | - | 2011-05-10 23:02:51 |
| flagme/ | - | 2011-05-10 23:02:53 |
| flowClust/ | - | 2011-05-10 23:02:46 |
| flowCore/ | - | 2011-05-10 23:02:52 |
| flowFP/ | - | 2011-05-10 23:02:47 |
| flowFlowJo/ | - | 2011-05-10 23:02:55 |
| flowMeans/ | - | 2011-05-10 23:02:45 |
| flowMerge/ | - | 2011-05-10 23:02:49 |
| flowPhyto/ | - | 2011-05-10 23:02:55 |
| flowPlots/ | - | 2011-05-10 23:02:51 |
| flowQ/ | - | 2011-05-10 23:02:46 |
| flowStats/ | - | 2011-05-10 23:02:45 |
| flowTrans/ | - | 2011-05-10 23:02:52 |
| flowUtils/ | - | 2011-05-10 23:02:52 |
| flowViz/ | - | 2011-05-10 23:02:44 |
| frma/ | - | 2011-05-10 23:02:55 |
| frmaTools/ | - | 2011-05-10 23:02:52 |
| gaga/ | - | 2011-05-10 23:02:48 |
| gage/ | - | 2011-05-10 23:02:49 |
| gaggle/ | - | 2011-05-10 23:02:50 |
| gaia/ | - | 2011-05-10 23:02:51 |
| gcrma/ | - | 2011-05-10 23:02:55 |
| genArise/ | - | 2011-05-10 23:02:52 |
| gene2pathway/ | - | 2011-05-10 23:02:50 |
| geneRecommender/ | - | 2011-05-10 23:02:49 |
| genefilter/ | - | 2011-05-10 23:02:53 |
| genefu/ | - | 2011-05-10 23:02:53 |
| geneplotter/ | - | 2011-05-10 23:02:49 |
| genoCN/ | - | 2011-05-10 23:02:51 |
| genomeIntervals/ | - | 2011-05-10 23:02:50 |
| genomes/ | - | 2011-05-10 23:02:45 |
| genoset/ | - | 2011-05-10 23:02:44 |
| girafe/ | - | 2011-05-10 23:02:51 |
| globaltest/ | - | 2011-05-10 23:02:45 |
| goProfiles/ | - | 2011-05-10 23:02:49 |
| goTools/ | - | 2011-05-10 23:02:54 |
| goseq/ | - | 2011-05-10 23:02:52 |
| gpls/ | - | 2011-05-10 23:02:49 |
| graph/ | - | 2011-05-10 23:02:54 |
| hexbin/ | - | 2011-05-10 23:02:46 |
| hopach/ | - | 2011-05-10 23:02:49 |
| hyperdraw/ | - | 2011-05-10 23:02:48 |
| hypergraph/ | - | 2011-05-10 23:02:44 |
| iChip/ | - | 2011-05-10 23:02:52 |
| iFlow/ | - | 2011-05-10 23:02:45 |
| iSeq/ | - | 2011-05-10 23:02:50 |
| ibh/ | - | 2011-05-10 23:02:55 |
| idiogram/ | - | 2011-05-10 23:02:48 |
| imageHTS/ | - | 2011-05-10 23:02:48 |
| impute/ | - | 2011-05-10 23:02:55 |
| inveRsion/ | - | 2011-05-10 23:02:52 |
| iterativeBMA/ | - | 2011-05-10 23:02:44 |
| iterativeBMAsurv/ | - | 2011-05-10 23:02:48 |
| joda/ | - | 2011-05-10 23:02:54 |
| keggorthology/ | - | 2011-05-10 23:02:44 |
| lapmix/ | - | 2011-05-10 23:02:49 |
| les/ | - | 2011-05-10 23:02:49 |
| limma/ | - | 2011-05-10 23:02:51 |
| limmaGUI/ | - | 2011-05-10 23:02:52 |
| logicFS/ | - | 2011-05-10 23:02:46 |
| logitT/ | - | 2011-05-10 23:02:45 |
| lol/ | - | 2011-05-10 23:02:48 |
| lumi/ | - | 2011-05-10 23:02:46 |
| mBPCR/ | - | 2011-05-10 23:02:46 |
| maCorrPlot/ | - | 2011-05-10 23:02:46 |
| maDB/ | - | 2011-05-10 23:02:47 |
| maSigPro/ | - | 2011-05-10 23:02:46 |
| maanova/ | - | 2011-05-10 23:02:52 |
| macat/ | - | 2011-05-10 23:02:49 |
| made4/ | - | 2011-05-10 23:02:49 |
| maigesPack/ | - | 2011-05-10 23:02:53 |
| makePlatformDesign/ | - | 2011-05-10 23:02:53 |
| makecdfenv/ | - | 2011-05-10 23:02:50 |
| marray/ | - | 2011-05-10 23:02:50 |
| mcaGUI/ | - | 2011-05-10 23:02:46 |
| mdqc/ | - | 2011-05-10 23:02:53 |
| metaArray/ | - | 2011-05-10 23:02:51 |
| metahdep/ | - | 2011-05-10 23:02:53 |
| methVisual/ | - | 2011-05-10 23:02:47 |
| methylumi/ | - | 2011-05-10 23:02:54 |
| mgsa/ | - | 2011-05-10 23:02:47 |
| miRNApath/ | - | 2011-05-10 23:02:45 |
| microRNA/ | - | 2011-05-10 23:02:45 |
| minet/ | - | 2011-05-10 23:02:44 |
| mosaics/ | - | 2011-05-10 23:02:44 |
| multiscan/ | - | 2011-05-10 23:02:49 |
| multtest/ | - | 2011-05-10 23:02:54 |
| nem/ | - | 2011-05-10 23:02:50 |
| netresponse/ | - | 2011-05-10 23:02:56 |
| nnNorm/ | - | 2011-05-10 23:02:52 |
| nudge/ | - | 2011-05-10 23:02:50 |
| occugene/ | - | 2011-05-10 23:02:52 |
| oligo/ | - | 2011-05-10 23:02:54 |
| oligoClasses/ | - | 2011-05-10 23:02:50 |
| oneChannelGUI/ | - | 2011-05-10 23:02:45 |
| ontoCAT/ | - | 2011-05-10 23:02:51 |
| ontoTools/ | - | 2011-05-10 23:02:49 |
| pamr/ | - | 2011-05-10 23:02:55 |
| panp/ | - | 2011-05-10 23:02:50 |
| parody/ | - | 2011-05-10 23:02:54 |
| pathRender/ | - | 2011-05-10 23:02:44 |
| pcaMethods/ | - | 2011-05-10 23:02:51 |
| pcot2/ | - | 2011-05-10 23:02:48 |
| pdInfoBuilder/ | - | 2011-05-10 23:02:52 |
| pdmclass/ | - | 2011-05-10 23:02:54 |
| pgUtils/ | - | 2011-05-10 23:02:46 |
| phenoDist/ | - | 2011-05-10 23:02:45 |
| phenoTest/ | - | 2011-05-10 23:02:45 |
| pickgene/ | - | 2011-05-10 23:02:55 |
| pint/ | - | 2011-05-10 23:02:50 |
| pkgDepTools/ | - | 2011-05-10 23:02:49 |
| plateCore/ | - | 2011-05-10 23:02:54 |
| plgem/ | - | 2011-05-10 23:02:51 |
| plier/ | - | 2011-05-10 23:02:45 |
| plw/ | - | 2011-05-10 23:02:47 |
| ppiStats/ | - | 2011-05-10 23:02:54 |
| prada/ | - | 2011-05-10 23:02:53 |
| preprocessCore/ | - | 2011-05-10 23:02:49 |
| procoil/ | - | 2011-05-10 23:02:45 |
| puma/ | - | 2011-05-10 23:02:55 |
| pvac/ | - | 2011-05-10 23:02:49 |
| qpcrNorm/ | - | 2011-05-10 23:02:46 |
| qpgraph/ | - | 2011-05-10 23:02:50 |
| qrqc/ | - | 2011-05-10 23:02:56 |
| quantsmooth/ | - | 2011-05-10 23:02:52 |
| qvalue/ | - | 2011-05-10 23:02:54 |
| rGADEM/ | - | 2011-05-10 23:02:47 |
| rHVDM/ | - | 2011-05-10 23:02:52 |
| rMAT/ | - | 2011-05-10 23:02:46 |
| rama/ | - | 2011-05-10 23:02:55 |
| rbsurv/ | - | 2011-05-10 23:02:47 |
| reb/ | - | 2011-05-10 23:02:53 |
| rflowcyt/ | - | 2011-05-10 23:02:54 |
| rnaSeqMap/ | - | 2011-05-10 23:02:54 |
| rsbml/ | - | 2011-05-10 23:02:50 |
| rtracklayer/ | - | 2011-05-10 23:02:53 |
| safe/ | - | 2011-05-10 23:02:55 |
| sagenhaft/ | - | 2011-05-10 23:02:46 |
| segmentSeq/ | - | 2011-05-10 23:02:52 |
| seqLogo/ | - | 2011-05-10 23:02:46 |
| seqbias/ | - | 2011-05-10 23:02:53 |
| sigPathway/ | - | 2011-05-10 23:02:44 |
| siggenes/ | - | 2011-05-10 23:02:53 |
| simpleaffy/ | - | 2011-05-10 23:02:55 |
| simulatorAPMS/ | - | 2011-05-10 23:02:56 |
| sizepower/ | - | 2011-05-10 23:02:54 |
| snapCGH/ | - | 2011-05-10 23:02:51 |
| snm/ | - | 2011-05-10 23:02:55 |
| snpMatrix/ | - | 2011-05-10 23:02:51 |
| snpStats/ | - | 2011-05-10 23:02:48 |
| spikeLI/ | - | 2011-05-10 23:02:47 |
| spkTools/ | - | 2011-05-10 23:02:51 |
| splicegear/ | - | 2011-05-10 23:02:52 |
| splots/ | - | 2011-05-10 23:02:54 |
| spotSegmentation/ | - | 2011-05-10 23:02:53 |
| sscore/ | - | 2011-05-10 23:02:55 |
| ssize/ | - | 2011-05-10 23:02:52 |
| stepNorm/ | - | 2011-05-10 23:02:48 |
| survcomp/ | - | 2011-05-10 23:02:47 |
| tigre/ | - | 2011-05-10 23:02:49 |
| tilingArray/ | - | 2011-05-10 23:02:52 |
| timecourse/ | - | 2011-05-10 23:02:51 |
| tkWidgets/ | - | 2011-05-10 23:02:53 |
| topGO/ | - | 2011-05-10 23:02:48 |
| tspair/ | - | 2011-05-10 23:02:47 |
| twilight/ | - | 2011-05-10 23:02:56 |
| vbmp/ | - | 2011-05-10 23:02:45 |
| vsn/ | - | 2011-05-10 23:02:50 |
| weaver/ | - | 2011-05-10 23:02:45 |
| webbioc/ | - | 2011-05-10 23:02:56 |
| widgetTools/ | - | 2011-05-10 23:02:47 |
| xcms/ | - | 2011-05-10 23:02:45 |
| xmapbridge/ | - | 2011-05-10 23:02:49 |
| xmapcore/ | - | 2011-05-10 23:02:54 |
| xps/ | - | 2011-05-10 23:02:49 |
| yaqcaffy/ | - | 2011-05-10 23:02:45 |
| STATUS_DB.txt | 143.8 KiB | 2011-05-10 23:02:55 |
| gewurz-NodeInfo.html | 5.0 KiB | 2011-05-10 23:02:51 |
| gewurz-R-instpkgs.html | 50.6 KiB | 2011-05-10 23:02:51 |
| gewurz-index.html | 323.9 KiB | 2011-05-10 23:02:50 |
| index.html | 1.5 MiB | 2011-05-10 23:02:56 |
| liverpool-NodeInfo.html | 4.7 KiB | 2011-05-10 23:02:48 |
| liverpool-R-instpkgs.html | 54.7 KiB | 2011-05-10 23:02:44 |
| liverpool-index.html | 334.5 KiB | 2011-05-10 23:02:45 |
| meat-index.txt | 77.1 KiB | 2011-05-10 23:02:52 |
| pelham-NodeInfo.html | 5.0 KiB | 2011-05-10 23:02:44 |
| pelham-R-instpkgs.html | 50.6 KiB | 2011-05-10 23:02:54 |
| pelham-index.html | 327.6 KiB | 2011-05-10 23:02:53 |
| report.css | 6.1 KiB | 2011-05-10 23:02:55 |
| report.js | 3.9 KiB | 2011-05-10 23:02:51 |
| report.tgz | 3.1 MiB | 2011-05-10 23:02:44 |
| wilson2-NodeInfo.html | 4.9 KiB | 2011-05-10 23:02:45 |
| wilson2-R-instpkgs.html | 54.4 KiB | 2011-05-10 23:02:46 |
| wilson2-index.html | 290.9 KiB | 2011-05-10 23:02:46 |