| RCytoscape 1.1.46 Paul Shannon
 
 | Snapshot Date: 2011-02-24 11:26:35 -0800 (Thu, 24 Feb 2011) |  | URL: https://hedgehog.fhcrc.org/bioconductor/trunk/madman/Rpacks/RCytoscape |  | Last Changed Rev: 53127 / Revision: 53255 |  | Last Changed Date: 2011-02-23 13:48:12 -0800 (Wed, 23 Feb 2011) | 
 | lamb2 | Linux (openSUSE 11.2) / x86_64 | OK | WARNINGS |  | 
| liverpool | Windows Server 2003 R2 (32-bit) / x64 | OK | WARNINGS | OK | 
| gewurz | Windows Server 2008 R2 Enterprise (64-bit) / x64 | OK | WARNINGS | [ OK ] | 
| pelham | Mac OS X Leopard (10.5.8) / i386 | OK | WARNINGS | OK | 
| petty | Mac OS X Snow Leopard (10.6.4) / i386 | OK | WARNINGS | OK | 
* installing *source* package 'RCytoscape' ...
  Using auto-selected zip option '--use-zip-data'
** R
** data
** inst
** preparing package for lazy loading
** help
*** installing help indices
** building package indices ...
** testing if installed package can be loaded
* MD5 sums
packaged installation of 'RCytoscape' as RCytoscape_1.1.46.zip
* DONE (RCytoscape)