Version Built
ABarray 1.18.0 2.12.0
abind 1.1-0 2.12.0
acepack 1.3-3.0 2.12.0
aCGH 1.28.0 2.12.0
ACME 2.6.0 2.12.0
actuar 1.1-1 2.12.0
ada 2.0-2 2.12.0
ADaCGH2 1.0.0 2.12.0
ade4 1.4-16 2.12.0
ade4TkGUI 0.2-5 2.12.0
adSplit 1.20.0 2.12.0
AER 1.1-7 2.12.0
affxparser 1.22.0 2.12.0
affy 1.28.0 2.12.0
affycomp 1.26.0 2.12.0
AffyCompatible 1.10.0 2.12.0
affyContam 1.8.0 2.12.0
affycoretools 1.22.0 2.12.0
affydata 1.11.10 2.12.0
AffyExpress 1.16.0 2.12.0
affyILM 1.2.0 2.12.0
affyio 1.18.0 2.12.0
affylmGUI 1.24.0 2.12.0
AffymetrixDataTestFiles 0.1.2 2.12.0
affyPara 1.10.0 2.12.0
affypdnn 1.24.0 2.12.0
affyPLM 1.26.0 2.12.0
affyQCReport 1.28.0 2.12.0
AffyTiling 1.8.0 2.12.0
Agi4x44PreProcess 1.10.0 2.12.0
AgiMicroRna 1.4.0 2.12.0
akima 0.5-4 2.12.0
ALL 1.4.7 2.12.0
ALLMLL 1.2.8 2.12.0
alr3 1.1.12 2.12.0
altcdfenvs 2.12.0 2.12.0
amap 0.8-5 2.12.0
AmpAffyExample 1.2.5 2.12.0
anchors 3.0-4 2.12.0
annaffy 1.22.0 2.12.0
annotate 1.28.0 2.12.0
AnnotationDbi 1.12.0 2.12.0
annotationTools 1.22.0 2.12.0
apComplex 2.16.0 2.12.0
ape 2.6-1 2.12.0
aplpack 1.2.3 2.12.0
aroma.light 1.18.2 2.12.0
ArrayExpress 1.10.0 2.12.0
arrayMvout 1.8.0 2.12.0
arrayQuality 1.28.0 2.12.0
arrayQualityMetrics 3.2.2 2.12.0
ArrayTools 1.10.0 2.12.0
ash 1.0-12 2.12.0
ath1121501cdf 2.7.0 2.12.0
attract 1.2.0 2.12.0
aws 1.6-2 2.12.0
BAC 1.10.0 2.12.0
base 2.12.0 2.12.0
BayesPeak 1.2.0 2.12.0
baySeq 1.4.0 2.12.0
BCRANK 1.12.0 2.12.0
bdsmatrix 1.0 2.12.0
beadarray 2.0.2 2.12.0
beadarraySNP 1.16.0 2.12.0
BeadDataPackR 1.2.0 2.12.0
beta7 1.0.0 2.12.0
betr 1.6.0 2.12.0
bgafun 1.12.0 2.12.0
BGmix 1.10.0 2.12.0
bgx 1.14.0 2.12.0
BHC 1.2.0 2.12.0
BiasedUrn 1.03 2.12.0
BicARE 1.8.0 2.12.0
biclust 0.9.1 2.12.0
biglm 0.7 2.12.0
Biobase 2.10.0 2.12.0
BiocCaseStudies 1.12.0 2.12.0
biocDatasets 1.6.0 2.12.0
biocGraph 1.12.0 2.12.0
biocViews 1.18.0 2.12.0
bioDist 1.22.0 2.12.0
biomaRt 2.6.0 2.12.0
BioMVCClass 1.18.0 2.12.0
BioNet 1.8.0 2.12.0
BioSeqClass 1.8.0 2.12.0
Biostrings 2.18.0 2.12.0
bit 1.1-6 2.12.0
bitops 1.0-4.1 2.12.0
BMA 3.13 2.12.0
boot 1.2-43 2.12.0
bridge 1.14.0 2.12.0
bronchialIL13 1.0-6 2.12.0
BSgenome 1.18.1 2.12.0
BSgenome.Celegans.UCSC.ce2 1.3.16 2.12.0
BSgenome.Dmelanogaster.UCSC.dm3 1.3.16 2.12.0
BSgenome.Ecoli.NCBI.20080805 1.3.16 2.12.0
BSgenome.Hsapiens.UCSC.hg18 1.3.16 2.12.0
BSgenome.Hsapiens.UCSC.hg19 1.3.16 2.12.0
BSgenome.Mmusculus.UCSC.mm9 1.3.16 2.12.0
BSgenome.Scerevisiae.UCSC.sacCer2 1.3.16 2.12.0
BufferedMatrix 1.14.0 2.12.0
BufferedMatrixMethods 1.14.0 2.12.0
BUS 1.6.0 2.12.0
ca 0.33 2.12.0
Cairo 1.4-5 2.12.0
cairoDevice 2.14-2 2.12.0
CALIB 1.16.0 2.12.0
CAMERA 1.6.0 2.12.0
car 2.0-2 2.12.0
Category 2.16.0 2.12.0
caTools 1.10 2.12.0
cba 0.2-6 2.12.0
CCl4 1.0.9 2.12.0
ccTutorial 1.0.17 2.12.0
cellHTS 1.20.0 2.12.0
cellHTS2 2.14.0 2.12.0
ceuhm3 0.0.5 2.12.0
CGEN 1.2.0 2.12.0
CGHbase 1.8.0 2.12.0
CGHcall 2.10.0 2.12.0
cghMCR 1.8.0 2.12.0
CGHnormaliter 1.4.0 2.12.0
CGHregions 1.8.0 2.12.0
charm 1.2.1 2.12.0
charmData 0.99.3 2.12.0
ChemmineR 1.10.0 2.12.0
ChIPpeakAnno 1.6.0 2.12.0
chipseq 1.0.0 2.12.0
ChIPseqR 1.4.0 2.12.0
ChIPsim 1.4.0 2.12.0
ChromHeatMap 1.4.0 2.12.0
chron 2.3-38 2.12.0
class 7.3-2 2.12.0
clippda 1.4.0 2.12.0
CLL 1.2.8 2.12.0
clue 0.3-37 2.12.0
cluster 1.13.2 2.12.0
clusterStab 1.22.0 2.12.0
CMA 1.8.0 2.12.0
cMAP 1.15.1 2.12.0
CNTools 1.6.0 2.12.0
CNVtools 1.44.0 2.12.0
CoCiteStats 1.22.0 2.12.0
coda 0.13-5 2.12.0
codelink 1.18.0 2.12.0
codetools 0.2-5 2.12.0
coin 1.0-17 2.12.0
colonCA 1.4.5 2.12.0
colorspace 1.0-1 2.12.0
combinat 0.0-8 2.12.0
ConsensusClusterPlus 1.2.0 2.12.0
contrast 0.13 2.12.0
convert 1.26.0 2.12.0
copa 1.18.0 2.12.0
coRNAi 1.0.0 2.12.0
corpcor 1.5.7 2.12.0
CORREP 1.16.0 2.12.0
cosmo 1.16.0 2.12.0
cosmoGUI 1.16.0 2.12.0
coxme 2.0 2.12.0
CRImage 1.0.0 2.12.0
crlmm 1.8.2 2.12.0
CSAR 1.2.0 2.12.0
ctc 1.24.0 2.12.0
cubature 1.0 2.12.0
cycle 1.4.0 2.12.0
DAAG 1.03 2.12.0
daMA 1.22.0 2.12.0
datasets 2.12.0 2.12.0
DAVIDQuery 1.10.0 2.12.0
davidTiling 1.2.12 2.12.0
DBI 0.2-5 2.12.0
ddCt 1.4.0 2.12.0
DEDS 1.24.0 2.12.0
DEGraph 1.0.0 2.12.0
degreenet 1.1 2.12.0
DEGseq 1.4.0 2.12.0
deldir 0.0-12 2.12.0
DESeq 1.2.1 2.12.0
Design 2.3-0 2.12.0
DFP 1.8.0 2.12.0
DierckxSpline 1.1-4 2.12.0
diffGeneAnalysis 1.32.0 2.12.0
digest 0.4.2 2.12.0
DLBCL 1.3.1 2.12.0
DNAcopy 1.24.0 2.12.0
doBy 4.1.0 2.12.0
domainsignatures 1.10.0 2.12.0
drc 2.0-1 2.12.0
dressCheck 0.1.1 2.12.0
drosgenome1.db 2.4.5 2.12.0
drosophila2probe 2.7.0 2.12.0
dualKS 1.10.0 2.12.0
dyebias 1.8.0 2.12.0
dyebiasexamples 1.0.6 2.12.0
DynDoc 1.28.0 2.12.0
dynlm 0.3-0 2.12.0
e1071 1.5-24 2.12.0
EatonEtAlChIPseq 0.0.1 2.12.0
EBarrays 2.14.0 2.12.0
EBImage 3.6.0 2.12.0
Ecdat 0.1-6 2.12.0
ecolicdf 2.7.0 2.12.0
ecoliLeucine 1.2.5 2.12.0
ecolitk 1.22.0 2.12.0
edd 1.28.0 2.12.0
edgeR 1.8.2 2.12.0
effects 2.0-10 2.12.0
eisa 1.2.0 2.12.0
ellipse 0.3-5 2.12.0
encoDnaseI 0.1.6 2.12.0
entropy 1.1.5 2.12.0
ergm 2.2-6 2.12.0
estrogen 1.8.5 2.12.0
evaluate 0.3 2.12.0
exonmap 2.8.0 2.12.0
explorase 1.14.0 2.12.0
ExpressionView 1.2.0 2.12.0
externalVector 1.16.0 2.12.0
faahKO 1.2.5 2.12.0
fabia 1.2.0 2.12.0
facsDorit 1.4.2 2.12.0
factDesign 1.26.0 2.12.0
farms 1.2.0 2.12.0
fBasics 2110.79 2.12.0
fCalendar 270.78.3 2.12.0
fda 2.2.5 2.12.0
fdrame 1.22.0 2.12.0
fdrtool 1.2.6 2.12.0
feature 1.2.5 2.12.0
fEcofin 290.76 2.12.0
ff 2.2-1 2.12.0
fibroEset 1.4.4 2.12.0
fields 6.3 2.12.0
flagme 1.6.0 2.12.0
flexclust 1.2-2 2.12.0
flexmix 2.2-10 2.12.0
flowClust 2.8.0 2.12.0
flowCore 1.16.0 2.12.0
flowFlowJo 1.8.0 2.12.0
flowFP 1.6.0 2.12.0
flowMeans 1.2.0 2.12.0
flowMerge 1.4.0 2.12.0
flowQ 1.10.0 2.12.0
flowStats 1.8.0 2.12.0
flowTrans 1.2.0 2.12.0
flowUtils 1.10.0 2.12.0
flowViz 1.14.0 2.12.0
foreach 1.3.0 2.12.0
foreign 0.8-41 2.12.0
Formula 1.0-0 2.12.0
forward 1.0.3 2.12.0
frma 1.2.0 2.12.0
frmaExampleData 0.99.0 2.12.0
frmaTools 1.2.0 2.12.0
fSeries 270.76.3 2.12.0
fts 0.7.6 2.12.0
fUtilities 2110.78 2.12.0
gaga 1.10.0 2.12.0
gage 2.0.0 2.12.0
gageData 1.1.0 2.12.0
gaggle 1.18.0 2.12.0
gam 1.03 2.12.0
gaschYHS 1.0.3 2.12.0
gatingMLData 1.0.2 2.12.0
gbm 1.6-3.1 2.12.0
gclus 1.3 2.12.0
gcrma 2.22.0 2.12.0
gcspikelite 1.0.4 2.12.0
gdata 2.8.0 2.12.0
gee 4.13-15 2.12.0
geepack 1.0-17 2.12.0
genArise 1.26.0 2.12.0
gene2pathway 1.8.1 2.12.0
GeneAnswers 1.6.0 2.12.0
genefilter 1.32.0 2.12.0
geneLenDataBase 0.99.5 2.12.0
GeneMeta 1.22.0 2.12.0
geneplotter 1.28.0 2.12.0
GeneR 2.20.0 2.12.0
geneRecommender 1.22.0 2.12.0
GeneRegionScan 1.6.0 2.12.0
GeneSelectMMD 1.6.0 2.12.0
GeneSelector 2.6.0 2.12.0
GeneSpring 2.24.0 2.12.0
genetics 1.3.4 2.12.0
GeneticsDesign 1.18.0 2.12.0
GeneticsPed 1.12.0 2.12.0
GeneTraffic 1.22.0 2.12.0
genoCN 1.2.0 2.12.0
GenomeGraphs 1.10.0 2.12.0
genomeIntervals 1.6.0 2.12.0
genomes 1.6.0 2.12.0
genomewidesnp5Crlmm 1.0.4 2.12.0
genomewidesnp6Crlmm 1.0.4 2.12.0
GenomicFeatures 1.2.1 2.12.0
GenomicFeatures.Hsapiens.UCSC.hg18 0.1.3 2.12.0
GenomicFeatures.Mmusculus.UCSC.mm9 0.1.3 2.12.0
GenomicRanges 1.2.1 2.12.0
Genominator 1.4.0 2.12.0
GEOmetadb 1.10.0 2.12.0
GEOquery 2.15.1 2.12.0
geoR 1.6-32 2.12.0
GEOsubmission 1.2.0 2.12.0
GGBase 3.10.0 2.12.0
GGdata 1.0.5 2.12.0
GGtools 3.8.1 2.12.0
girafe 1.2.0 2.12.0
GLAD 2.12.0 2.12.0
glmnet 1.5 2.12.0
GlobalAncova 3.18.0 2.12.0
globaltest 5.4.0 2.12.0
gmodels 2.15.0 2.12.0
GO.db 2.4.5 2.12.0
golubEsets 1.4.7 2.12.0
goProfiles 1.12.0 2.12.0
GOSemSim 1.8.0 2.12.0
goseq 1.2.0 2.12.0
GOstats 2.16.0 2.12.0
goTools 1.24.0 2.12.0
gpclib 1.5-1 2.12.0
gplots 2.8.0 2.12.0
gpls 1.22.0 2.12.0
graph 1.28.0 2.12.0
GraphAlignment 1.12.0 2.12.0
GraphAT 1.22.0 2.12.0
graphics 2.12.0 2.12.0
grDevices 2.12.0 2.12.0
grid 2.12.0 2.12.0
gridBase 0.4-3 2.12.0
GSEABase 1.12.0 2.12.0
GSEAlm 1.10.0 2.12.0
GSRI 1.2.0 2.12.0
gsubfn 0.5-3 2.12.0
gtools 2.6.2 2.12.0
hapmap100khind 1.3.32 2.12.0
hapmap100kxba 1.3.3 2.12.0
hapmap500knsp 1.3.3 2.12.0
hapmap500ksty 1.3.3 2.12.0
hapmapsnp5 1.3.3 2.12.0
hapmapsnp6 1.3.3 2.12.0
harbChIP 1.0.5 2.12.0
Harshlight 1.20.0 2.12.0
hdrcde 2.14 2.12.0
Heatplus 1.20.0 2.12.0
HEEBOdata 1.0.0 2.12.0
HELP 1.8.0 2.12.0
HEM 1.22.0 2.12.0
hexbin 1.24.0 2.12.0
hgfocuscdf 2.7.0 2.12.0
hgu133a.db 2.4.5 2.12.0
hgu133abarcodevecs 1.0.1 2.12.0
hgu133acdf 2.7.0 2.12.0
hgu133afrmavecs 1.0.1 2.12.0
hgu133aprobe 2.7.0 2.12.0
hgu133atagcdf 2.7.0 2.12.0
hgu133atagprobe 2.7.0 2.12.0
hgu133plus2.db 2.4.5 2.12.0
hgu133plus2barcodevecs 1.0.1 2.12.0
hgu133plus2cdf 2.7.0 2.12.0
hgu133plus2frmavecs 1.0.3 2.12.0
hgu133plus2probe 2.7.0 2.12.0
hgu2beta7 1.2.2 2.12.0
hgu95acdf 2.7.0 2.12.0
hgu95av2 2.2.0 2.12.0
hgu95av2.db 2.4.5 2.12.0
hgu95av2cdf 2.7.0 2.12.0
hgu95av2probe 2.7.0 2.12.0
hgug4112a.db 2.4.5 2.12.0
highlight 0.2-2 2.12.0
HilbertVis 1.8.0 2.12.0
HilbertVisGUI 1.8.0 2.12.0
HIVcDNAvantWout03 1.2.3 2.12.0
Hmisc 3.8-3 2.12.0
hmyriB36 0.99.5 2.12.0
hom.Dm.inp.db 2.4.6 2.12.0
hom.Hs.inp.db 2.4.6 2.12.0
hom.Mm.inp.db 2.4.6 2.12.0
hom.Rn.inp.db 2.4.6 2.12.0
hom.Sc.inp.db 2.4.6 2.12.0
hopach 2.10.0 2.12.0
HSAUR 1.2-4 2.12.0
HTqPCR 1.4.0 2.12.0
HTSanalyzeR 1.4.0 2.12.0
hu6800.db 2.4.5 2.12.0
HuExExonProbesetLocationHg19 0.0.3 2.12.0
hugene10sttranscriptcluster.db 6.0.1 2.12.0
human.db0 2.4.6 2.12.0
humanStemCell 0.2.3 2.12.0
hwriter 1.2 2.12.0
hyperdraw 1.2.0 2.12.0
hypergraph 1.22.0 2.12.0
Icens 1.22.0 2.12.0
iChip 1.4.0 2.12.0
idiogram 1.26.0 2.12.0
IDPmisc 1.1.08 2.12.0
igraph 0.5.5 2.12.0
illuminaHumanv1.db 1.8.0 2.12.0
imageHTS 1.0.0 2.12.0
impute 1.24.0 2.12.0
ind1KG 0.1.5 2.12.0
ineq 0.2-9 2.12.0
infotheo 1.1.0 2.12.0
inline 0.3.7 2.12.0
intervals 0.13.3 2.12.0
ipred 0.8-8 2.12.0
IRanges 1.8.2 2.12.0
isa2 0.3.0 2.12.0
iSeq 1.0.0 2.12.0
Iso 0.0-8 2.12.0
IsoGene 1.0-17 2.12.0
IsoGeneGUI 1.2.0 2.12.0
ITALICS 2.10.0 2.12.0
ITALICSData 2.0.1 2.12.0
iterativeBMA 1.8.0 2.12.0
iterativeBMAsurv 1.8.0 2.12.0
iterators 1.0.3 2.12.0
itertools 0.1-1 2.12.0
its 1.1.8 2.12.0
Iyer517 1.4.5 2.12.0
KCsmart 2.8.0 2.12.0
KEGG.db 2.4.5 2.12.0
KEGGgraph 1.6.0 2.12.0
keggorthology 2.2.0 2.12.0
KEGGSOAP 1.24.0 2.12.0
kernlab 0.9-11 2.12.0
KernSmooth 2.23-4 2.12.0
kidpack 1.5.7 2.12.0
kinship 1.1.0-23 2.12.0
klaR 0.6-4 2.12.0
kohonen 2.0.5 2.12.0
ks 1.7.4 2.12.0
lapmix 1.16.0 2.12.0
latentnet 2.4-0 2.12.0
lattice 0.19-13 2.12.0
latticeExtra 0.6-14 2.12.0
LBE 1.18.0 2.12.0
leaps 2.9 2.12.0
leeBamViews 0.99.11 2.12.0
les 1.0.0 2.12.0
limma 3.6.6 2.12.0
limmaGUI 1.26.0 2.12.0
LiquidAssociation 1.4.0 2.12.0
lme4 0.999375-37 2.12.0
LMGene 2.6.0 2.12.0
lmtest 0.9-27 2.12.0
locfit 1.5-6 2.12.0
lodplot 1.1 2.12.0
logicFS 1.20.0 2.12.0
LogicReg 1.4.9 2.12.0
logitT 1.8.0 2.12.0
logspline 2.1.3 2.12.0
LPE 1.24.0 2.12.0
LPEadj 1.10.0 2.12.0
lpSolve 5.6.5 2.12.0
lumi 2.2.0 2.12.0
lumiBarnes 1.3.5 2.12.0
lumiHumanAll.db 1.12.0 2.12.0
lumiHumanIDMapping 1.8.0 2.12.0
lungExpression 0.0.10 2.12.0
LVSmiRNA 1.0.0 2.12.0
maanova 1.20.0 2.12.0
macat 1.24.0 2.12.0
maCorrPlot 1.20.0 2.12.0
made4 1.24.0 2.12.0
magic 1.4-6 2.12.0
maigesPack 1.14.0 2.12.0
makecdfenv 1.28.0 2.12.0
makePlatformDesign 1.14.0 2.12.0
MANOR 1.22.0 2.12.0
MantelCorr 1.20.0 2.12.0
mapproj 1.1-8.2 2.12.0
maps 2.1-5 2.12.0
maptools 0.7-38 2.12.0
maqcExpression4plex 1.2.0 2.12.0
MAQCsubset 1.0.20 2.12.0
MAQCsubsetAFX 1.0.3 2.12.0
MAQCsubsetILM 1.0.2 2.12.0
marray 1.28.0 2.12.0
maSigPro 1.22.0 2.12.0
MASS 7.3-8 2.12.0
MassArray 1.2.0 2.12.0
MassSpecWavelet 1.16.0 2.12.0
Matrix 0.999375-44 2.12.0
maxLik 1.0-0 2.12.0
MBCB 1.4.0 2.12.0
mboost 2.0-7 2.12.0
mBPCR 1.4.0 2.12.0
mclust 3.4.7 2.12.0
MCMCpack 1.0-8 2.12.0
MCRestimate 2.6.0 2.12.0
mda 0.4-1 2.12.0
mdqc 1.12.0 2.12.0
MeasurementError.cor 1.22.0 2.12.0
MEDIPS 1.0.0 2.12.0
MEDME 1.10.0 2.12.0
MEEBOdata 1.0.0 2.12.0
MEMSS 0.3-6 2.12.0
MergeMaid 2.22.0 2.12.0
metaArray 1.26.0 2.12.0
metahdep 1.8.0 2.12.0
methods 2.12.0 2.12.0
methVisual 1.2.0 2.12.0
methylumi 1.5.1 2.12.0
Mfuzz 2.8.0 2.12.0
mgcv 1.7-1 2.12.0
mice 2.4 2.12.0
MiChip 1.4.0 2.12.0
microRNA 1.8.0 2.12.0
minet 3.4.0 2.12.0
minpack.lm 1.1-5 2.12.0
MiPP 1.22.0 2.12.0
miRNApath 1.10.0 2.12.0
misc3d 0.7-1 2.12.0
miscTools 0.6-10 2.12.0
mitools 2.0.1 2.12.0
mix 1.0-8 2.12.0
mlbench 2.1-0 2.12.0
MLInterfaces 1.30.0 2.12.0
mlmRev 0.99875-1 2.12.0
mlogit 0.1-8 2.12.0
mnormt 1.3-3 2.12.0
modeltools 0.2-17 2.12.0
MoExExonProbesetLocation 1.0.0 2.12.0
mogene10sttranscriptcluster.db 6.0.1 2.12.0
MotIV 1.4.0 2.12.0
mouse.db0 2.4.6 2.12.0
mouse4302barcodevecs 1.0.1 2.12.0
mouse4302frmavecs 1.0.3 2.12.0
msdata 0.1.4 2.12.0
Mulcom 1.0.0 2.12.0
multcomp 1.2-4 2.12.0
multiscan 1.10.0 2.12.0
multtest 2.6.0 2.12.0
mutatr 0.1.2 2.12.0
MVCClass 1.24.0 2.12.0
mvoutData 0.99.4 2.12.0
mvoutlier 1.5 2.12.0
mvtnorm 0.9-92 2.12.0
ncdf 1.6.3 2.12.0
nem 2.14.0 2.12.0
netresponse 1.0.0 2.12.0
network 1.5-1 2.12.0
Neve2006 0.1.10 2.12.0
nlme 3.1-97 2.12.0
nnet 7.3-1 2.12.0
nnNorm 2.14.0 2.12.0
nor1mix 1.1-2 2.12.0
np 0.40-3 2.12.0
NTW 1.0.0 2.12.0
nudge 1.16.0 2.12.0
numDeriv 2009.2-1 2.12.0
NuPoP 1.0.0 2.12.0
occugene 1.10.0 2.12.0
OCplus 1.24.0 2.12.0
odesolve 0.5-20 2.12.0
oligo 1.14.0 2.12.0
oligoClasses 1.12.0 2.12.0
OLIN 1.28.0 2.12.0
OLINgui 1.24.0 2.12.0
oneChannelGUI 1.16.2 2.12.0
ontoCAT 1.0.0 2.12.0
ontoTools 1.28.0 2.12.0
OrderedList 1.22.0 2.12.0
org.Ag.eg.db 2.4.6 2.12.0
org.At.tair.db 2.4.6 2.12.0
org.Bt.eg.db 2.4.6 2.12.0
org.Ce.eg.db 2.4.6 2.12.0
org.Cf.eg.db 2.4.6 2.12.0
org.Dm.eg.db 2.4.6 2.12.0
org.Dr.eg.db 2.4.6 2.12.0
org.EcK12.eg.db 2.4.6 2.12.0
org.EcSakai.eg.db 2.4.6 2.12.0
org.Gg.eg.db 2.4.6 2.12.0
org.Hs.eg.db 2.4.6 2.12.0
org.Hs.ipi.db 1.3.0 2.12.0
org.Mm.eg.db 2.4.6 2.12.0
org.Mmu.eg.db 2.4.6 2.12.0
org.Pf.plasmo.db 2.4.6 2.12.0
org.Pt.eg.db 2.4.6 2.12.0
org.Rn.eg.db 2.4.6 2.12.0
org.Sc.sgd.db 2.4.6 2.12.0
org.Sco.eg.db 2.4.1 2.12.0
org.Ss.eg.db 2.4.6 2.12.0
org.Xl.eg.db 2.4.6 2.12.0
OTUbase 1.0.0 2.12.0
OutlierD 1.14.0 2.12.0
outliers 0.13-3 2.12.0
oz 1.0-18 2.12.0
pamr 1.48.0 2.12.0
PAnnBuilder 1.14.0 2.12.0
panp 1.20.0 2.12.0
parody 1.8.0 2.12.0
parser 0.0-10 2.12.0
party 0.9-9999 2.12.0
pathRender 1.18.0 2.12.0
PatientGeneSets 1.0.0 2.12.0
PBSmapping 2.61.9 2.12.0
pcaMethods 1.32.0 2.12.0
pcaPP 1.8-3 2.12.0
pcot2 1.18.0 2.12.0
PCpheno 1.12.0 2.12.0
pd.charm.hg18.example 0.99.2 2.12.0
pd.genomewidesnp.5 1.1.0 2.12.0
pd.genomewidesnp.6 1.1.0 2.12.0
pd.hg18.60mer.expr 2.4.1 2.12.0
pd.mapping250k.nsp 1.1.0 2.12.0
pd.mapping250k.sty 1.1.0 2.12.0
pd.mapping50k.hind240 1.1.0 2.12.0
pd.mapping50k.xba240 1.1.0 2.12.0
pdInfoBuilder 1.14.0 2.12.0
pdmclass 1.22.0 2.12.0
PGSEA 1.20.0 2.12.0
pickgene 1.22.0 2.12.0
PICS 1.4.0 2.12.0
pint 1.2.0 2.12.0
pixmap 0.4-10 2.12.0
pkgDepTools 1.16.0 2.12.0
plasmodiumanophelescdf 2.7.0 2.12.0
plateCore 1.8.0 2.12.0
plgem 1.22.0 2.12.0
plier 1.20.0 2.12.0
plm 1.2-5 2.12.0
plotrix 3.0-2 2.12.0
PLPE 1.10.0 2.12.0
pls 2.1-0 2.12.0
plsgenomics 1.2-4 2.12.0
plw 1.10.0 2.12.0
plyr 1.2.1 2.12.0
png 0.1-1 2.12.0
PolynomF 0.94 2.12.0
ppiData 0.1.14 2.12.0
ppiStats 1.16.0 2.12.0
prada 1.26.0 2.12.0
preprocessCore 1.12.0 2.12.0
princurve 1.1-10 2.12.0
PROcess 1.26.0 2.12.0
ProData 1.0.3 2.12.0
PROMISE 1.2.0 2.12.0
proto 0.3-8 2.12.0
proxy 0.4-6 2.12.0
pscl 1.03.6 2.12.0
pspline 1.0-14 2.12.0
puma 2.2.0 2.12.0
pumadata 1.0.3 2.12.0
qpcrNorm 1.8.0 2.12.0
qpgraph 1.6.1 2.12.0
quadprog 1.5-3 2.12.0
quantreg 4.53 2.12.0
quantsmooth 1.16.0 2.12.0
qvalue 1.24.0 2.12.0
R.matlab 1.3.6 2.12.0
R.methodsS3 1.2.1 2.12.0
R.oo 1.7.4 2.12.0
R.utils 1.5.6 2.12.0
R2HTML 2.2 2.12.0
R2wd 1.3.0 2.12.0
R453Plus1Toolbox 1.0.1 2.12.0
rae230a.db 2.4.5 2.12.0
rae230aprobe 2.7.0 2.12.0
RaExExonProbesetLocation 1.0.0 2.12.0
ragene10sttranscriptcluster.db 5.0.1 2.12.0
rama 1.24.0 2.12.0
RandomFields 1.3.44 2.12.0
randomForest 4.5-36 2.12.0
RankProd 2.22.0 2.12.0
RANN 2.1.2 2.12.0
RArcInfo 0.4-7 2.12.0
rat.db0 2.4.6 2.12.0
RbcBook1 1.18.0 2.12.0
rbenchmark 0.3 2.12.0
RBGL 1.26.0 2.12.0
RBioinf 1.10.0 2.12.0
rbsurv 2.8.0 2.12.0
RColorBrewer 1.0-2 2.12.0
rcom 2.2-3.1 2.12.0
Rcompression 0.92-0 2.12.0
Rcpp 0.8.8 2.12.0
RCurl 1.4-4.1 2.12.0
RCytoscape 1.0.0 2.12.0
rda 1.0.2 2.12.0
Rdbi 1.24.0 2.12.0
Rdisop 1.10.0 2.12.0
RDRToolbox 1.0.0 2.12.0
reb 1.26.0 2.12.0
RefPlus 1.20.0 2.12.0
relations 0.5-8 2.12.0
relimp 1.0-2 2.12.0
reshape 0.8.3 2.12.0
Resourcerer 1.24.0 2.12.0
rfcdmin 1.6.11 2.12.0
rflowcyt 1.22.0 2.12.0
rGADEM 1.2.0 2.12.0
rgenoud 5.7-1 2.12.0
rggobi 2.1.16-1 2.12.0
rgl 0.92.794 2.12.0
Rglpk 0.3-5 2.12.0
Rgraphviz 1.28.0 2.12.0
RGtk2 2.20.3 2.12.0
RH2 0.1-2 2.12.0
rHVDM 1.16.0 2.12.0
Ringo 1.14.0 2.12.0
rJava 0.8-8 2.12.0
RJDBC 0.1-5 2.12.0
RJSONIO 0.3-1 2.12.0
rlecuyer 0.3-1 2.12.0
Rlibstree 0.3-2 2.11.0
RLMM 1.12.0 2.12.0
Rmagpie 1.6.0 2.12.0
RMAPPER 1.0.0 2.12.0
rmeta 2.16 2.12.0
RmiR 1.6.0 2.12.0
RmiR.Hs.miRNA 1.0.6 2.12.0
RMySQL 0.7-5 2.12.0
RNAither 1.10.0 2.12.0
rnaSeqMap 1.0.0 2.12.0
robustbase 0.5-0-1 2.12.0
ROC 1.26.0 2.12.0
ROCR 1.0-4 2.12.0
RODBC 1.3-2 2.12.0
Rolexa 1.6.0 2.12.0
RPA 1.6.0 2.12.0
rpanel 1.0-6 2.12.0
rpart 3.1-47 2.12.0
RpgSQL 0.1-4 2.12.0
RpsiXML 1.10.0 2.12.0
rrcov 1.1-00 2.12.0
Rsamtools 1.2.1 2.12.0
rsbml 2.8.0 2.12.0
rscproxy 1.3-1 2.12.0
RSQLite 0.9-3 2.12.0
RSQLite.extfuns 0.0.1 2.12.0
RSVGTipsDevice 1.0-1 2.12.0
RTCA 1.2.0 2.12.0
RTools4TB 1.6.0 2.12.0
rtracklayer 1.10.5 2.12.0
Rtreemix 1.12.0 2.12.0
RUnit 0.4.26 2.12.0
Ruuid 1.28.0 2.12.0
safe 2.10.0 2.12.0
sagenhaft 1.20.0 2.12.0
SAGx 1.24.0 2.12.0
sampleSelection 0.6-10 2.12.0
samr 1.28 2.12.0
SamSPECTRAL 1.4.1 2.12.0
sandwich 2.2-6 2.12.0
SBMLR 1.46.0 2.12.0
scatterplot3d 0.3-31 2.12.0
ScISI 1.22.0 2.12.0
scrime 1.2.1 2.12.0
sda 1.1.0 2.12.0
segmented 0.2-7.2 2.12.0
segmentSeq 1.2.0 2.12.0
sem 0.9-21 2.12.0
seqinr 3.0-0 2.12.0
seqLogo 1.16.0 2.12.0
seriation 1.0-2 2.12.0
sets 1.0-7 2.12.0
sfsmisc 1.0-13 2.12.0
sgeostat 1.0-23 2.12.0
shapes 1.1-3 2.12.0
ShortRead 1.8.1 2.12.0
siggenes 1.24.0 2.12.0
sigPathway 1.18.0 2.12.0
SIM 1.18.0 2.12.0
simpleaffy 2.26.0 2.12.0
simulatorAPMS 1.22.0 2.12.0
sizepower 1.20.0 2.12.0
slam 0.1-18 2.12.0
SLGI 1.10.0 2.12.0
SLqPCR 1.16.0 2.12.0
sm 2.2-4.1 2.12.0
SMAP 1.14.0 2.12.0
sna 2.1-0 2.12.0
SNAData 1.8.1 2.12.0
snapCGH 1.20.0 2.12.0
snow 0.3-3 2.12.0
snowfall 1.84 2.12.0
snowFT 1.2-0 2.12.0
SNPchip 1.14.0 2.12.0
SNPlocs.Hsapiens.dbSNP.20071016 0.99.1 2.12.0
SNPlocs.Hsapiens.dbSNP.20080617 0.99.1 2.12.0
SNPlocs.Hsapiens.dbSNP.20090506 0.99.1 2.12.0
SNPlocs.Hsapiens.dbSNP.20100427 0.99.2 2.12.0
snpMatrix 1.14.0 2.12.0
som 0.3-5 2.12.0
sp 0.9-72 2.12.0
spam 0.23-0 2.12.0
SparseM 0.86 2.12.0
spatial 7.3-2 2.12.0
spatstat 1.21-0 2.12.0
spdep 0.5-24 2.12.0
SpeCond 1.4.0 2.12.0
SPIA 1.8.0 2.12.0
SpikeIn 1.4.4 2.12.0
SpikeInSubset 1.2.8 2.12.0
spikeLI 2.10.0 2.12.0
spkTools 1.6.0 2.12.0
splancs 2.01-27 2.12.0
splicegear 1.22.0 2.12.0
splines 2.12.0 2.12.0
splots 1.16.0 2.12.0
spotSegmentation 1.24.0 2.12.0
sqldf 0.3-5 2.12.0
SQN 1.0 2.12.0
SQUADD 1.0.0 2.12.0
SRAdb 1.4.0 2.12.0
sscore 1.22.0 2.12.0
ssize 1.24.0 2.12.0
SSOAP 0.5-6 2.12.0
SSPA 1.6.0 2.12.0
st 1.1.4 2.12.0
Starr 1.6.0 2.12.0
statmod 1.4.8 2.12.0
statnet 2.1-1 2.12.0
stats 2.12.0 2.12.0
stats4 2.12.0 2.12.0
stepNorm 1.22.0 2.12.0
stjudem 1.2.2 2.12.0
stringr 0.4 2.12.0
strucchange 1.4-2 2.12.0
subselect 0.10-1 2.12.0
survey 3.22-4 2.12.0
survival 2.36-1 2.12.0
SVGAnnotation 0.7-2 2.12.0
SwissAir 1.1.00 2.12.0
systemfit 1.1-8 2.12.0
TargetSearch 1.6.0 2.12.0
TargetSearchData 1.0.3 2.12.0
tcltk 2.12.0 2.12.0
tcltk2 1.1-5 2.12.0
TeachingDemos 2.7 2.12.0
test3cdf 2.7.0 2.12.0
testthat 0.3 2.12.0
tigre 1.4.0 2.12.0
tilingArray 1.28.0 2.12.0
time 1.1 2.12.0
timecourse 1.22.0 2.12.0
timeDate 2130.91 2.12.0
timeSeries 2130.90 2.12.0
timsac 1.2.1 2.12.0
tinesath1cdf 1.0.3 2.12.0
tinesath1probe 1.0.2 2.12.0
tis 1.12 2.12.0
tkrplot 0.0-19 2.12.0
tkWidgets 1.28.0 2.12.0
tools 2.12.0 2.12.0
topGO 2.2.0 2.12.0
tree 1.0-28 2.12.0
tripack 1.3-4 2.12.0
truncreg 0.1-1 2.12.0
tseries 0.10-22 2.12.0
TSP 1.0-1 2.12.0
tspair 1.8.0 2.12.0
tweedie 2.0.7 2.12.0
twilight 1.26.0 2.12.0
TypeInfo 1.16.0 2.12.0
urca 1.2-4 2.12.0
utils 2.12.0 2.12.0
VanillaICE 1.12.2 2.12.0
vbmp 1.18.0 2.12.0
vcd 1.2-9 2.12.0
vegan 1.17-4 2.12.0
VGAM 0.8-1 2.12.0
VIM 1.4.2 2.12.0
vsn 3.18.0 2.12.0
waveslim 1.6.4 2.12.0
weaver 1.16.0 2.12.0
webbioc 1.22.0 2.12.0
widgetTools 1.28.0 2.12.0
WriteXLS 2.1.0 2.12.0
xcms 1.24.1 2.12.0
XDE 1.10.0 2.12.0
xgobi 1.2-14 2.12.0
XhybCasneuf 1.0.6 2.12.0
xmapbridge 1.8.1 2.12.0
xmapcore 1.3.9 2.12.0
XML 3.2-0.1 2.12.0
XMLRPC 0.2-2 2.12.0
XMLSchema 0.1-4 2.12.0
xps 1.10.2 2.12.0
xtable 1.5-6 2.12.0
xts 0.7-5 2.12.0
yaqcaffy 1.10.0 2.12.0
yeastCC 1.2.12 2.12.0
yeastExpData 0.9.17 2.12.0
yeastGSData 0.1.5 2.12.0
yeastRNASeq 0.0.3 2.12.0
Zelig 3.4-8 2.12.0
zoo 1.6-4 2.12.0