All our mirrors of open source software are available via http, https, ftp and an onion service. More information about our mirrors including statistics and contact information is available on our mirror info pages.
For information about dotsrc.org and our other services please go to our website.
| File Name ↓ | File Size ↓ | Date ↓ | 
|---|---|---|
| Parent directory/ | - | - | 
| ABarray/ | - | 2011-04-07 21:44:36 | 
| ACME/ | - | 2011-04-07 21:44:41 | 
| ADaCGH2/ | - | 2011-04-07 21:45:18 | 
| AffyCompatible/ | - | 2011-04-07 21:44:51 | 
| AffyExpress/ | - | 2011-04-07 21:44:46 | 
| AffyTiling/ | - | 2011-04-07 21:44:59 | 
| Agi4x44PreProcess/ | - | 2011-04-07 21:44:54 | 
| AgiMicroRna/ | - | 2011-04-07 21:45:07 | 
| AnnotationDbi/ | - | 2011-04-07 21:44:38 | 
| ArrayExpress/ | - | 2011-04-07 21:44:53 | 
| ArrayTools/ | - | 2011-04-07 21:44:53 | 
| BAC/ | - | 2011-04-07 21:44:48 | 
| BCRANK/ | - | 2011-04-07 21:44:49 | 
| BGmix/ | - | 2011-04-07 21:43:48 | 
| BHC/ | - | 2011-04-07 21:45:14 | 
| BSgenome/ | - | 2011-04-07 21:44:35 | 
| BUS/ | - | 2011-04-07 21:45:05 | 
| BayesPeak/ | - | 2011-04-07 21:45:13 | 
| BeadDataPackR/ | - | 2011-04-07 21:45:12 | 
| BicARE/ | - | 2011-04-07 21:44:56 | 
| BioMVCClass/ | - | 2011-04-07 21:44:36 | 
| BioNet/ | - | 2011-04-07 21:45:15 | 
| BioSeqClass/ | - | 2011-04-07 21:45:08 | 
| Biobase/ | - | 2011-04-07 21:44:15 | 
| BiocCaseStudies/ | - | 2011-04-07 21:44:47 | 
| Biostrings/ | - | 2011-04-07 21:44:21 | 
| BufferedMatrix/ | - | 2011-04-07 21:44:40 | 
| BufferedMatrixMethods/ | - | 2011-04-07 21:44:40 | 
| CALIB/ | - | 2011-04-07 21:44:41 | 
| CAMERA/ | - | 2011-04-07 21:45:03 | 
| CGEN/ | - | 2011-04-07 21:45:15 | 
| CGHbase/ | - | 2011-04-07 21:44:51 | 
| CGHcall/ | - | 2011-04-07 21:44:46 | 
| CGHnormaliter/ | - | 2011-04-07 21:45:07 | 
| CGHregions/ | - | 2011-04-07 21:44:51 | 
| CMA/ | - | 2011-04-07 21:44:51 | 
| CNTools/ | - | 2011-04-07 21:45:05 | 
| CNVtools/ | - | 2011-04-07 21:45:08 | 
| CORREP/ | - | 2011-04-07 21:44:42 | 
| CRImage/ | - | 2011-04-07 21:44:14 | 
| CSAR/ | - | 2011-04-07 21:45:08 | 
| Category/ | - | 2011-04-07 21:44:28 | 
| ChIPpeakAnno/ | - | 2011-04-07 21:45:06 | 
| ChIPseqR/ | - | 2011-04-07 21:45:08 | 
| ChIPsim/ | - | 2011-04-07 21:45:06 | 
| ChemmineR/ | - | 2011-04-07 21:44:54 | 
| ChromHeatMap/ | - | 2011-04-07 21:45:07 | 
| CoCiteStats/ | - | 2011-04-07 21:44:26 | 
| CoGAPS/ | - | 2011-04-07 21:43:02 | 
| ConsensusClusterPlus/ | - | 2011-04-07 21:45:09 | 
| DAVIDQuery/ | - | 2011-04-07 21:45:02 | 
| DEDS/ | - | 2011-04-07 21:44:26 | 
| DEGraph/ | - | 2011-04-07 21:45:18 | 
| DEGseq/ | - | 2011-04-07 21:45:08 | 
| DESeq/ | - | 2011-04-07 21:45:09 | 
| DFP/ | - | 2011-04-07 21:44:52 | 
| DNAcopy/ | - | 2011-04-07 21:44:23 | 
| DynDoc/ | - | 2011-04-07 21:44:16 | 
| EBImage/ | - | 2011-04-07 21:43:32 | 
| EBarrays/ | - | 2011-04-07 21:44:22 | 
| ExpressionView/ | - | 2011-04-07 21:45:13 | 
| GEOmetadb/ | - | 2011-04-07 21:44:50 | 
| GEOquery/ | - | 2011-04-07 21:44:33 | 
| GEOsubmission/ | - | 2011-04-07 21:45:14 | 
| GGBase/ | - | 2011-04-07 21:44:51 | 
| GGtools/ | - | 2011-04-07 21:44:37 | 
| GLAD/ | - | 2011-04-07 21:44:25 | 
| GOSemSim/ | - | 2011-04-07 21:45:01 | 
| GOstats/ | - | 2011-04-07 21:44:23 | 
| GSEABase/ | - | 2011-04-07 21:44:45 | 
| GSEAlm/ | - | 2011-04-07 21:44:49 | 
| GSRI/ | - | 2011-04-07 21:45:14 | 
| GeneAnswers/ | - | 2011-04-07 21:45:07 | 
| GeneGA/ | - | 2011-04-07 21:43:04 | 
| GeneMeta/ | - | 2011-04-07 21:44:28 | 
| GeneR/ | - | 2011-04-07 21:44:21 | 
| GeneRegionScan/ | - | 2011-04-07 21:45:04 | 
| GeneRfold/ | - | 2011-04-07 21:42:35 | 
| GeneSelectMMD/ | - | 2011-04-07 21:45:03 | 
| GeneSelector/ | - | 2011-04-07 21:44:50 | 
| GeneSpring/ | - | 2011-04-07 21:44:21 | 
| GeneTraffic/ | - | 2011-04-07 21:44:24 | 
| GeneticsBase/ | - | 2010-10-15 19:04:35 | 
| GeneticsDesign/ | - | 2011-04-07 21:44:40 | 
| GeneticsPed/ | - | 2011-04-07 21:44:42 | 
| GenomeGraphs/ | - | 2011-04-07 21:44:50 | 
| GenomicFeatures/ | - | 2011-04-07 21:45:07 | 
| GenomicRanges/ | - | 2011-04-07 21:45:12 | 
| Genominator/ | - | 2011-04-07 21:45:08 | 
| GlobalAncova/ | - | 2011-04-07 21:44:32 | 
| GraphAT/ | - | 2011-04-07 21:44:23 | 
| GraphAlignment/ | - | 2011-04-07 21:44:48 | 
| HELP/ | - | 2011-04-07 21:44:51 | 
| HEM/ | - | 2011-04-07 21:44:23 | 
| HTSanalyzeR/ | - | 2011-04-07 21:45:16 | 
| HTqPCR/ | - | 2011-04-07 21:45:08 | 
| Harshlight/ | - | 2011-04-07 21:44:36 | 
| Heatplus/ | - | 2011-04-07 21:44:35 | 
| HilbertVis/ | - | 2011-04-07 21:43:56 | 
| HilbertVisGUI/ | - | 2011-04-07 21:43:56 | 
| IRanges/ | - | 2011-04-07 21:44:21 | 
| ITALICS/ | - | 2011-04-07 21:44:52 | 
| Icens/ | - | 2011-04-07 21:44:21 | 
| IsoGeneGUI/ | - | 2011-04-07 21:45:15 | 
| KCsmart/ | - | 2011-04-07 21:44:54 | 
| KEGGSOAP/ | - | 2011-04-07 21:44:25 | 
| KEGGgraph/ | - | 2011-04-07 21:45:02 | 
| LBE/ | - | 2011-04-07 21:44:41 | 
| LMGene/ | - | 2011-04-07 21:44:29 | 
| LPE/ | - | 2011-04-07 21:44:20 | 
| LPEadj/ | - | 2011-04-07 21:44:51 | 
| LVSmiRNA/ | - | 2011-04-07 21:45:17 | 
| LiquidAssociation/ | - | 2011-04-07 21:45:08 | 
| MANOR/ | - | 2011-04-07 21:44:33 | 
| MBCB/ | - | 2011-04-07 21:45:15 | 
| MCRestimate/ | - | 2011-04-07 21:44:58 | 
| MEDIPS/ | - | 2011-04-07 21:45:18 | 
| MEDME/ | - | 2011-04-07 21:44:53 | 
| MLInterfaces/ | - | 2011-04-07 21:44:24 | 
| MVCClass/ | - | 2011-04-07 21:44:26 | 
| MantelCorr/ | - | 2011-04-07 21:44:33 | 
| MassArray/ | - | 2011-04-07 21:45:11 | 
| MassSpecWavelet/ | - | 2011-04-07 21:44:42 | 
| MeasurementError.cor/ | - | 2011-04-07 21:44:19 | 
| MergeMaid/ | - | 2011-04-07 21:44:23 | 
| Mfuzz/ | - | 2011-04-07 21:44:34 | 
| MiChip/ | - | 2011-04-07 21:45:06 | 
| MiPP/ | - | 2011-04-07 21:44:28 | 
| MotIV/ | - | 2011-04-07 21:45:12 | 
| Mulcom/ | - | 2011-04-07 21:45:16 | 
| NTW/ | - | 2011-04-07 21:45:15 | 
| NuPoP/ | - | 2011-04-07 21:45:16 | 
| OCplus/ | - | 2011-04-07 21:44:34 | 
| OLIN/ | - | 2011-04-07 21:44:24 | 
| OLINgui/ | - | 2011-04-07 21:44:26 | 
| OTUbase/ | - | 2011-04-07 21:45:17 | 
| OrderedList/ | - | 2011-04-07 21:44:35 | 
| OutlierD/ | - | 2011-04-07 21:44:47 | 
| PAnnBuilder/ | - | 2011-04-07 21:45:03 | 
| PCpheno/ | - | 2011-04-07 21:44:48 | 
| PGSEA/ | - | 2011-04-07 21:44:41 | 
| PICS/ | - | 2011-04-07 21:45:13 | 
| PLPE/ | - | 2011-04-07 21:44:53 | 
| PROMISE/ | - | 2011-04-07 21:45:14 | 
| PROcess/ | - | 2011-04-07 21:44:22 | 
| PatientGeneSets/ | - | 2011-04-07 21:45:15 | 
| R453Plus1Toolbox/ | - | 2011-04-07 21:45:18 | 
| RBGL/ | - | 2011-04-07 21:44:20 | 
| RBioinf/ | - | 2011-04-07 21:44:50 | 
| RCytoscape/ | - | 2011-04-07 21:45:16 | 
| RDRToolbox/ | - | 2011-04-07 21:45:16 | 
| RLMM/ | - | 2011-04-07 21:44:32 | 
| RMAGEML/ | - | 2011-04-07 21:42:19 | 
| RMAPPER/ | - | 2011-04-07 21:45:17 | 
| RNAither/ | - | 2011-04-07 21:44:53 | 
| ROC/ | - | 2011-04-07 21:44:16 | 
| RPA/ | - | 2011-04-07 21:45:05 | 
| RTCA/ | - | 2011-04-07 21:45:07 | 
| RTools4TB/ | - | 2011-04-07 21:45:06 | 
| RWebServices/ | - | 2011-04-07 21:42:41 | 
| RankProd/ | - | 2011-04-07 21:44:27 | 
| RbcBook1/ | - | 2011-04-07 21:44:37 | 
| Rdbi/ | - | 2011-04-07 21:44:19 | 
| RdbiPgSQL/ | - | 2011-04-07 21:42:20 | 
| Rdisop/ | - | 2011-04-07 21:44:47 | 
| RefPlus/ | - | 2011-04-07 21:44:39 | 
| Resourcerer/ | - | 2011-04-07 21:44:23 | 
| Rgraphviz/ | - | 2011-04-07 21:43:08 | 
| Ringo/ | - | 2011-04-07 21:44:41 | 
| Rmagpie/ | - | 2011-04-07 21:45:04 | 
| RmiR/ | - | 2011-04-07 21:44:01 | 
| Rolexa/ | - | 2011-04-07 21:45:05 | 
| RpsiXML/ | - | 2011-04-07 21:44:53 | 
| Rredland/ | - | 2011-04-07 21:42:33 | 
| Rsamtools/ | - | 2011-04-07 21:45:12 | 
| Rtreemix/ | - | 2011-04-07 21:44:47 | 
| Ruuid/ | - | 2011-04-07 21:44:16 | 
| SAGx/ | - | 2011-04-07 21:44:37 | 
| SBMLR/ | - | 2011-04-07 21:44:26 | 
| SIM/ | - | 2011-04-07 21:44:51 | 
| SJava/ | - | 2011-04-07 21:42:52 | 
| SLGI/ | - | 2011-04-07 21:44:48 | 
| SLqPCR/ | - | 2011-04-07 21:44:41 | 
| SMAP/ | - | 2011-04-07 21:44:46 | 
| SNPchip/ | - | 2011-04-07 21:44:34 | 
| SPIA/ | - | 2011-04-07 21:45:02 | 
| SQUADD/ | - | 2011-04-07 21:45:16 | 
| SRAdb/ | - | 2011-04-07 21:45:13 | 
| SSPA/ | - | 2011-04-07 21:45:04 | 
| SamSPECTRAL/ | - | 2011-04-07 21:45:11 | 
| ScISI/ | - | 2011-04-07 21:44:34 | 
| ShortRead/ | - | 2011-04-07 21:44:51 | 
| SpeCond/ | - | 2011-04-07 21:45:08 | 
| Starr/ | - | 2011-04-07 21:45:06 | 
| TargetSearch/ | - | 2011-04-07 21:45:04 | 
| TypeInfo/ | - | 2011-04-07 21:44:35 | 
| VanillaICE/ | - | 2011-04-07 21:44:46 | 
| XDE/ | - | 2011-04-07 21:44:48 | 
| aCGH/ | - | 2011-04-07 21:44:23 | 
| adSplit/ | - | 2011-04-07 21:44:34 | 
| affxparser/ | - | 2011-04-07 21:44:31 | 
| affy/ | - | 2011-04-07 21:44:17 | 
| affyContam/ | - | 2011-04-07 21:44:54 | 
| affyILM/ | - | 2011-04-07 21:45:14 | 
| affyPLM/ | - | 2011-04-07 21:44:19 | 
| affyPara/ | - | 2011-04-07 21:44:49 | 
| affyQCReport/ | - | 2011-04-07 21:44:29 | 
| affycomp/ | - | 2011-04-07 21:44:18 | 
| affycoretools/ | - | 2011-04-07 21:44:32 | 
| affyio/ | - | 2011-04-07 21:44:17 | 
| affylmGUI/ | - | 2011-04-07 21:44:22 | 
| affypdnn/ | - | 2011-04-07 21:44:20 | 
| altcdfenvs/ | - | 2011-04-07 21:44:22 | 
| annaffy/ | - | 2011-04-07 21:44:18 | 
| annotate/ | - | 2011-04-07 21:44:16 | 
| annotationTools/ | - | 2011-04-07 21:44:41 | 
| apComplex/ | - | 2011-04-07 21:44:26 | 
| aroma.light/ | - | 2011-04-07 21:44:36 | 
| arrayMvout/ | - | 2011-04-07 21:44:55 | 
| arrayQuality/ | - | 2011-04-07 21:44:22 | 
| arrayQualityMetrics/ | - | 2011-04-07 21:43:45 | 
| attract/ | - | 2011-04-07 21:45:14 | 
| baySeq/ | - | 2011-04-07 21:45:07 | 
| beadarray/ | - | 2011-04-07 21:44:34 | 
| beadarraySNP/ | - | 2011-04-07 21:44:37 | 
| betr/ | - | 2011-04-07 21:45:03 | 
| bgafun/ | - | 2011-04-07 21:44:47 | 
| bgx/ | - | 2011-04-07 21:44:42 | 
| bioDist/ | - | 2011-04-07 21:44:26 | 
| biocDatasets/ | - | 2011-04-07 21:45:03 | 
| biocGraph/ | - | 2011-04-07 21:44:46 | 
| biocViews/ | - | 2011-04-07 21:44:32 | 
| biomaRt/ | - | 2011-04-07 21:44:27 | 
| bridge/ | - | 2011-04-07 21:44:28 | 
| cellHTS/ | - | 2011-04-07 21:44:34 | 
| cellHTS2/ | - | 2011-04-07 21:44:46 | 
| cghMCR/ | - | 2011-04-07 21:44:35 | 
| charm/ | - | 2011-04-07 21:45:11 | 
| chipseq/ | - | 2011-04-07 21:45:05 | 
| clippda/ | - | 2011-04-07 21:45:07 | 
| clusterStab/ | - | 2011-04-07 21:44:29 | 
| coRNAi/ | - | 2011-04-07 21:45:15 | 
| codelink/ | - | 2011-04-07 21:44:33 | 
| convert/ | - | 2011-04-07 21:44:22 | 
| copa/ | - | 2011-04-07 21:44:34 | 
| cosmo/ | - | 2011-04-07 21:44:38 | 
| cosmoGUI/ | - | 2011-04-07 21:44:41 | 
| crlmm/ | - | 2011-04-07 21:45:03 | 
| ctc/ | - | 2011-04-07 21:44:16 | 
| cycle/ | - | 2011-04-07 21:45:07 | 
| daMA/ | - | 2011-04-07 21:44:18 | 
| ddCt/ | - | 2011-04-07 21:45:06 | 
| diffGeneAnalysis/ | - | 2011-04-07 21:44:29 | 
| domainsignatures/ | - | 2011-04-07 21:44:52 | 
| dualKS/ | - | 2011-04-07 21:44:52 | 
| dyebias/ | - | 2011-04-07 21:45:03 | 
| ecolitk/ | - | 2011-04-07 21:44:20 | 
| edd/ | - | 2011-04-07 21:44:16 | 
| edgeR/ | - | 2011-04-07 21:44:53 | 
| eisa/ | - | 2011-04-07 21:45:08 | 
| exonmap/ | - | 2011-04-07 21:43:40 | 
| explorase/ | - | 2011-04-07 21:43:45 | 
| externalVector/ | - | 2011-04-07 21:44:18 | 
| fabia/ | - | 2011-04-07 21:45:14 | 
| factDesign/ | - | 2011-04-07 21:44:19 | 
| farms/ | - | 2011-04-07 21:45:16 | 
| fbat/ | - | 2010-10-15 19:04:35 | 
| fdrame/ | - | 2011-04-07 21:44:29 | 
| flagme/ | - | 2011-04-07 21:44:56 | 
| flowClust/ | - | 2011-04-07 21:44:49 | 
| flowCore/ | - | 2011-04-07 21:44:38 | 
| flowFP/ | - | 2011-04-07 21:45:05 | 
| flowFlowJo/ | - | 2011-04-07 21:45:03 | 
| flowMeans/ | - | 2011-04-07 21:45:13 | 
| flowMerge/ | - | 2011-04-07 21:45:05 | 
| flowQ/ | - | 2011-04-07 21:44:38 | 
| flowStats/ | - | 2011-04-07 21:45:04 | 
| flowTrans/ | - | 2011-04-07 21:45:14 | 
| flowUtils/ | - | 2011-04-07 21:44:38 | 
| flowViz/ | - | 2011-04-07 21:44:38 | 
| frma/ | - | 2011-04-07 21:45:09 | 
| frmaTools/ | - | 2011-04-07 21:45:09 | 
| gaga/ | - | 2011-04-07 21:44:48 | 
| gage/ | - | 2011-04-07 21:45:17 | 
| gaggle/ | - | 2011-04-07 21:44:35 | 
| gcrma/ | - | 2011-04-07 21:44:18 | 
| genArise/ | - | 2011-04-07 21:44:25 | 
| gene2pathway/ | - | 2011-04-07 21:45:00 | 
| geneRecommender/ | - | 2011-04-07 21:44:28 | 
| genefilter/ | - | 2011-04-07 21:44:16 | 
| geneplotter/ | - | 2011-04-07 21:44:16 | 
| genoCN/ | - | 2011-04-07 21:45:12 | 
| genomeIntervals/ | - | 2011-04-07 21:45:03 | 
| genomes/ | - | 2011-04-07 21:45:14 | 
| girafe/ | - | 2011-04-07 21:45:12 | 
| globaltest/ | - | 2011-04-07 21:44:23 | 
| goProfiles/ | - | 2011-04-07 21:44:51 | 
| goTools/ | - | 2011-04-07 21:44:22 | 
| goseq/ | - | 2011-04-07 21:45:13 | 
| gpls/ | - | 2011-04-07 21:44:19 | 
| graph/ | - | 2011-04-07 21:44:17 | 
| hexbin/ | - | 2011-04-07 21:44:17 | 
| hopach/ | - | 2011-04-07 21:44:25 | 
| hyperdraw/ | - | 2011-04-07 21:45:09 | 
| hypergraph/ | - | 2011-04-07 21:44:28 | 
| iChip/ | - | 2011-04-07 21:45:09 | 
| iFlow/ | - | 2010-10-12 19:05:18 | 
| iSeq/ | - | 2011-04-07 21:45:17 | 
| idiogram/ | - | 2011-04-07 21:44:28 | 
| imageHTS/ | - | 2011-04-07 21:44:13 | 
| impute/ | - | 2011-04-07 21:44:21 | 
| iterativeBMA/ | - | 2011-04-07 21:44:52 | 
| iterativeBMAsurv/ | - | 2011-04-07 21:44:52 | 
| keggorthology/ | - | 2011-04-07 21:44:46 | 
| lapmix/ | - | 2011-04-07 21:44:36 | 
| les/ | - | 2011-04-07 21:45:16 | 
| limma/ | - | 2011-04-07 21:44:18 | 
| limmaGUI/ | - | 2011-04-07 21:44:22 | 
| logicFS/ | - | 2011-04-07 21:44:35 | 
| logitT/ | - | 2011-04-07 21:44:53 | 
| lumi/ | - | 2011-04-07 21:44:39 | 
| mBPCR/ | - | 2011-04-07 21:45:06 | 
| maCorrPlot/ | - | 2011-04-07 21:44:35 | 
| maDB/ | - | 2011-04-07 21:42:31 | 
| maSigPro/ | - | 2011-04-07 21:44:32 | 
| maanova/ | - | 2011-04-07 21:44:30 | 
| macat/ | - | 2011-04-07 21:44:26 | 
| made4/ | - | 2011-04-07 21:44:27 | 
| maigesPack/ | - | 2011-04-07 21:44:47 | 
| makePlatformDesign/ | - | 2011-04-07 21:44:29 | 
| makecdfenv/ | - | 2011-04-07 21:44:17 | 
| marray/ | - | 2011-04-07 21:44:22 | 
| mdqc/ | - | 2011-04-07 21:44:49 | 
| metaArray/ | - | 2011-04-07 21:44:33 | 
| metahdep/ | - | 2011-04-07 21:45:03 | 
| methVisual/ | - | 2011-04-07 21:45:11 | 
| methylumi/ | - | 2011-04-07 21:45:05 | 
| miRNApath/ | - | 2011-04-07 21:44:52 | 
| microRNA/ | - | 2011-04-07 21:44:53 | 
| minet/ | - | 2011-04-07 21:44:52 | 
| multiscan/ | - | 2011-04-07 21:44:52 | 
| multtest/ | - | 2011-04-07 21:44:16 | 
| nem/ | - | 2011-04-07 21:44:37 | 
| netresponse/ | - | 2011-04-07 21:45:17 | 
| nnNorm/ | - | 2011-04-07 21:44:25 | 
| nudge/ | - | 2011-04-07 21:44:35 | 
| occugene/ | - | 2011-04-07 21:44:39 | 
| oligo/ | - | 2011-04-07 21:44:28 | 
| oligoClasses/ | - | 2011-04-07 21:44:46 | 
| oneChannelGUI/ | - | 2011-04-07 21:44:42 | 
| ontoCAT/ | - | 2011-04-07 21:45:17 | 
| ontoTools/ | - | 2011-04-07 21:44:19 | 
| pamr/ | - | 2011-04-07 21:44:18 | 
| panp/ | - | 2011-04-07 21:44:33 | 
| parody/ | - | 2011-04-07 21:44:54 | 
| pathRender/ | - | 2011-04-07 21:44:33 | 
| pcaMethods/ | - | 2011-04-07 21:44:37 | 
| pcot2/ | - | 2011-04-07 21:44:36 | 
| pdInfoBuilder/ | - | 2011-04-07 21:44:40 | 
| pdmclass/ | - | 2011-04-07 21:44:29 | 
| pgUtils/ | - | 2011-04-07 21:42:31 | 
| pickgene/ | - | 2011-04-07 21:44:20 | 
| pint/ | - | 2011-04-07 21:45:11 | 
| pkgDepTools/ | - | 2011-04-07 21:44:37 | 
| plateCore/ | - | 2011-04-07 21:45:06 | 
| plgem/ | - | 2011-04-07 21:44:27 | 
| plier/ | - | 2011-04-07 21:44:27 | 
| plw/ | - | 2011-04-07 21:44:48 | 
| ppiStats/ | - | 2011-04-07 21:44:37 | 
| prada/ | - | 2011-04-07 21:44:23 | 
| preprocessCore/ | - | 2011-04-07 21:44:17 | 
| puma/ | - | 2011-04-07 21:44:44 | 
| qpcrNorm/ | - | 2011-04-07 21:45:04 | 
| qpgraph/ | - | 2011-04-07 21:45:02 | 
| quantsmooth/ | - | 2011-04-07 21:44:36 | 
| qvalue/ | - | 2011-04-07 21:44:21 | 
| rGADEM/ | - | 2011-04-07 21:45:10 | 
| rHVDM/ | - | 2011-04-07 21:44:41 | 
| rMAT/ | - | 2011-04-07 21:45:04 | 
| rama/ | - | 2011-04-07 21:44:21 | 
| rbsurv/ | - | 2011-04-07 21:44:42 | 
| reb/ | - | 2011-04-07 21:44:30 | 
| rflowcyt/ | - | 2011-04-07 21:44:24 | 
| rnaSeqMap/ | - | 2011-04-07 21:45:17 | 
| rsbml/ | - | 2011-04-07 21:43:46 | 
| rtracklayer/ | - | 2011-04-07 21:44:50 | 
| safe/ | - | 2011-04-07 21:44:27 | 
| sagenhaft/ | - | 2011-04-07 21:44:26 | 
| segmentSeq/ | - | 2011-04-07 21:45:12 | 
| seqLogo/ | - | 2011-04-07 21:44:40 | 
| sigPathway/ | - | 2011-04-07 21:44:36 | 
| siggenes/ | - | 2011-04-07 21:44:18 | 
| simpleaffy/ | - | 2011-04-07 21:44:20 | 
| simulatorAPMS/ | - | 2011-04-07 21:44:32 | 
| sizepower/ | - | 2011-04-07 21:44:34 | 
| snapCGH/ | - | 2011-04-07 21:44:33 | 
| snpMatrix/ | - | 2011-04-07 21:44:49 | 
| spikeLI/ | - | 2011-04-07 21:44:36 | 
| spkTools/ | - | 2011-04-07 21:45:02 | 
| splicegear/ | - | 2011-04-07 21:44:18 | 
| splots/ | - | 2011-04-07 21:44:37 | 
| spotSegmentation/ | - | 2011-04-07 21:44:27 | 
| sscore/ | - | 2011-04-07 21:44:33 | 
| ssize/ | - | 2011-04-07 21:44:28 | 
| stepNorm/ | - | 2011-04-07 21:44:26 | 
| tigre/ | - | 2011-04-07 21:45:13 | 
| tilingArray/ | - | 2011-04-07 21:44:27 | 
| timecourse/ | - | 2011-04-07 21:44:29 | 
| tkWidgets/ | - | 2011-04-07 21:44:17 | 
| topGO/ | - | 2011-04-07 21:44:41 | 
| tspair/ | - | 2011-04-07 21:45:02 | 
| twilight/ | - | 2011-04-07 21:44:25 | 
| vbmp/ | - | 2011-04-07 21:44:46 | 
| vsn/ | - | 2011-04-07 21:44:17 | 
| weaver/ | - | 2011-04-07 21:44:36 | 
| webbioc/ | - | 2011-04-07 21:44:20 | 
| widgetTools/ | - | 2011-04-07 21:44:17 | 
| xcms/ | - | 2011-04-07 21:44:28 | 
| xmapbridge/ | - | 2011-04-07 21:44:54 | 
| xmapcore/ | - | 2011-04-07 21:43:01 | 
| xps/ | - | 2011-04-07 21:43:47 | 
| yaqcaffy/ | - | 2011-04-07 21:44:47 | 
| STATUS_DB.txt | 94.9 KiB | 2011-04-07 21:42:16 | 
| gewurz-NodeInfo.html | 4.9 KiB | 2011-04-07 21:45:26 | 
| gewurz-R-instpkgs.html | 49.3 KiB | 2011-04-07 21:45:26 | 
| gewurz-index.html | 295.9 KiB | 2011-04-07 21:45:25 | 
| index.html | 1.1 MiB | 2011-04-07 21:45:32 | 
| lamb2-NodeInfo.html | 4.7 KiB | 2011-04-07 21:45:26 | 
| lamb2-R-instpkgs.html | 49.9 KiB | 2011-04-07 21:45:26 | 
| lamb2-index.html | 261.3 KiB | 2011-04-07 21:45:20 | 
| liverpool-NodeInfo.html | 4.6 KiB | 2011-04-07 21:45:26 | 
| liverpool-R-instpkgs.html | 47.0 KiB | 2011-04-07 21:45:26 | 
| liverpool-index.html | 305.8 KiB | 2011-04-07 21:45:23 | 
| meat-index.txt | 69.7 KiB | 2011-04-07 21:42:04 | 
| pelham-NodeInfo.html | 4.9 KiB | 2011-03-31 19:03:34 | 
| pelham-R-instpkgs.html | 47.9 KiB | 2011-03-31 19:03:34 | 
| pelham-index.html | 302.7 KiB | 2011-03-31 19:03:34 | 
| report.css | 6.0 KiB | 2011-04-07 21:42:16 | 
| report.js | 3.9 KiB | 2011-04-07 21:42:16 | 
| report.tgz | 1.8 MiB | 2011-04-07 21:45:33 |