All our mirrors of open source software are available via http, https, ftp and an onion service. More information about our mirrors including statistics and contact information is available on our mirror info pages.
For information about dotsrc.org and our other services please go to our website.
| File Name ↓ | File Size ↓ | Date ↓ | 
|---|---|---|
| Parent directory/ | - | - | 
| ACME/ | - | 2011-04-07 20:45:36 | 
| ADaCGH2/ | - | 2011-04-07 20:45:42 | 
| AffyCompatible/ | - | 2011-04-07 20:45:36 | 
| AgiMicroRna/ | - | 2011-04-07 20:45:43 | 
| AnnotationDbi/ | - | 2011-04-07 20:45:42 | 
| BAC/ | - | 2011-04-07 20:45:38 | 
| BCRANK/ | - | 2011-04-07 20:45:36 | 
| BGmix/ | - | 2011-04-07 20:45:40 | 
| BHC/ | - | 2011-04-07 20:45:40 | 
| BUS/ | - | 2011-04-07 20:45:40 | 
| BayesPeak/ | - | 2011-04-07 20:45:39 | 
| BicARE/ | - | 2011-04-07 20:45:37 | 
| BioMVCClass/ | - | 2011-04-07 20:45:38 | 
| BioNet/ | - | 2011-04-07 20:45:39 | 
| BioSeqClass/ | - | 2011-04-07 20:45:38 | 
| Biobase/ | - | 2011-04-07 20:45:43 | 
| BufferedMatrix/ | - | 2011-04-07 20:45:36 | 
| BufferedMatrixMethods/ | - | 2011-04-07 20:45:40 | 
| CGEN/ | - | 2011-04-07 20:45:43 | 
| CGHbase/ | - | 2011-04-07 20:45:36 | 
| CGHnormaliter/ | - | 2011-04-07 20:45:44 | 
| CGHregions/ | - | 2011-04-07 20:45:36 | 
| CMA/ | - | 2011-04-07 20:45:36 | 
| CNVtools/ | - | 2011-04-07 20:45:36 | 
| CORREP/ | - | 2011-04-07 20:45:44 | 
| CSAR/ | - | 2011-04-07 20:45:43 | 
| ChIPsim/ | - | 2011-04-07 20:45:41 | 
| ChemmineR/ | - | 2011-04-07 20:45:38 | 
| CoCiteStats/ | - | 2011-04-07 20:45:38 | 
| CoGAPS/ | - | 2011-04-07 20:45:40 | 
| ConsensusClusterPlus/ | - | 2011-04-07 20:45:38 | 
| DEDS/ | - | 2011-04-07 20:45:40 | 
| DEGraph/ | - | 2011-04-07 20:45:43 | 
| DEGseq/ | - | 2011-04-07 20:45:43 | 
| DESeq/ | - | 2011-04-07 20:45:39 | 
| DFP/ | - | 2011-04-07 20:45:38 | 
| DNAcopy/ | - | 2011-04-07 20:45:39 | 
| DynDoc/ | - | 2011-04-07 20:45:36 | 
| EBImage/ | - | 2011-04-07 20:45:41 | 
| EBarrays/ | - | 2011-04-07 20:45:41 | 
| ExpressionView/ | - | 2011-04-07 20:45:37 | 
| GEOsubmission/ | - | 2011-04-07 20:45:42 | 
| GGBase/ | - | 2011-04-07 20:45:37 | 
| GGtools/ | - | 2011-04-07 20:45:40 | 
| GLAD/ | - | 2011-04-07 20:45:38 | 
| GOSemSim/ | - | 2011-04-07 20:45:40 | 
| GOstats/ | - | 2011-04-07 20:45:39 | 
| GSEABase/ | - | 2011-04-07 20:45:38 | 
| GSEAlm/ | - | 2011-04-07 20:45:37 | 
| GSRI/ | - | 2011-04-07 20:45:43 | 
| GeneGA/ | - | 2011-04-07 20:45:40 | 
| GeneMeta/ | - | 2011-04-07 20:45:39 | 
| GeneR/ | - | 2011-04-07 20:45:38 | 
| GeneRfold/ | - | 2011-04-07 20:45:37 | 
| GeneSelectMMD/ | - | 2011-04-07 20:45:36 | 
| GeneTraffic/ | - | 2011-04-07 20:45:42 | 
| GeneticsDesign/ | - | 2011-04-07 20:45:40 | 
| GeneticsPed/ | - | 2011-04-07 20:45:41 | 
| GenomeGraphs/ | - | 2011-04-07 20:45:43 | 
| GenomicFeatures/ | - | 2011-04-07 20:45:36 | 
| HELP/ | - | 2011-04-07 20:45:38 | 
| HEM/ | - | 2011-04-07 20:45:41 | 
| HTqPCR/ | - | 2011-04-07 20:45:36 | 
| Heatplus/ | - | 2011-04-07 20:45:42 | 
| HilbertVis/ | - | 2011-04-07 20:45:37 | 
| IRanges/ | - | 2011-04-07 20:45:42 | 
| ITALICS/ | - | 2011-04-07 20:45:41 | 
| IsoGeneGUI/ | - | 2011-04-07 20:45:43 | 
| KCsmart/ | - | 2011-04-07 20:45:41 | 
| KEGGSOAP/ | - | 2011-04-07 20:45:44 | 
| LBE/ | - | 2011-04-07 20:45:36 | 
| LPE/ | - | 2011-04-07 20:45:43 | 
| LPEadj/ | - | 2011-04-07 20:45:39 | 
| MANOR/ | - | 2011-04-07 20:45:39 | 
| MCRestimate/ | - | 2011-04-07 20:45:41 | 
| MEDME/ | - | 2011-04-07 20:45:43 | 
| MLInterfaces/ | - | 2011-04-07 20:45:40 | 
| MVCClass/ | - | 2011-04-07 20:45:38 | 
| MantelCorr/ | - | 2011-04-07 20:45:38 | 
| MassArray/ | - | 2011-04-07 20:45:40 | 
| MeasurementError.cor/ | - | 2011-04-07 20:45:41 | 
| MergeMaid/ | - | 2011-04-07 20:45:39 | 
| Mfuzz/ | - | 2011-04-07 20:45:41 | 
| MiPP/ | - | 2011-04-07 20:45:42 | 
| Mulcom/ | - | 2011-04-07 20:45:38 | 
| NTW/ | - | 2011-04-07 20:45:36 | 
| NuPoP/ | - | 2011-04-07 20:45:39 | 
| OLINgui/ | - | 2011-04-07 20:45:43 | 
| OTUbase/ | - | 2011-04-07 20:45:36 | 
| OrderedList/ | - | 2011-04-07 20:45:43 | 
| OutlierD/ | - | 2011-04-07 20:45:43 | 
| PICS/ | - | 2011-04-07 20:45:44 | 
| PLPE/ | - | 2011-04-07 20:45:37 | 
| PROcess/ | - | 2011-04-07 20:45:42 | 
| PatientGeneSets/ | - | 2011-04-07 20:45:36 | 
| R453Plus1Toolbox/ | - | 2011-04-07 20:45:41 | 
| RBioinf/ | - | 2011-04-07 20:45:39 | 
| RCytoscape/ | - | 2011-04-07 20:45:41 | 
| RDRToolbox/ | - | 2011-04-07 20:45:39 | 
| RMAGEML/ | - | 2011-04-07 20:45:39 | 
| RMAPPER/ | - | 2011-04-07 20:45:37 | 
| RNAither/ | - | 2011-04-07 20:45:37 | 
| ROC/ | - | 2011-04-07 20:45:43 | 
| RTCA/ | - | 2011-04-07 20:45:39 | 
| RWebServices/ | - | 2011-04-07 20:45:42 | 
| Rdbi/ | - | 2011-04-07 20:45:42 | 
| RdbiPgSQL/ | - | 2011-04-07 20:45:40 | 
| Rmagpie/ | - | 2011-04-07 20:45:38 | 
| Rolexa/ | - | 2011-04-07 20:45:36 | 
| RpsiXML/ | - | 2011-04-07 20:45:37 | 
| Rsamtools/ | - | 2011-04-07 20:45:39 | 
| Rtreemix/ | - | 2011-04-07 20:45:42 | 
| Ruuid/ | - | 2011-04-07 20:45:38 | 
| SBMLR/ | - | 2011-04-07 20:45:36 | 
| SLqPCR/ | - | 2011-04-07 20:45:40 | 
| SMAP/ | - | 2011-04-07 20:45:37 | 
| ScISI/ | - | 2011-04-07 20:45:38 | 
| SpeCond/ | - | 2011-04-07 20:45:43 | 
| TargetSearch/ | - | 2011-04-07 20:45:40 | 
| TypeInfo/ | - | 2011-04-07 20:45:38 | 
| aCGH/ | - | 2011-04-07 20:45:38 | 
| adSplit/ | - | 2011-04-07 20:45:37 | 
| affxparser/ | - | 2011-04-07 20:45:40 | 
| affyILM/ | - | 2011-04-07 20:45:43 | 
| affyQCReport/ | - | 2011-04-07 20:45:39 | 
| affycomp/ | - | 2011-04-07 20:45:40 | 
| affycoretools/ | - | 2011-04-07 20:45:38 | 
| affyio/ | - | 2011-04-07 20:45:36 | 
| affylmGUI/ | - | 2011-04-07 20:45:36 | 
| affypdnn/ | - | 2011-04-07 20:45:40 | 
| annaffy/ | - | 2011-04-07 20:45:37 | 
| apComplex/ | - | 2011-04-07 20:45:43 | 
| aroma.light/ | - | 2011-04-07 20:45:40 | 
| arrayMvout/ | - | 2011-04-07 20:45:42 | 
| arrayQuality/ | - | 2011-04-07 20:45:37 | 
| arrayQualityMetrics/ | - | 2011-04-07 20:45:38 | 
| attract/ | - | 2011-04-07 20:45:37 | 
| baySeq/ | - | 2011-04-07 20:45:43 | 
| beadarray/ | - | 2011-04-07 20:45:41 | 
| bgafun/ | - | 2011-04-07 20:45:40 | 
| bgx/ | - | 2011-04-07 20:45:39 | 
| bioDist/ | - | 2011-04-07 20:45:37 | 
| cellHTS/ | - | 2011-04-07 20:45:42 | 
| cghMCR/ | - | 2011-04-07 20:45:38 | 
| charm/ | - | 2011-04-07 20:45:37 | 
| chipseq/ | - | 2011-04-07 20:45:39 | 
| clippda/ | - | 2011-04-07 20:45:40 | 
| clusterStab/ | - | 2011-04-07 20:45:42 | 
| coRNAi/ | - | 2011-04-07 20:45:39 | 
| codelink/ | - | 2011-04-07 20:45:39 | 
| convert/ | - | 2011-04-07 20:45:43 | 
| copa/ | - | 2011-04-07 20:45:36 | 
| cosmo/ | - | 2011-04-07 20:45:39 | 
| cosmoGUI/ | - | 2011-04-07 20:45:43 | 
| crlmm/ | - | 2011-04-07 20:45:44 | 
| ddCt/ | - | 2011-04-07 20:45:40 | 
| diffGeneAnalysis/ | - | 2011-04-07 20:45:41 | 
| domainsignatures/ | - | 2011-04-07 20:45:43 | 
| dualKS/ | - | 2011-04-07 20:45:41 | 
| dyebias/ | - | 2011-04-07 20:45:38 | 
| ecolitk/ | - | 2011-04-07 20:45:41 | 
| edd/ | - | 2011-04-07 20:45:42 | 
| edgeR/ | - | 2011-04-07 20:45:39 | 
| eisa/ | - | 2011-04-07 20:45:39 | 
| farms/ | - | 2011-04-07 20:45:38 | 
| fbat/ | - | 2011-04-07 20:45:40 | 
| fdrame/ | - | 2011-04-07 20:45:43 | 
| flowClust/ | - | 2011-04-07 20:45:38 | 
| flowFP/ | - | 2011-04-07 20:45:39 | 
| flowMeans/ | - | 2011-04-07 20:45:37 | 
| flowMerge/ | - | 2011-04-07 20:45:40 | 
| flowQ/ | - | 2011-04-07 20:45:38 | 
| flowStats/ | - | 2011-04-07 20:45:36 | 
| flowViz/ | - | 2011-04-07 20:45:36 | 
| frmaTools/ | - | 2011-04-07 20:45:44 | 
| gaga/ | - | 2011-04-07 20:45:39 | 
| gage/ | - | 2011-04-07 20:45:40 | 
| gaggle/ | - | 2011-04-07 20:45:42 | 
| gene2pathway/ | - | 2011-04-07 20:45:41 | 
| geneRecommender/ | - | 2011-04-07 20:45:41 | 
| geneplotter/ | - | 2011-04-07 20:45:41 | 
| genoCN/ | - | 2011-04-07 20:45:43 | 
| genomeIntervals/ | - | 2011-04-07 20:45:42 | 
| genomes/ | - | 2011-04-07 20:45:37 | 
| girafe/ | - | 2011-04-07 20:45:44 | 
| globaltest/ | - | 2011-04-07 20:45:37 | 
| goProfiles/ | - | 2011-04-07 20:45:41 | 
| gpls/ | - | 2011-04-07 20:45:40 | 
| hexbin/ | - | 2011-04-07 20:45:38 | 
| hopach/ | - | 2011-04-07 20:45:41 | 
| hyperdraw/ | - | 2011-04-07 20:45:40 | 
| hypergraph/ | - | 2011-04-07 20:45:36 | 
| iFlow/ | - | 2011-04-07 20:45:37 | 
| iSeq/ | - | 2011-04-07 20:45:41 | 
| idiogram/ | - | 2011-04-07 20:45:39 | 
| imageHTS/ | - | 2011-04-07 20:45:39 | 
| iterativeBMA/ | - | 2011-04-07 20:45:36 | 
| iterativeBMAsurv/ | - | 2011-04-07 20:45:39 | 
| keggorthology/ | - | 2011-04-07 20:45:36 | 
| lapmix/ | - | 2011-04-07 20:45:40 | 
| les/ | - | 2011-04-07 20:45:41 | 
| limma/ | - | 2011-04-07 20:45:43 | 
| logicFS/ | - | 2011-04-07 20:45:38 | 
| logitT/ | - | 2011-04-07 20:45:37 | 
| lumi/ | - | 2011-04-07 20:45:38 | 
| mBPCR/ | - | 2011-04-07 20:45:38 | 
| maCorrPlot/ | - | 2011-04-07 20:45:38 | 
| maDB/ | - | 2011-04-07 20:45:39 | 
| maSigPro/ | - | 2011-04-07 20:45:37 | 
| macat/ | - | 2011-04-07 20:45:41 | 
| made4/ | - | 2011-04-07 20:45:41 | 
| makecdfenv/ | - | 2011-04-07 20:45:42 | 
| marray/ | - | 2011-04-07 20:45:42 | 
| metaArray/ | - | 2011-04-07 20:45:43 | 
| methVisual/ | - | 2011-04-07 20:45:39 | 
| miRNApath/ | - | 2011-04-07 20:45:37 | 
| microRNA/ | - | 2011-04-07 20:45:37 | 
| minet/ | - | 2011-04-07 20:45:36 | 
| multiscan/ | - | 2011-04-07 20:45:41 | 
| nem/ | - | 2011-04-07 20:45:41 | 
| nudge/ | - | 2011-04-07 20:45:42 | 
| oligoClasses/ | - | 2011-04-07 20:45:41 | 
| oneChannelGUI/ | - | 2011-04-07 20:45:37 | 
| ontoCAT/ | - | 2011-04-07 20:45:43 | 
| ontoTools/ | - | 2011-04-07 20:45:40 | 
| panp/ | - | 2011-04-07 20:45:41 | 
| pathRender/ | - | 2011-04-07 20:45:36 | 
| pcaMethods/ | - | 2011-04-07 20:45:43 | 
| pcot2/ | - | 2011-04-07 20:45:39 | 
| pgUtils/ | - | 2011-04-07 20:45:38 | 
| pint/ | - | 2011-04-07 20:45:42 | 
| pkgDepTools/ | - | 2011-04-07 20:45:41 | 
| plgem/ | - | 2011-04-07 20:45:42 | 
| plier/ | - | 2011-04-07 20:45:37 | 
| plw/ | - | 2011-04-07 20:45:39 | 
| preprocessCore/ | - | 2011-04-07 20:45:41 | 
| qpcrNorm/ | - | 2011-04-07 20:45:38 | 
| qpgraph/ | - | 2011-04-07 20:45:41 | 
| rGADEM/ | - | 2011-04-07 20:45:39 | 
| rMAT/ | - | 2011-04-07 20:45:38 | 
| rbsurv/ | - | 2011-04-07 20:45:39 | 
| rsbml/ | - | 2011-04-07 20:45:41 | 
| sagenhaft/ | - | 2011-04-07 20:45:38 | 
| seqLogo/ | - | 2011-04-07 20:45:38 | 
| sigPathway/ | - | 2011-04-07 20:45:36 | 
| snapCGH/ | - | 2011-04-07 20:45:42 | 
| snpMatrix/ | - | 2011-04-07 20:45:42 | 
| spikeLI/ | - | 2011-04-07 20:45:39 | 
| spkTools/ | - | 2011-04-07 20:45:43 | 
| stepNorm/ | - | 2011-04-07 20:45:39 | 
| tigre/ | - | 2011-04-07 20:45:40 | 
| timecourse/ | - | 2011-04-07 20:45:43 | 
| topGO/ | - | 2011-04-07 20:45:39 | 
| tspair/ | - | 2011-04-07 20:45:38 | 
| vbmp/ | - | 2011-04-07 20:45:36 | 
| vsn/ | - | 2011-04-07 20:45:42 | 
| weaver/ | - | 2011-04-07 20:45:37 | 
| widgetTools/ | - | 2011-04-07 20:45:38 | 
| xcms/ | - | 2011-04-07 20:45:36 | 
| xmapbridge/ | - | 2011-04-07 20:45:40 | 
| xps/ | - | 2011-04-07 20:45:40 | 
| yaqcaffy/ | - | 2011-04-07 20:45:37 | 
| gewurz-NodeInfo.html | 4.9 KiB | 2011-04-07 20:45:43 | 
| gewurz-R-instpkgs.html | 48.4 KiB | 2011-04-07 20:45:43 | 
| gewurz-index.html | 299.2 KiB | 2011-04-07 20:45:42 | 
| lamb2-index.html | 264.9 KiB | 2011-04-07 20:45:44 | 
| liverpool-NodeInfo.html | 4.6 KiB | 2011-04-07 20:45:39 | 
| liverpool-R-instpkgs.html | 46.8 KiB | 2011-04-07 20:45:36 | 
| liverpool-index.html | 309.3 KiB | 2011-04-07 20:45:37 | 
| pelham-NodeInfo.html | 4.9 KiB | 2011-04-07 20:45:36 | 
| report.js | 3.9 KiB | 2011-04-07 20:45:43 | 
| report.tgz | 2.6 MiB | 2011-04-07 20:45:36 |