All our mirrors of open source software are available via http, https, ftp and an onion service. More information about our mirrors including statistics and contact information is available on our mirror info pages.
For information about dotsrc.org and our other services please go to our website.
| File Name ↓ | File Size ↓ | Date ↓ | 
|---|---|---|
| Parent directory/ | - | - | 
| ALL/ | - | 2010-09-24 13:00:45 | 
| ALLMLL/ | - | 2010-09-24 13:00:45 | 
| AffymetrixDataTestFiles/ | - | 2010-09-24 13:00:45 | 
| AmpAffyExample/ | - | 2010-09-24 13:00:45 | 
| CCl4/ | - | 2010-09-24 13:00:48 | 
| CLL/ | - | 2010-09-24 13:00:45 | 
| DLBCL/ | - | 2010-09-24 13:00:51 | 
| EatonEtAlChIPseq/ | - | 2010-09-24 13:00:51 | 
| GGdata/ | - | 2010-09-24 13:00:46 | 
| GenomicFeatures.Hsapiens.UCSC.hg18/ | - | 2010-09-24 13:00:50 | 
| GenomicFeatures.Mmusculus.UCSC.mm9/ | - | 2010-09-24 13:00:50 | 
| HEEBOdata/ | - | 2010-09-24 13:00:46 | 
| HIVcDNAvantWout03/ | - | 2010-09-24 13:00:46 | 
| ITALICSData/ | - | 2010-09-24 13:00:50 | 
| Iyer517/ | - | 2010-09-24 13:00:47 | 
| MAQCsubset/ | - | 2010-09-24 13:00:47 | 
| MAQCsubsetAFX/ | - | 2010-09-24 13:00:49 | 
| MAQCsubsetILM/ | - | 2010-09-24 13:00:49 | 
| MEEBOdata/ | - | 2010-09-24 13:00:47 | 
| Neve2006/ | - | 2010-09-24 13:00:48 | 
| ProData/ | - | 2010-09-24 13:00:47 | 
| SNAData/ | - | 2010-09-24 13:00:47 | 
| SpikeIn/ | - | 2010-09-24 13:00:47 | 
| SpikeInSubset/ | - | 2010-09-24 13:00:47 | 
| TargetSearchData/ | - | 2010-09-24 13:00:50 | 
| XhybCasneuf/ | - | 2010-09-24 13:00:49 | 
| affydata/ | - | 2010-09-24 13:00:45 | 
| beta7/ | - | 2010-09-24 13:00:45 | 
| bronchialIL13/ | - | 2010-09-24 13:00:45 | 
| ccTutorial/ | - | 2010-09-24 13:00:49 | 
| ceu1kg/ | - | 2010-09-24 13:00:52 | 
| ceuhm3/ | - | 2010-09-24 13:00:52 | 
| charmData/ | - | 2010-09-24 13:00:51 | 
| colonCA/ | - | 2010-09-24 13:00:45 | 
| davidTiling/ | - | 2010-09-24 13:00:45 | 
| dressCheck/ | - | 2010-09-24 13:00:51 | 
| dyebiasexamples/ | - | 2010-09-24 13:00:50 | 
| ecoliLeucine/ | - | 2010-09-24 13:00:45 | 
| encoDnaseI/ | - | 2010-09-24 13:00:49 | 
| estrogen/ | - | 2010-09-24 13:00:45 | 
| faahKO/ | - | 2010-09-24 13:00:46 | 
| facsDorit/ | - | 2010-09-24 13:00:46 | 
| fibroEset/ | - | 2010-09-24 13:00:46 | 
| frmaExampleData/ | - | 2010-09-24 13:00:50 | 
| gaschYHS/ | - | 2010-09-24 13:00:46 | 
| gatingMLData/ | - | 2010-09-24 13:00:46 | 
| gcspikelite/ | - | 2010-09-24 13:00:50 | 
| geneLenDataBase/ | - | 2010-09-24 13:00:51 | 
| golubEsets/ | - | 2010-09-24 13:00:46 | 
| hapmap100khind/ | - | 2010-09-24 13:00:48 | 
| hapmap100kxba/ | - | 2010-09-24 13:00:48 | 
| hapmap500knsp/ | - | 2010-09-24 13:00:48 | 
| hapmap500ksty/ | - | 2010-09-24 13:00:48 | 
| hapmapsnp5/ | - | 2010-09-24 13:00:49 | 
| hapmapsnp6/ | - | 2010-09-24 13:00:49 | 
| harbChIP/ | - | 2010-09-24 13:00:46 | 
| hgu133abarcodevecs/ | - | 2010-09-24 13:00:51 | 
| hgu133afrmavecs/ | - | 2010-09-24 13:00:50 | 
| hgu133plus2barcodevecs/ | - | 2010-09-24 13:00:51 | 
| hgu133plus2frmavecs/ | - | 2010-09-24 13:00:51 | 
| hgu2beta7/ | - | 2010-09-24 13:00:46 | 
| hmyriB36/ | - | 2010-09-24 13:00:50 | 
| humanStemCell/ | - | 2010-09-24 13:00:50 | 
| ind1KG/ | - | 2010-09-24 13:00:50 | 
| kidpack/ | - | 2010-09-24 13:00:47 | 
| leeBamViews/ | - | 2010-09-24 13:00:51 | 
| lumiBarnes/ | - | 2010-09-24 13:00:48 | 
| lungExpression/ | - | 2010-09-24 13:00:48 | 
| maqcExpression4plex/ | - | 2010-09-24 13:00:48 | 
| mouse4302barcodevecs/ | - | 2010-09-24 13:00:51 | 
| mouse4302frmavecs/ | - | 2010-09-24 13:00:51 | 
| msdata/ | - | 2010-09-24 13:00:49 | 
| mvoutData/ | - | 2010-09-24 13:00:50 | 
| ppiData/ | - | 2010-09-24 13:00:47 | 
| pumadata/ | - | 2010-09-24 13:00:48 | 
| rfcdmin/ | - | 2010-09-24 13:00:47 | 
| stjudem/ | - | 2010-09-24 13:00:47 | 
| tinesath1cdf/ | - | 2010-09-24 13:00:49 | 
| tinesath1probe/ | - | 2010-09-24 13:00:49 | 
| yeastCC/ | - | 2010-09-24 13:00:47 | 
| yeastExpData/ | - | 2010-09-24 13:00:48 | 
| yeastGSData/ | - | 2010-09-24 13:00:49 | 
| yeastRNASeq/ | - | 2010-09-24 13:00:50 | 
| STATUS_DB.txt | 22.0 KiB | 2010-09-24 13:00:31 | 
| index.html | 227.6 KiB | 2010-09-24 13:00:53 | 
| liverpool-NodeInfo.html | 4.7 KiB | 2010-09-24 13:00:52 | 
| liverpool-R-instpkgs.html | 45.3 KiB | 2010-09-24 13:00:52 | 
| liverpool-index.html | 61.6 KiB | 2010-09-24 13:00:52 | 
| meat-index.txt | 13.8 KiB | 2010-09-24 13:00:25 | 
| pelham-NodeInfo.html | 4.9 KiB | 2010-09-24 13:00:52 | 
| pelham-R-instpkgs.html | 44.4 KiB | 2010-09-24 13:00:52 | 
| pelham-index.html | 60.1 KiB | 2010-09-24 13:00:52 | 
| report.css | 5.8 KiB | 2010-09-24 13:00:31 | 
| report.js | 3.9 KiB | 2010-09-24 13:00:31 | 
| report.tgz | 288.5 KiB | 2010-09-24 13:00:53 | 
| wilson1-NodeInfo.html | 4.7 KiB | 2010-09-24 13:00:52 | 
| wilson1-R-instpkgs.html | 44.7 KiB | 2010-09-24 13:00:52 | 
| wilson1-index.html | 52.8 KiB | 2010-09-24 13:00:52 |