| biomaRt 2.0.0 Steffen Durinck
 
 | Bioconductor Changelog |  | Snapshot Date: 2009-10-20 11:27:33 -0700 (Tue, 20 Oct 2009) |  | URL: https://hedgehog.fhcrc.org/bioconductor/branches/RELEASE_2_4/madman/Rpacks/biomaRt |  | Last Changed Rev: 39013 / Revision: 42512 |  | Last Changed Date: 2009-04-20 16:24:12 -0700 (Mon, 20 Apr 2009) | 
 | wilson1 | Linux (openSUSE 11.1) / x86_64 | OK | OK |  | 
| liverpool | Windows Server 2003 R2 (32-bit) / x64 | OK | OK | OK | 
| pitt | Mac OS X Tiger (10.4.11) / i386 | OK | OK | [ OK ] | 
| pelham | Mac OS X Leopard (10.5.8) / i386 | OK | OK | OK | 
                INSTALLATION WITH 'R CMD INSTALL --preclean --library=biomaRt.buildbin-libdir biomaRt_2.0.0.tar.gz'
* Installing *source* package ‘biomaRt’ ...
** R
** inst
** preparing package for lazy loading
** help
*** installing help indices
 >>> Building/Updating help pages for package 'biomaRt'
     Formats: text html latex example 
  Mart-class                        text    html    latex
Note: removing empty section \arguments in file 'NP2009code.Rd'
  NP2009code                        text    html    latex   example
  attributePages                    text    html    latex   example
  attributeSummary                  text    html    latex   example
  exportFASTA                       text    html    latex   example
  filterOptions                     text    html    latex   example
  filterType                        text    html    latex   example
  getBM                             text    html    latex   example
  getBMlist                         text    html    latex   example
  getGO                             text    html    latex   example
  getGene                           text    html    latex   example
  getLDS                            text    html    latex   example
  getSequence                       text    html    latex   example
  listAttributes                    text    html    latex   example
  listDatasets                      text    html    latex   example
  listFilters                       text    html    latex   example
Note: removing empty section \seealso in file 'listMarts.Rd'
  listMarts                         text    html    latex   example
  martDisconnect                    text    html    latex   example
  useDataset                        text    html    latex   example
  useMart                           text    html    latex   example
** building package indices ...
* DONE (biomaRt)