All our mirrors of open source software are available via http, https, ftp and an onion service. More information about our mirrors including statistics and contact information is available on our mirror info pages.
For information about dotsrc.org and our other services please go to our website.
| File Name ↓ | File Size ↓ | Date ↓ | 
|---|---|---|
| Parent directory/ | - | - | 
| ABarray/ | - | 2009-04-19 06:57:24 | 
| ACME/ | - | 2009-04-19 06:57:28 | 
| AffyCompatible/ | - | 2009-04-19 06:57:33 | 
| AffyExpress/ | - | 2009-04-19 06:57:30 | 
| Agi4x44PreProcess/ | - | 2009-04-19 06:57:35 | 
| AnnBuilder/ | - | 2009-04-19 06:57:13 | 
| AnnotationDbi/ | - | 2009-04-19 06:57:26 | 
| ArrayExpress/ | - | 2009-04-19 06:57:35 | 
| ArrayTools/ | - | 2009-04-19 06:57:35 | 
| BAC/ | - | 2009-04-19 06:57:31 | 
| BCRANK/ | - | 2009-04-19 06:57:32 | 
| BGmix/ | - | 2009-04-19 06:57:31 | 
| BSgenome/ | - | 2009-04-19 06:57:24 | 
| BicARE/ | - | 2009-04-19 06:57:36 | 
| BioMVCClass/ | - | 2009-04-19 06:57:24 | 
| Biobase/ | - | 2009-04-19 06:57:10 | 
| BiocCaseStudies/ | - | 2009-04-19 06:57:31 | 
| Biostrings/ | - | 2009-04-19 06:57:14 | 
| BufferedMatrix/ | - | 2009-04-19 06:57:27 | 
| BufferedMatrixMethods/ | - | 2009-04-19 06:57:27 | 
| CALIB/ | - | 2009-04-19 06:57:28 | 
| CGHbase/ | - | 2009-04-19 06:57:33 | 
| CGHcall/ | - | 2009-04-19 06:57:30 | 
| CGHregions/ | - | 2009-04-19 06:57:33 | 
| CMA/ | - | 2009-04-19 06:57:33 | 
| CORREP/ | - | 2009-04-19 06:57:28 | 
| Category/ | - | 2009-04-19 06:57:20 | 
| ChemmineR/ | - | 2009-04-19 06:57:35 | 
| CoCiteStats/ | - | 2009-04-19 06:57:18 | 
| DEDS/ | - | 2009-04-19 06:57:17 | 
| DFP/ | - | 2009-04-19 06:57:34 | 
| DNAcopy/ | - | 2009-04-19 06:57:16 | 
| DynDoc/ | - | 2009-04-19 06:57:10 | 
| EBImage/ | - | 2009-04-19 06:57:23 | 
| EBarrays/ | - | 2009-04-19 06:57:15 | 
| GEOmetadb/ | - | 2009-04-19 06:57:32 | 
| GEOquery/ | - | 2009-04-19 06:57:22 | 
| GGBase/ | - | 2009-04-19 06:57:33 | 
| GGtools/ | - | 2009-04-19 06:57:25 | 
| GLAD/ | - | 2009-04-19 06:57:17 | 
| GOstats/ | - | 2009-04-19 06:57:16 | 
| GSEABase/ | - | 2009-04-19 06:57:29 | 
| GSEAlm/ | - | 2009-04-19 06:57:32 | 
| GeneMeta/ | - | 2009-04-19 06:57:20 | 
| GeneR/ | - | 2009-04-19 06:57:15 | 
| GeneRfold/ | - | 2009-04-19 06:57:23 | 
| GeneSelector/ | - | 2009-04-19 06:57:32 | 
| GeneSpring/ | - | 2009-04-19 06:57:15 | 
| GeneTraffic/ | - | 2009-04-19 06:57:16 | 
| GeneticsBase/ | - | 2009-04-19 06:57:28 | 
| GeneticsDesign/ | - | 2009-04-19 06:57:27 | 
| GeneticsPed/ | - | 2009-04-19 06:57:28 | 
| GenomeGraphs/ | - | 2009-04-19 06:57:32 | 
| GlobalAncova/ | - | 2009-04-19 06:57:21 | 
| GraphAT/ | - | 2009-04-19 06:57:16 | 
| GraphAlignment/ | - | 2009-04-19 06:57:32 | 
| HELP/ | - | 2009-04-19 06:57:33 | 
| HEM/ | - | 2009-04-19 06:57:16 | 
| Harshlight/ | - | 2009-04-19 06:57:24 | 
| Heatplus/ | - | 2009-04-19 06:57:23 | 
| HilbertVis/ | - | 2009-04-19 06:57:36 | 
| HilbertVisGUI/ | - | 2009-04-19 06:57:36 | 
| IRanges/ | - | 2009-04-19 06:57:14 | 
| ITALICS/ | - | 2009-04-19 06:57:34 | 
| Icens/ | - | 2009-04-19 06:57:15 | 
| KCsmart/ | - | 2009-04-19 06:57:35 | 
| KEGGSOAP/ | - | 2009-04-19 06:57:17 | 
| LBE/ | - | 2009-04-19 06:57:27 | 
| LMGene/ | - | 2009-04-19 06:57:20 | 
| LPE/ | - | 2009-04-19 06:57:14 | 
| LPEadj/ | - | 2009-04-19 06:57:33 | 
| MANOR/ | - | 2009-04-19 06:57:21 | 
| MEDME/ | - | 2009-04-19 06:57:35 | 
| MLInterfaces/ | - | 2009-04-19 06:57:17 | 
| MVCClass/ | - | 2009-04-19 06:57:18 | 
| MantelCorr/ | - | 2009-04-19 06:57:21 | 
| MassSpecWavelet/ | - | 2009-04-19 06:57:28 | 
| MeasurementError.cor/ | - | 2009-04-19 06:57:13 | 
| MergeMaid/ | - | 2009-04-19 06:57:16 | 
| Mfuzz/ | - | 2009-04-19 06:57:22 | 
| MiPP/ | - | 2009-04-19 06:57:19 | 
| OCplus/ | - | 2009-04-19 06:57:23 | 
| OLIN/ | - | 2009-04-19 06:57:16 | 
| OLINgui/ | - | 2009-04-19 06:57:17 | 
| OrderedList/ | - | 2009-04-19 06:57:23 | 
| OutlierD/ | - | 2009-04-19 06:57:30 | 
| PCpheno/ | - | 2009-04-19 06:57:31 | 
| PGSEA/ | - | 2009-04-19 06:57:28 | 
| PLPE/ | - | 2009-04-19 06:57:34 | 
| PROcess/ | - | 2009-04-19 06:57:15 | 
| RBGL/ | - | 2009-04-19 06:57:13 | 
| RBioinf/ | - | 2009-04-19 06:57:32 | 
| RLMM/ | - | 2009-04-19 06:57:21 | 
| RMAGEML/ | - | 2009-04-19 06:56:05 | 
| RNAither/ | - | 2009-04-19 06:57:35 | 
| ROC/ | - | 2009-04-19 06:57:11 | 
| RSNPper/ | - | 2009-04-19 06:57:16 | 
| RWebServices/ | - | 2009-04-19 06:56:18 | 
| RankProd/ | - | 2009-04-19 06:57:19 | 
| RbcBook1/ | - | 2009-04-19 06:57:25 | 
| Rdbi/ | - | 2009-04-19 06:57:13 | 
| RdbiPgSQL/ | - | 2009-04-19 06:57:13 | 
| Rdisop/ | - | 2009-04-19 06:56:40 | 
| RefPlus/ | - | 2009-04-19 06:57:26 | 
| Resourcerer/ | - | 2009-04-19 06:57:16 | 
| Rgraphviz/ | - | 2009-04-19 06:57:12 | 
| Ringo/ | - | 2009-04-19 06:57:28 | 
| Rintact/ | - | 2009-04-19 06:57:29 | 
| RpsiXML/ | - | 2009-04-19 06:57:34 | 
| Rredland/ | - | 2009-04-19 06:57:21 | 
| Rtreemix/ | - | 2009-04-19 06:57:30 | 
| Ruuid/ | - | 2009-04-19 06:57:10 | 
| SAGx/ | - | 2009-04-19 06:57:25 | 
| SBMLR/ | - | 2009-04-19 06:57:18 | 
| SIM/ | - | 2009-04-19 06:57:33 | 
| SLGI/ | - | 2009-04-19 06:57:31 | 
| SLqPCR/ | - | 2009-04-19 06:57:27 | 
| SMAP/ | - | 2009-04-19 06:57:29 | 
| SNPchip/ | - | 2009-04-19 06:57:23 | 
| ScISI/ | - | 2009-04-19 06:57:22 | 
| ShortRead/ | - | 2009-04-19 06:57:33 | 
| TypeInfo/ | - | 2009-04-19 06:57:24 | 
| VanillaICE/ | - | 2009-04-19 06:57:30 | 
| XDE/ | - | 2009-04-19 06:57:31 | 
| aCGH/ | - | 2009-04-19 06:57:16 | 
| adSplit/ | - | 2009-04-19 06:57:22 | 
| affxparser/ | - | 2009-04-19 06:57:21 | 
| affy/ | - | 2009-04-19 06:57:11 | 
| affyContam/ | - | 2009-04-19 06:57:35 | 
| affyPLM/ | - | 2009-04-19 06:57:13 | 
| affyPara/ | - | 2009-04-19 06:57:32 | 
| affyQCReport/ | - | 2009-04-19 06:57:20 | 
| affycomp/ | - | 2009-04-19 06:57:12 | 
| affycoretools/ | - | 2009-04-19 06:57:21 | 
| affyio/ | - | 2009-04-19 06:57:11 | 
| affylmGUI/ | - | 2009-04-19 06:57:15 | 
| affypdnn/ | - | 2009-04-19 06:57:14 | 
| altcdfenvs/ | - | 2009-04-19 06:57:15 | 
| annaffy/ | - | 2009-04-19 06:57:12 | 
| annotate/ | - | 2009-04-19 06:57:10 | 
| annotationTools/ | - | 2009-04-19 06:57:27 | 
| apComplex/ | - | 2009-04-19 06:57:18 | 
| aroma.light/ | - | 2009-04-19 06:57:24 | 
| arrayMvout/ | - | 2009-04-19 06:57:35 | 
| arrayQuality/ | - | 2009-04-19 06:57:15 | 
| arrayQualityMetrics/ | - | 2009-04-19 06:57:30 | 
| beadarray/ | - | 2009-04-19 06:57:22 | 
| beadarraySNP/ | - | 2009-04-19 06:57:25 | 
| bgafun/ | - | 2009-04-19 06:57:30 | 
| bgx/ | - | 2009-04-19 06:57:28 | 
| bioDist/ | - | 2009-04-19 06:57:18 | 
| biocGraph/ | - | 2009-04-19 06:57:29 | 
| biocViews/ | - | 2009-04-19 06:57:21 | 
| biomaRt/ | - | 2009-04-19 06:57:18 | 
| bridge/ | - | 2009-04-19 06:57:19 | 
| cellHTS/ | - | 2009-04-19 06:57:23 | 
| cellHTS2/ | - | 2009-04-19 06:57:29 | 
| cghMCR/ | - | 2009-04-19 06:57:23 | 
| clusterStab/ | - | 2009-04-19 06:57:20 | 
| codelink/ | - | 2009-04-19 06:57:22 | 
| convert/ | - | 2009-04-19 06:57:15 | 
| copa/ | - | 2009-04-19 06:57:22 | 
| cosmo/ | - | 2009-04-19 06:57:26 | 
| cosmoGUI/ | - | 2009-04-19 06:57:27 | 
| ctc/ | - | 2009-04-19 06:57:11 | 
| daMA/ | - | 2009-04-19 06:57:12 | 
| diffGeneAnalysis/ | - | 2009-04-19 06:57:20 | 
| domainsignatures/ | - | 2009-04-19 06:57:34 | 
| dualKS/ | - | 2009-04-19 06:57:33 | 
| ecolitk/ | - | 2009-04-19 06:57:14 | 
| edd/ | - | 2009-04-19 06:57:11 | 
| edgeR/ | - | 2009-04-19 06:57:34 | 
| exonmap/ | - | 2009-04-19 06:57:27 | 
| explorase/ | - | 2009-04-19 06:57:29 | 
| externalVector/ | - | 2009-04-19 06:57:13 | 
| factDesign/ | - | 2009-04-19 06:57:13 | 
| fbat/ | - | 2009-04-19 06:57:28 | 
| fdrame/ | - | 2009-04-19 06:57:20 | 
| flowClust/ | - | 2009-04-19 06:57:32 | 
| flowCore/ | - | 2009-04-19 06:57:26 | 
| flowQ/ | - | 2009-04-19 06:57:26 | 
| flowUtils/ | - | 2009-04-19 06:57:26 | 
| flowViz/ | - | 2009-04-19 06:57:26 | 
| gaga/ | - | 2009-04-19 06:57:31 | 
| gaggle/ | - | 2009-04-19 06:57:24 | 
| gcrma/ | - | 2009-04-19 06:57:12 | 
| genArise/ | - | 2009-04-19 06:57:17 | 
| geneRecommender/ | - | 2009-04-19 06:57:19 | 
| genefilter/ | - | 2009-04-19 06:57:11 | 
| geneplotter/ | - | 2009-04-19 06:57:11 | 
| globaltest/ | - | 2009-04-19 06:57:16 | 
| goProfiles/ | - | 2009-04-19 06:57:33 | 
| goTools/ | - | 2009-04-19 06:57:15 | 
| gpls/ | - | 2009-04-19 06:57:13 | 
| graph/ | - | 2009-04-19 06:57:11 | 
| hexbin/ | - | 2009-04-19 06:57:12 | 
| hopach/ | - | 2009-04-19 06:57:17 | 
| hypergraph/ | - | 2009-04-19 06:57:19 | 
| idiogram/ | - | 2009-04-19 06:57:19 | 
| impute/ | - | 2009-04-19 06:57:15 | 
| iterativeBMA/ | - | 2009-04-19 06:57:34 | 
| iterativeBMAsurv/ | - | 2009-04-19 06:57:34 | 
| keggorth/ | - | 2009-04-19 06:57:29 | 
| lapmix/ | - | 2009-04-19 06:57:25 | 
| limma/ | - | 2009-04-19 06:57:12 | 
| limmaGUI/ | - | 2009-04-19 06:57:15 | 
| logicFS/ | - | 2009-04-19 06:57:23 | 
| logitT/ | - | 2009-04-19 06:57:34 | 
| lumi/ | - | 2009-04-19 06:57:26 | 
| maCorrPlot/ | - | 2009-04-19 06:57:23 | 
| maDB/ | - | 2009-04-19 06:57:20 | 
| maSigPro/ | - | 2009-04-19 06:57:21 | 
| maanova/ | - | 2009-04-19 06:57:21 | 
| macat/ | - | 2009-04-19 06:57:18 | 
| made4/ | - | 2009-04-19 06:57:18 | 
| maigesPack/ | - | 2009-04-19 06:57:30 | 
| makePlatformDesign/ | - | 2009-04-19 06:57:20 | 
| makecdfenv/ | - | 2009-04-19 06:57:12 | 
| marray/ | - | 2009-04-19 06:57:15 | 
| matchprobes/ | - | 2009-04-19 06:57:12 | 
| mdqc/ | - | 2009-04-19 06:57:32 | 
| metaArray/ | - | 2009-04-19 06:57:22 | 
| miRNApath/ | - | 2009-04-19 06:57:34 | 
| microRNA/ | - | 2009-04-19 06:57:35 | 
| minet/ | - | 2009-04-19 06:57:34 | 
| multiscan/ | - | 2009-04-19 06:57:34 | 
| multtest/ | - | 2009-04-19 06:57:11 | 
| nem/ | - | 2009-04-19 06:57:25 | 
| nnNorm/ | - | 2009-04-19 06:57:17 | 
| nudge/ | - | 2009-04-19 06:57:23 | 
| occugene/ | - | 2009-04-19 06:57:26 | 
| oligo/ | - | 2009-04-19 06:57:20 | 
| oligoClasses/ | - | 2009-04-19 06:57:30 | 
| oneChannelGUI/ | - | 2009-04-19 06:57:28 | 
| ontoTools/ | - | 2009-04-19 06:57:13 | 
| pamr/ | - | 2009-04-19 06:57:12 | 
| panp/ | - | 2009-04-19 06:57:22 | 
| parody/ | - | 2009-04-19 06:57:35 | 
| pathRender/ | - | 2009-04-19 06:57:22 | 
| pcaMethods/ | - | 2009-04-19 06:57:25 | 
| pcot2/ | - | 2009-04-19 06:57:24 | 
| pdInfoBuilder/ | - | 2009-04-19 06:57:27 | 
| pdmclass/ | - | 2009-04-19 06:57:20 | 
| pgUtils/ | - | 2009-04-19 06:57:20 | 
| pickgene/ | - | 2009-04-19 06:57:14 | 
| pkgDepTools/ | - | 2009-04-19 06:57:25 | 
| plgem/ | - | 2009-04-19 06:57:19 | 
| plier/ | - | 2009-04-19 06:57:18 | 
| plw/ | - | 2009-04-19 06:57:31 | 
| ppiStats/ | - | 2009-04-19 06:57:25 | 
| prada/ | - | 2009-04-19 06:57:16 | 
| preprocessCore/ | - | 2009-04-19 06:57:11 | 
| puma/ | - | 2009-04-19 06:57:29 | 
| quantsmooth/ | - | 2009-04-19 06:57:24 | 
| qvalue/ | - | 2009-04-19 06:57:14 | 
| rHVDM/ | - | 2009-04-19 06:57:27 | 
| rama/ | - | 2009-04-19 06:57:15 | 
| rbsurv/ | - | 2009-04-19 06:57:28 | 
| reb/ | - | 2009-04-19 06:57:21 | 
| rflowcyt/ | - | 2009-04-19 06:57:17 | 
| rsbml/ | - | 2009-04-19 06:57:30 | 
| rtracklayer/ | - | 2009-04-19 06:57:32 | 
| safe/ | - | 2009-04-19 06:57:19 | 
| sagenhaft/ | - | 2009-04-19 06:57:18 | 
| seqLogo/ | - | 2009-04-19 06:57:27 | 
| sigPathway/ | - | 2009-04-19 06:57:24 | 
| siggenes/ | - | 2009-04-19 06:57:12 | 
| simpleaffy/ | - | 2009-04-19 06:57:14 | 
| simulatorAPMS/ | - | 2009-04-19 06:57:21 | 
| sizepower/ | - | 2009-04-19 06:57:23 | 
| snapCGH/ | - | 2009-04-19 06:57:22 | 
| snpMatrix/ | - | 2009-04-19 06:57:32 | 
| spikeLI/ | - | 2009-04-19 06:57:24 | 
| splicegear/ | - | 2009-04-19 06:57:12 | 
| splots/ | - | 2009-04-19 06:57:25 | 
| spotSegmentation/ | - | 2009-04-19 06:57:18 | 
| sscore/ | - | 2009-04-19 06:57:22 | 
| ssize/ | - | 2009-04-19 06:57:19 | 
| stam/ | - | 2009-04-19 06:57:17 | 
| stepNorm/ | - | 2009-04-19 06:57:18 | 
| tilingArray/ | - | 2009-04-19 06:57:19 | 
| timecourse/ | - | 2009-04-19 06:57:20 | 
| tkWidgets/ | - | 2009-04-19 06:57:11 | 
| topGO/ | - | 2009-04-19 06:57:27 | 
| twilight/ | - | 2009-04-19 06:57:17 | 
| vbmp/ | - | 2009-04-19 06:57:29 | 
| vsn/ | - | 2009-04-19 06:57:11 | 
| weaver/ | - | 2009-04-19 06:57:25 | 
| webbioc/ | - | 2009-04-19 06:57:13 | 
| widgetTools/ | - | 2009-04-19 06:57:12 | 
| xcms/ | - | 2009-04-19 06:57:19 | 
| xmapbridge/ | - | 2009-04-19 06:57:35 | 
| xps/ | - | 2009-04-19 06:57:30 | 
| yaqcaffy/ | - | 2009-04-19 06:57:30 | 
| STATUS_DB.txt | 91.6 KiB | 2009-04-19 06:56:03 | 
| index.html | 1006.8 KiB | 2009-04-19 06:57:46 | 
| liverpool-NodeInfo.html | 3.8 KiB | 2009-04-19 06:57:40 | 
| liverpool-R-instpkgs.html | 30.1 KiB | 2009-04-19 06:57:40 | 
| liverpool-index.html | 222.9 KiB | 2009-04-19 06:57:38 | 
| meat-index.txt | 48.6 KiB | 2009-04-19 06:55:38 | 
| pelham-NodeInfo.html | 4.0 KiB | 2009-04-19 06:57:40 | 
| pelham-R-instpkgs.html | 30.1 KiB | 2009-04-19 06:57:40 | 
| pelham-index.html | 219.3 KiB | 2009-04-19 06:57:40 | 
| pitt-NodeInfo.html | 3.9 KiB | 2009-04-19 06:57:40 | 
| pitt-R-instpkgs.html | 30.0 KiB | 2009-04-19 06:57:40 | 
| pitt-index.html | 215.6 KiB | 2009-04-19 06:57:39 | 
| report.css | 5.8 KiB | 2009-04-19 06:56:03 | 
| report.js | 3.9 KiB | 2009-04-19 06:56:03 | 
| report.tgz | 2.2 MiB | 2009-04-19 06:57:46 | 
| wilson2-NodeInfo.html | 3.9 KiB | 2009-04-19 06:57:40 | 
| wilson2-R-instpkgs.html | 28.6 KiB | 2009-04-19 06:57:40 | 
| wilson2-index.html | 194.8 KiB | 2009-04-19 06:57:37 |