All our mirrors of open source software are available via http, https, ftp and an onion service. More information about our mirrors including statistics and contact information is available on our mirror info pages.
For information about dotsrc.org and our other services please go to our website.
| File Name ↓ | File Size ↓ | Date ↓ |
|---|---|---|
| Parent directory/ | - | - |
| ABarray/ | - | 2008-10-16 18:53:44 |
| ACME/ | - | 2008-10-16 18:53:48 |
| AffyCompatible/ | - | 2008-10-16 18:53:53 |
| AffyExpress/ | - | 2008-10-16 18:53:50 |
| AnnBuilder/ | - | 2008-10-16 18:53:25 |
| AnnotationDbi/ | - | 2008-10-16 18:53:45 |
| BAC/ | - | 2008-10-16 18:53:51 |
| BCRANK/ | - | 2008-10-16 18:53:51 |
| BGmix/ | - | 2008-10-16 18:53:50 |
| BSgenome/ | - | 2008-10-16 18:53:42 |
| BioMVCClass/ | - | 2008-10-16 18:53:44 |
| Biobase/ | - | 2008-10-16 18:53:21 |
| BiocCaseStudies/ | - | 2008-10-16 18:53:50 |
| Biostrings/ | - | 2008-10-16 18:53:29 |
| BufferedMatrix/ | - | 2008-10-16 18:53:46 |
| BufferedMatrixMethods/ | - | 2008-10-16 18:53:46 |
| CALIB/ | - | 2008-10-16 18:53:48 |
| CGHcall/ | - | 2008-10-16 18:53:50 |
| CORREP/ | - | 2008-10-16 18:53:48 |
| Category/ | - | 2008-10-16 18:53:37 |
| CoCiteStats/ | - | 2008-10-16 18:53:34 |
| DEDS/ | - | 2008-10-16 18:53:33 |
| DNAcopy/ | - | 2008-10-16 18:53:30 |
| DynDoc/ | - | 2008-10-16 18:53:22 |
| EBImage/ | - | 2008-10-16 18:53:42 |
| EBarrays/ | - | 2008-10-16 18:53:29 |
| GEOmetadb/ | - | 2008-10-16 18:53:52 |
| GEOquery/ | - | 2008-10-16 18:53:40 |
| GGBase/ | - | 2008-10-16 18:53:52 |
| GGtools/ | - | 2008-10-16 18:53:44 |
| GLAD/ | - | 2008-10-16 18:53:33 |
| GOstats/ | - | 2008-10-16 18:53:30 |
| GSEABase/ | - | 2008-10-16 18:53:49 |
| GSEAlm/ | - | 2008-10-16 18:53:51 |
| GeneMeta/ | - | 2008-10-16 18:53:37 |
| GeneR/ | - | 2008-10-16 18:53:29 |
| GeneRfold/ | - | 2008-10-16 18:53:41 |
| GeneSelector/ | - | 2008-10-16 18:53:52 |
| GeneSpring/ | - | 2008-10-16 18:53:29 |
| GeneTraffic/ | - | 2008-10-16 18:53:32 |
| GeneticsBase/ | - | 2008-10-16 18:53:47 |
| GeneticsDesign/ | - | 2008-10-16 18:53:47 |
| GeneticsPed/ | - | 2008-10-16 18:53:48 |
| GenomeGraphs/ | - | 2008-10-16 18:53:52 |
| GlobalAncova/ | - | 2008-10-16 18:53:39 |
| GraphAT/ | - | 2008-10-16 18:53:30 |
| GraphAlignment/ | - | 2008-10-16 18:53:51 |
| HEM/ | - | 2008-10-16 18:53:30 |
| Harshlight/ | - | 2008-10-16 18:53:44 |
| Heatplus/ | - | 2008-10-16 18:53:42 |
| Icens/ | - | 2008-10-16 18:53:29 |
| KEGGSOAP/ | - | 2008-10-16 18:53:32 |
| LBE/ | - | 2008-10-16 18:53:47 |
| LMGene/ | - | 2008-10-16 18:53:37 |
| LPE/ | - | 2008-10-16 18:53:25 |
| MANOR/ | - | 2008-10-16 18:53:39 |
| MLInterfaces/ | - | 2008-10-16 18:53:32 |
| MVCClass/ | - | 2008-10-16 18:53:33 |
| MantelCorr/ | - | 2008-10-16 18:53:39 |
| MassSpecWavelet/ | - | 2008-10-16 18:53:48 |
| MeasurementError.cor/ | - | 2008-10-16 18:53:24 |
| MergeMaid/ | - | 2008-10-16 18:53:32 |
| Mfuzz/ | - | 2008-10-16 18:53:41 |
| MiPP/ | - | 2008-10-16 18:53:36 |
| OCplus/ | - | 2008-10-16 18:53:42 |
| OLIN/ | - | 2008-10-16 18:53:32 |
| OLINgui/ | - | 2008-10-16 18:53:33 |
| OrderedList/ | - | 2008-10-16 18:53:42 |
| OutlierD/ | - | 2008-10-16 18:53:50 |
| PCpheno/ | - | 2008-10-16 18:53:51 |
| PGSEA/ | - | 2008-10-16 18:53:48 |
| PROcess/ | - | 2008-10-16 18:53:29 |
| RBGL/ | - | 2008-10-16 18:53:25 |
| RBioinf/ | - | 2008-10-16 18:53:52 |
| RLMM/ | - | 2008-10-16 18:53:39 |
| RMAGEML/ | - | 2008-10-16 18:52:40 |
| ROC/ | - | 2008-10-16 18:53:23 |
| RSNPper/ | - | 2008-10-16 18:53:30 |
| RWebServices/ | - | 2008-10-16 18:52:52 |
| RankProd/ | - | 2008-10-16 18:53:36 |
| RbcBook1/ | - | 2008-10-16 18:53:45 |
| Rdbi/ | - | 2008-10-16 18:53:24 |
| RdbiPgSQL/ | - | 2008-10-16 18:53:25 |
| Rdisop/ | - | 2008-10-16 18:53:20 |
| RefPlus/ | - | 2008-10-16 18:53:45 |
| Resourcerer/ | - | 2008-10-16 18:53:30 |
| Rgraphviz/ | - | 2008-10-16 18:53:23 |
| Ringo/ | - | 2008-10-16 18:53:48 |
| Rintact/ | - | 2008-10-16 18:53:49 |
| Rredland/ | - | 2008-10-16 18:53:39 |
| Rtreemix/ | - | 2008-10-16 18:53:50 |
| Ruuid/ | - | 2008-10-16 18:53:22 |
| SAGx/ | - | 2008-10-16 18:53:45 |
| SBMLR/ | - | 2008-10-16 18:53:34 |
| SLGI/ | - | 2008-10-16 18:53:51 |
| SLqPCR/ | - | 2008-10-16 18:53:47 |
| SMAP/ | - | 2008-10-16 18:53:49 |
| SNPchip/ | - | 2008-10-16 18:53:42 |
| ScISI/ | - | 2008-10-16 18:53:41 |
| SemSim/ | - | 2008-10-16 18:53:45 |
| TypeInfo/ | - | 2008-10-16 18:53:44 |
| VanillaICE/ | - | 2008-10-16 18:53:50 |
| XDE/ | - | 2008-10-16 18:53:51 |
| aCGH/ | - | 2008-10-16 18:53:30 |
| adSplit/ | - | 2008-10-16 18:53:41 |
| affxparser/ | - | 2008-10-16 18:53:39 |
| affy/ | - | 2008-10-16 18:53:23 |
| affyPLM/ | - | 2008-10-16 18:53:24 |
| affyPara/ | - | 2008-10-16 18:53:52 |
| affyQCReport/ | - | 2008-10-16 18:53:37 |
| affycomp/ | - | 2008-10-16 18:53:23 |
| affycoretools/ | - | 2008-10-16 18:53:39 |
| affyio/ | - | 2008-10-16 18:53:23 |
| affylmGUI/ | - | 2008-10-16 18:53:29 |
| affypdnn/ | - | 2008-10-16 18:53:25 |
| altcdfenvs/ | - | 2008-10-16 18:53:29 |
| annaffy/ | - | 2008-10-16 18:53:24 |
| annotate/ | - | 2008-10-16 18:53:22 |
| annotationTools/ | - | 2008-10-16 18:53:47 |
| apComplex/ | - | 2008-10-16 18:53:34 |
| aroma.light/ | - | 2008-10-16 18:53:44 |
| arrayQuality/ | - | 2008-10-16 18:53:29 |
| arrayQualityMetrics/ | - | 2008-10-16 18:53:50 |
| beadarray/ | - | 2008-10-16 18:53:41 |
| beadarraySNP/ | - | 2008-10-16 18:53:44 |
| bgafun/ | - | 2008-10-16 18:53:50 |
| bgx/ | - | 2008-10-16 18:53:49 |
| bioDist/ | - | 2008-10-16 18:53:34 |
| biocGraph/ | - | 2008-10-16 18:53:49 |
| biocViews/ | - | 2008-10-16 18:53:39 |
| biomaRt/ | - | 2008-10-16 18:53:34 |
| bridge/ | - | 2008-10-16 18:53:36 |
| cellHTS/ | - | 2008-10-16 18:53:42 |
| cellHTS2/ | - | 2008-10-16 18:53:49 |
| cghMCR/ | - | 2008-10-16 18:53:42 |
| clusterStab/ | - | 2008-10-16 18:53:37 |
| codelink/ | - | 2008-10-16 18:53:40 |
| convert/ | - | 2008-10-16 18:53:30 |
| copa/ | - | 2008-10-16 18:53:41 |
| cosmo/ | - | 2008-10-16 18:53:45 |
| cosmoGUI/ | - | 2008-10-16 18:53:47 |
| ctc/ | - | 2008-10-16 18:53:23 |
| daMA/ | - | 2008-10-16 18:53:24 |
| diffGeneAnalysis/ | - | 2008-10-16 18:53:39 |
| ecolitk/ | - | 2008-10-16 18:53:25 |
| edd/ | - | 2008-10-16 18:53:22 |
| exonmap/ | - | 2008-10-16 18:53:47 |
| explorase/ | - | 2008-10-16 18:53:19 |
| externalVector/ | - | 2008-10-16 18:53:24 |
| factDesign/ | - | 2008-10-16 18:53:24 |
| fbat/ | - | 2008-10-16 18:53:48 |
| fdrame/ | - | 2008-10-16 18:53:37 |
| flowClust/ | - | 2008-10-16 18:53:52 |
| flowCore/ | - | 2008-10-16 18:53:45 |
| flowQ/ | - | 2008-10-16 18:53:45 |
| flowUtils/ | - | 2008-10-16 18:53:45 |
| flowViz/ | - | 2008-10-16 18:53:45 |
| gaga/ | - | 2008-10-16 18:53:50 |
| gaggle/ | - | 2008-10-16 18:53:44 |
| gcrma/ | - | 2008-10-16 18:53:23 |
| genArise/ | - | 2008-10-16 18:53:33 |
| geneRecommender/ | - | 2008-10-16 18:53:36 |
| genefilter/ | - | 2008-10-16 18:53:22 |
| geneplotter/ | - | 2008-10-16 18:53:22 |
| globaltest/ | - | 2008-10-16 18:53:32 |
| goProfiles/ | - | 2008-10-16 18:53:53 |
| goTools/ | - | 2008-10-16 18:53:29 |
| gpls/ | - | 2008-10-16 18:53:24 |
| graph/ | - | 2008-10-16 18:53:23 |
| hexbin/ | - | 2008-10-16 18:53:23 |
| hopach/ | - | 2008-10-16 18:53:33 |
| hypergraph/ | - | 2008-10-16 18:53:36 |
| idiogram/ | - | 2008-10-16 18:53:36 |
| impute/ | - | 2008-10-16 18:53:29 |
| keggorth/ | - | 2008-10-16 18:53:49 |
| lapmix/ | - | 2008-10-16 18:53:44 |
| limma/ | - | 2008-10-16 18:53:23 |
| limmaGUI/ | - | 2008-10-16 18:53:29 |
| logicFS/ | - | 2008-10-16 18:53:42 |
| lumi/ | - | 2008-10-16 18:53:45 |
| maCorrPlot/ | - | 2008-10-16 18:53:42 |
| maDB/ | - | 2008-10-16 18:53:37 |
| maSigPro/ | - | 2008-10-16 18:53:39 |
| maanova/ | - | 2008-10-16 18:53:39 |
| macat/ | - | 2008-10-16 18:53:34 |
| made4/ | - | 2008-10-16 18:53:34 |
| maigesPack/ | - | 2008-10-16 18:53:50 |
| makePlatformDesign/ | - | 2008-10-16 18:53:37 |
| makecdfenv/ | - | 2008-10-16 18:53:23 |
| marray/ | - | 2008-10-16 18:53:30 |
| matchprobes/ | - | 2008-10-16 18:53:24 |
| mdqc/ | - | 2008-10-16 18:53:51 |
| metaArray/ | - | 2008-10-16 18:53:41 |
| multtest/ | - | 2008-10-16 18:53:22 |
| nem/ | - | 2008-10-16 18:53:45 |
| nnNorm/ | - | 2008-10-16 18:53:32 |
| nudge/ | - | 2008-10-16 18:53:42 |
| occugene/ | - | 2008-10-16 18:53:45 |
| oligo/ | - | 2008-10-16 18:53:37 |
| oligoClasses/ | - | 2008-10-16 18:53:50 |
| oneChannelGUI/ | - | 2008-10-16 18:53:48 |
| ontoTools/ | - | 2008-10-16 18:53:25 |
| pamr/ | - | 2008-10-16 18:53:23 |
| panp/ | - | 2008-10-16 18:53:39 |
| pathRender/ | - | 2008-10-16 18:53:39 |
| pcaMethods/ | - | 2008-10-16 18:53:45 |
| pcot2/ | - | 2008-10-16 18:53:44 |
| pdInfoBuilder/ | - | 2008-10-16 18:53:46 |
| pdmclass/ | - | 2008-10-16 18:53:37 |
| pgUtils/ | - | 2008-10-16 18:53:37 |
| pickgene/ | - | 2008-10-16 18:53:26 |
| pkgDepTools/ | - | 2008-10-16 18:53:44 |
| plgem/ | - | 2008-10-16 18:53:36 |
| plier/ | - | 2008-10-16 18:53:34 |
| plw/ | - | 2008-10-16 18:53:50 |
| ppiStats/ | - | 2008-10-16 18:53:45 |
| prada/ | - | 2008-10-16 18:53:30 |
| preprocessCore/ | - | 2008-10-16 18:53:23 |
| puma/ | - | 2008-10-16 18:53:49 |
| quantsmooth/ | - | 2008-10-16 18:53:44 |
| qvalue/ | - | 2008-10-16 18:53:29 |
| rHVDM/ | - | 2008-10-16 18:53:47 |
| rama/ | - | 2008-10-16 18:53:29 |
| rbsurv/ | - | 2008-10-16 18:53:48 |
| reb/ | - | 2008-10-16 18:53:39 |
| rflowcyt/ | - | 2008-10-16 18:53:32 |
| rsbml/ | - | 2008-10-16 18:53:50 |
| rtracklayer/ | - | 2008-10-16 18:53:52 |
| safe/ | - | 2008-10-16 18:53:35 |
| sagenhaft/ | - | 2008-10-16 18:53:34 |
| seqLogo/ | - | 2008-10-16 18:53:47 |
| sigPathway/ | - | 2008-10-16 18:53:44 |
| siggenes/ | - | 2008-10-16 18:53:24 |
| simpleaffy/ | - | 2008-10-16 18:53:25 |
| simulatorAPMS/ | - | 2008-10-16 18:53:39 |
| sizepower/ | - | 2008-10-16 18:53:42 |
| snapCGH/ | - | 2008-10-16 18:53:41 |
| snpMatrix/ | - | 2008-10-16 18:53:51 |
| spikeLI/ | - | 2008-10-16 18:53:44 |
| splicegear/ | - | 2008-10-16 18:53:23 |
| splots/ | - | 2008-10-16 18:53:45 |
| spotSegmentation/ | - | 2008-10-16 18:53:34 |
| sscore/ | - | 2008-10-16 18:53:41 |
| ssize/ | - | 2008-10-16 18:53:36 |
| stam/ | - | 2008-10-16 18:53:33 |
| stepNorm/ | - | 2008-10-16 18:53:33 |
| tilingArray/ | - | 2008-10-16 18:53:34 |
| timecourse/ | - | 2008-10-16 18:53:39 |
| tkWidgets/ | - | 2008-10-16 18:53:23 |
| topGO/ | - | 2008-10-16 18:53:47 |
| twilight/ | - | 2008-10-16 18:53:33 |
| vbmp/ | - | 2008-10-16 18:53:49 |
| vsn/ | - | 2008-10-16 18:53:23 |
| weaver/ | - | 2008-10-16 18:53:44 |
| webbioc/ | - | 2008-10-16 18:53:25 |
| widgetInvoke/ | - | 2008-10-16 18:53:30 |
| widgetTools/ | - | 2008-10-16 18:53:23 |
| xcms/ | - | 2008-10-16 18:53:36 |
| xps/ | - | 2008-10-16 18:53:50 |
| yaqcaffy/ | - | 2008-10-16 18:53:50 |
| STATUS_DB.txt | 89.8 KiB | 2008-10-16 18:52:18 |
| index.html | 965.9 KiB | 2008-10-16 18:54:02 |
| lamb1-NodeInfo.html | 4.1 KiB | 2008-10-16 18:53:58 |
| lamb1-R-instpkgs.html | 27.0 KiB | 2008-10-16 18:53:58 |
| lamb1-index.html | 173.8 KiB | 2008-10-16 18:53:54 |
| liverpool-NodeInfo.html | 3.8 KiB | 2008-10-16 18:53:58 |
| liverpool-R-instpkgs.html | 27.1 KiB | 2008-10-16 18:53:58 |
| liverpool-index.html | 201.1 KiB | 2008-10-16 18:53:57 |
| meat-index.txt | 42.9 KiB | 2008-10-16 18:51:54 |
| pitt-NodeInfo.html | 4.3 KiB | 2008-10-16 18:53:58 |
| pitt-R-instpkgs.html | 27.3 KiB | 2008-10-16 18:53:58 |
| pitt-index.html | 194.6 KiB | 2008-10-16 18:53:58 |
| report.css | 5.6 KiB | 2008-10-16 18:52:18 |
| report.tgz | 2.0 MiB | 2008-10-16 18:54:02 |
| wellington-NodeInfo.html | 3.8 KiB | 2008-10-16 18:53:58 |
| wellington-R-instpkgs.html | 25.1 KiB | 2008-10-16 18:53:58 |
| wellington-index.html | 180.1 KiB | 2008-10-16 18:53:56 |
| wilson2-NodeInfo.html | 3.8 KiB | 2008-10-16 18:53:58 |
| wilson2-R-instpkgs.html | 25.1 KiB | 2008-10-16 18:53:58 |
| wilson2-index.html | 176.3 KiB | 2008-10-16 18:53:55 |