| Package STATUS - Package status is indicated by one of the following glyphs: | 
| -  TIMEOUT | BUILD, CHECK or BUILD BIN of package took more than 40 minutes | 
| -  ERROR | BUILD, CHECK or BUILD BIN of package returned an error | 
| -  WARNINGS | CHECK of package produced warnings | 
| -  OK | BUILD, CHECK or BUILD BIN of package was OK | 
| - skipped | CHECK or BUILD BIN of package was skipped because the BUILD step failed (or because something bad happened with the Build System itself) | 
| Click on any glyph in the report below to see the status details (command output). | 
| lamb1 | Linux (SUSE 10.1) / x86_64 |  |  |  | 
| wilson2 | Linux (openSUSE 10.3) / x86_64 |  |  |  | 
| wellington | Linux (openSUSE 10.3) / i686 |  |  |  | 
| [liverpool] | Windows Server 2003 R2 (32-bit) / x64 |  |  |  | 
| pelham | Mac OS X Leopard (10.5.1) / i386 |  |  |  | 
|  | 
| A [A] B  C  D  E  F  G  H  I  J  K  L  M  N  O  P  Q  R  S  T  U  V  W  X  Y  Z | 
| ABarray 1.7.2 | Yongming Andrew Sun | OK | OK | OK | 
| aCGH 1.13.0 | Jane Fridlyand | OK | WARNINGS | OK | 
| ACME 1.5.0 | Sean Davis | OK | OK | OK | 
| adSplit 1.9.2 | Claudio Lottaz | OK | OK | OK | 
| affxparser 1.11.8 | Kasper Daniel Hansen | OK | WARNINGS | OK | 
| affy 1.17.12 | Rafael A. Irizarry | OK | OK | OK | 
| affycomp 1.15.2 | Rafael A. Irizarry | OK | OK | OK | 
| affycoretools 1.11.4 | James W. MacDonald | OK | OK | OK | 
| AffyExpress 1.5.2 | Xuejun Arthur Li | OK | OK | OK | 
| affyio 1.7.17 | Benjamin Milo Bolstad | OK | OK | OK | 
| affylmGUI 1.13.1 | Keith Satterley | OK | OK | OK | 
| affyPara 0.99.3 | Markus Schmidberger | OK | OK | OK | 
| affypdnn 1.13.3 | Laurent Gautier | OK | OK | OK | 
| affyPLM 1.15.10 | Ben Bolstad | ERROR | skipped | skipped | 
| affyQCReport 1.17.0 | Craig Parman | OK | OK | OK | 
| altcdfenvs 2.0.1 | Laurent Gautier | ERROR | skipped | skipped | 
| annaffy 1.11.5 | Colin A. Smith | OK | OK | OK | 
| AnnBuilder 1.17.0 | J. Zhang | OK | OK | OK | 
| annotate 1.17.12 | Biocore Team c/o BioC user list | OK | WARNINGS | OK | 
| AnnotationDbi 1.1.30 | Biocore Team c/o BioC user list | OK | OK | OK | 
| annotationTools 1.9.1 | Alexandre Kuhn | OK | OK | OK | 
| apComplex 2.5.1 | Denise Scholtens | OK | OK | OK | 
| aroma.light 1.7.1 | Henrik Bengtsson | OK | OK | OK | 
| arrayMagic 1.17.3 | Andreas Buness | ERROR | skipped | skipped | 
| arrayQuality 1.16.2 | Agnes Paquet | OK | WARNINGS | OK | 
| arrayQualityMetrics 1.4.18 | Audrey Kauffmann | OK | OK | OK | 
|  | 
| B  A [B] C  D  E  F  G  H  I  J  K  L  M  N  O  P  Q  R  S  T  U  V  W  X  Y  Z | 
| BAC 0.99.0 | Raphael Gottardo | OK | OK | OK | 
| BCRANK 1.0.5 | Adam Ameur | OK | OK | OK | 
| beadarray 1.7.9 | Mark Dunning | OK | OK | OK | 
| beadarraySNP 1.5.7 | Jan Oosting | OK | WARNINGS | OK | 
| BeadExplorer 1.5.0 | Gareth Elvidge | OK | ERROR | OK | 
| bgafun 1.1.0 | Iain Wallace | OK | OK | OK | 
| BGmix 0.9.0 | Alex Lewin | N O T   S U P P O R T E D | 
| bgx 1.3.0 | Ernest Turro | OK | OK | OK | 
| Biobase 1.99.7 | Biocore Team c/o BioC user list | OK | OK | OK | 
| BiocCaseStudies 1.1.4 | Biocore Team c/o BioC user list | OK | OK | OK | 
| biocGraph 1.1.1 | Li Long | OK | OK | OK | 
| biocViews 1.7.3 | Biocore Team c/o BioC user list | OK | OK | OK | 
| bioDist 1.11.6 | Biocore Team c/o BioC user list | OK | OK | OK | 
| biomaRt 1.13.10 | Steffen Durinck | OK | WARNINGS | OK | 
| BioMVCClass 1.7.0 | Elizabeth Whalen | OK | OK | OK | 
| Biostrings 2.7.44 | H. Pages | OK | WARNINGS | OK | 
| BiostringsCinterfaceDemo 0.1.2 | H. Pages | OK | WARNINGS | OK | 
| bridge 1.2.0 | Raphael Gottardo | OK | OK | OK | 
| BSgenome 1.7.7 | H. Pages | OK | WARNINGS | OK | 
| BufferedMatrix 1.3.1 | Benjamin Milo Bolstad | OK | OK | OK | 
| BufferedMatrixMethods 1.3.5 | B. M. Bolstad | OK | OK | OK | 
|  | 
| C  A  B [C] D  E  F  G  H  I  J  K  L  M  N  O  P  Q  R  S  T  U  V  W  X  Y  Z | 
| CALIB 1.5.0 | Hui Zhao | OK | OK | OK | 
| Category 2.5.10 | Robert Gentleman | OK | WARNINGS | OK | 
| cellHTS 1.9.2 | Ligia Bras | OK | OK | OK | 
| cellHTS2 2.3.25 | Gregoire Pau | OK | OK | OK | 
| CGHcall 1.1.9 | Sjoerd Vosse | OK | OK | OK | 
| cghMCR 1.9.0 | J. Zhang | OK | OK | OK | 
| clusterStab 1.11.1 | James W. MacDonald | OK | OK | OK | 
| CoCiteStats 1.11.0 | R. Gentleman | OK | OK | OK | 
| codelink 1.7.5 | Diego Diez | OK | OK | OK | 
| convert 1.15.1 | Yee Hwa (Jean) Yang | OK | OK | OK | 
| copa 1.7.1 | James W. MacDonald | OK | OK | OK | 
| CORREP 1.5.0 | Dongxiao Zhu | OK | OK | OK | 
| cosmo 1.5.0 | Oliver Bembom | OK | OK | OK | 
| cosmoGUI 1.5.0 | Oliver Bembom | OK | OK | OK | 
| ctc 1.13.0 | Antoine Lucas | OK | OK | OK | 
|  | 
| D  A  B  C [D] E  F  G  H  I  J  K  L  M  N  O  P  Q  R  S  T  U  V  W  X  Y  Z | 
| daMA 1.11.0 | Jobst Landgrebe | OK | OK | OK | 
| DEDS 1.13.1 | Yuanyuan Xiao | OK | OK | OK | 
| diffGeneAnalysis 1.21.0 | Choudary Jagarlamudi | OK | OK | OK | 
| DNAcopy 1.13.3 | Venkatraman E. Seshan | OK | OK | OK | 
| DynDoc 1.17.0 | Biocore Team c/o BioC user list | OK | OK | OK | 
|  | 
| E  A  B  C  D [E] F  G  H  I  J  K  L  M  N  O  P  Q  R  S  T  U  V  W  X  Y  Z | 
| EBarrays 2.3.1 | Ming Yuan | OK | OK | OK | 
| EBImage 2.3.17 | Oleg Sklyar | OK | WARNINGS | OK | 
| ecolitk 1.11.2 | Laurent | OK | OK | OK | 
| edd 1.17.2 | Vince Carey | OK | OK | OK | 
| exonmap 1.5.4 | Crispin Miller | OK | WARNINGS | OK | 
| explorase 1.3.6 | Michael Lawrence | OK | OK | OK | 
| externalVector 1.5.4 | Biocore Team c/o BioC user list | OK | OK | OK | 
|  | 
| F  A  B  C  D  E [F] G  H  I  J  K  L  M  N  O  P  Q  R  S  T  U  V  W  X  Y  Z | 
| factDesign 1.13.1 | Denise Scholtens | OK | OK | OK | 
| fbat 1.3.0 | Weiliang Qiu | OK | OK | OK | 
| fdrame 1.11.1 | Effi Kenigsberg | OK | OK | OK | 
| flowClust 1.0.0 | Raphael Gottardo | ERROR | skipped | skipped | 
| flowCore 1.5.16 | Nolwenn Le Meur | OK | ERROR | ERROR | 
| flowQ 0.99.1 | N. Le Meur | OK | WARNINGS | OK | 
| flowUtils 0.99.1 | Florian Hahne | OK | WARNINGS | OK | 
| flowViz 1.3.4 | Florian Hahne | OK | WARNINGS | OK | 
|  | 
| G  A  B  C  D  E  F [G] H  I  J  K  L  M  N  O  P  Q  R  S  T  U  V  W  X  Y  Z | 
| gaga 0.0.1 | David Rossell | OK | WARNINGS | OK | 
| gaggle 1.7.1 | Dan Tenenbaum | OK | OK | OK | 
| gcrma 2.11.4 | Z. Wu | OK | OK | OK | 
| genArise 1.15.0 | IFC Development Team | OK | OK | OK | 
| genefilter 1.17.12 | Biocore Team c/o BioC user list | OK | WARNINGS | OK | 
| GeneMeta 1.11.1 | Biocore Team c/o BioC user list | OK | OK | OK | 
| geneplotter 1.17.7 | Biocore Team c/o BioC user list | OK | OK | OK | 
| GeneR 2.9.1 | Y. d'Aubenton-Carafa | OK | OK | OK | 
| geneRecommender 1.11.1 | Greg Hather | OK | OK | OK | 
| GeneRfold 0.1.4 | Antoine Lucas | N O T   S U P P O R T E D | 
| GeneSelector 0.9.5 | Martin Slawski | TIMEOUT | skipped | skipped | 
| GeneSpring 2.13.1 | Thon de Boer | OK | OK | OK | 
| GeneticsBase 1.3.2 | Gregory Warnes | ERROR | skipped | skipped | 
| GeneticsDesign 1.5.0 | Weiliang Qiu | OK | ERROR | OK | 
| GeneticsPed 1.1.0 | Gregor Gorjanc | OK | OK | OK | 
| GeneTraffic 1.11.1 | Daniel Iordan | OK | OK | OK | 
| GenomeGraphs 0.99.1 | Steffen Durinck | ERROR | skipped | skipped | 
| GEOmetadb 0.99.0 | Jack Zhu | OK | OK | OK | 
| GEOquery 2.3.6 | Sean Davis | OK | OK | OK | 
| GGtools 1.7.29 | Vince Carey | ERROR | skipped | skipped | 
| GLAD 1.15.1 | Philippe Hupe | OK | OK | OK | 
| GlobalAncova 3.5.1 | R. Meister | OK | OK | OK | 
| globaltest 4.9.1 | Jelle Goeman | OK | OK | OK | 
| GOstats 2.5.2 | Robert Gentleman | OK | OK | OK | 
| goTools 1.11.1 | Agnes Paquet | OK | OK | OK | 
| gpls 1.11.1 | Biocore Team c/o BioC user list | OK | OK | OK | 
| graph 1.17.17 | Robert Gentleman | OK | OK | OK | 
| GraphAlignment 1.0.0 | Joern P. Meier | OK | OK | OK | 
| GraphAT 1.11.2 | Thomas LaFramboise | OK | OK | OK | 
| GSEABase 1.1.27 | Biocore Team c/o BioC user list | OK | WARNINGS | OK | 
| GSEAlm 0.99.1 | Assaf Oron | OK | OK | OK | 
|  | 
| H  A  B  C  D  E  F  G [H] I  J  K  L  M  N  O  P  Q  R  S  T  U  V  W  X  Y  Z | 
| Harshlight 1.9.0 | Maurizio Pellegrino | OK | OK | OK | 
| Heatplus 1.9.0 | Alexander Ploner | OK | OK | OK | 
| HEM 1.11.0 | HyungJun Cho | OK | OK | OK | 
| hexbin 1.13.3 | Nicholas Lewin-Koh | OK | WARNINGS | OK | 
| hopach 1.13.1 | Katherine S. Pollard | OK | OK | OK | 
| hypergraph 1.11.1 | Robert Gentleman | OK | OK | OK | 
|  | 
| I  A  B  C  D  E  F  G  H [I] J  K  L  M  N  O  P  Q  R  S  T  U  V  W  X  Y  Z | 
| Icens 1.11.1 | Biocore Team c/o BioC user list | OK | OK | OK | 
| idiogram 1.13.1 | Karl J. Dykema | OK | OK | OK | 
| impute 1.11.0 | Balasubramanian Narasimhan | OK | OK | OK | 
|  | 
| K  A  B  C  D  E  F  G  H  I  J [K] L  M  N  O  P  Q  R  S  T  U  V  W  X  Y  Z | 
| keggorth 1.1.0 | VJ Carey | OK | OK | OK | 
| KEGGSOAP 1.13.0 | Robert Gentleman | OK | WARNINGS | OK | 
|  | 
| L  A  B  C  D  E  F  G  H  I  J  K [L] M  N  O  P  Q  R  S  T  U  V  W  X  Y  Z | 
| lapmix 1.5.3 | Yann Ruffieux | OK | OK | OK | 
| LBE 1.7.0 | Cyril Dalmasso | OK | OK | OK | 
| limma 2.13.7 | Gordon Smyth | OK | WARNINGS | OK | 
| limmaGUI 1.15.0 | Keith Satterley | OK | OK | OK | 
| LMGene 1.9.1 | John Tillinghast | OK | OK | OK | 
| logicFS 1.9.15 | Holger Schwender | OK | OK | OK | 
| LPE 1.13.0 | Nitin Jain | OK | OK | OK | 
| lumi 1.5.18 | Pan Du | ERROR | skipped | skipped | 
|  | 
| M  A  B  C  D  E  F  G  H  I  J  K  L [M] N  O  P  Q  R  S  T  U  V  W  X  Y  Z | 
| maanova 1.8.1 | Hyuna Yang | OK | OK | OK | 
| macat 1.13.3 | Joern Toedling | OK | OK | OK | 
| maCorrPlot 1.9.0 | Alexander Ploner | OK | OK | OK | 
| maDB 1.11.1 | Johannes Rainer | N O T   S U P P O R T E D | 
| made4 1.13.3 | Aedin Culhane | OK | OK | OK | 
| maigesPack 1.3.5 | Gustavo H. Esteves | OK | OK | OK | 
| makecdfenv 1.17.1 | James W. MacDonald | OK | OK | OK | 
| makePlatformDesign 1.3.0 | Benilton Carvalho | OK | OK | OK | 
| MANOR 1.11.1 | Pierre Neuvial | OK | OK | OK | 
| MantelCorr 1.9.0 | Brian Steinmeyer | OK | OK | OK | 
| marray 1.17.1 | Yee Hwa (Jean) Yang | OK | OK | OK | 
| maSigPro 1.11.1 | Ana Conesa | OK | OK | OK | 
| MassSpecWavelet 1.5.2 | Pan Du | OK | OK | OK | 
| matchprobes 1.11.1 | Biocore Team c/o BioC user list | OK | OK | OK | 
| MCRestimate 1.11.7 | Markus Ruschhaupt | OK | OK | OK | 
| mdqc 1.0.1 | Gabriela Cohen-Freue | OK | WARNINGS | OK | 
| MeasurementError.cor 1.11.0 | Beiying Ding | OK | OK | OK | 
| MergeMaid 2.11.1 | Xiaogang Zhong | OK | OK | OK | 
| metaArray 1.13.2 | Hyungwon Choi | OK | OK | OK | 
| Mfuzz 1.9.2 | Matthias Futschik | OK | OK | OK | 
| MiPP 1.11.0 | Sukwoo Kim | OK | OK | OK | 
| MLInterfaces 1.13.22 | V. Carey | OK | OK | OK | 
| multtest 1.19.1 | Katherine S. Pollard | OK | OK | OK | 
| MVCClass 1.13.0 | Elizabeth Whalen | OK | OK | OK | 
|  | 
| N  A  B  C  D  E  F  G  H  I  J  K  L  M [N] O  P  Q  R  S  T  U  V  W  X  Y  Z | 
| nem 2.3.2 | Florian Markowetz | OK | OK | OK | 
| nnNorm 2.3.0 | Adi Laurentiu Tarca | OK | OK | OK | 
| nudge 1.5.2 | N. Dean | OK | OK | OK | 
|  | 
| O  A  B  C  D  E  F  G  H  I  J  K  L  M  N [O] P  Q  R  S  T  U  V  W  X  Y  Z | 
| occugene 0.99.0 | Oliver Will | OK | OK | OK | 
| OCplus 1.13.0 | Alexander Ploner | OK | OK | OK | 
| oligo 1.3.18 | Benilton Carvalho | OK | WARNINGS | OK | 
| oligoClasses 1.1.18 | Benilton Carvalho | OK | WARNINGS | OK | 
| OLIN 1.15.0 | Matthias Futschik | OK | OK | OK | 
| OLINgui 1.13.0 | Matthias Futschik | OK | OK | OK | 
| oneChannelGUI 1.5.11 | Raffaele A Calogero | OK | OK | OK | 
| ontoTools 1.15.1 | Vince Carey | OK | OK | OK | 
| OrderedList 1.11.3 | Claudio Lottaz | OK | OK | OK | 
| OutlierD 1.3.0 | Sukwoo Kim | OK | OK | OK | 
|  | 
| P  A  B  C  D  E  F  G  H  I  J  K  L  M  N  O [P] Q  R  S  T  U  V  W  X  Y  Z | 
| pamr 1.37.0 | Rob Tibshirani | OK | OK | OK | 
| panp 1.9.1 | Peter Warren | OK | OK | OK | 
| pathRender 1.7.4 | Li Long | OK | WARNINGS | OK | 
| pcaMethods 1.15.3 | Wolfram Stacklies | OK | OK | OK | 
| pcot2 1.7.1 | Sarah Song | OK | OK | OK | 
| PCpheno 1.1.7 | Nolwenn Le Meur | OK | OK | OK | 
| pdInfoBuilder 1.3.18 | Vince Carey | OK | WARNINGS | OK | 
| pdmclass 1.11.1 | James W. MacDonald | OK | OK | OK | 
| PGSEA 1.7.7 | Karl Dykema | OK | OK | OK | 
| pgUtils 1.11.0 | Johannes Rainer | N O T   S U P P O R T E D | 
| pickgene 1.11.0 | Brian S. Yandell | OK | WARNINGS | OK | 
| pkgDepTools 1.5.1 | Seth Falcon | OK | OK | OK | 
| plgem 1.11.2 | Mattia Pelizzola | OK | OK | OK | 
| plier 1.9.0 | Crispin Miller | OK | OK | OK | 
| plw 0.99.6 | Magnus Astrand | ERROR | skipped | skipped | 
| ppiStats 1.5.16 | Tony Chiang | OK | WARNINGS | OK | 
| prada 1.15.1 | Florian Hahne | OK | WARNINGS | OK | 
| preprocessCore 1.1.9 | Benjamin Milo Bolstad | OK | OK | OK | 
| prism 0.1.2 | Raphael Gottardo | OK | WARNINGS | OK | 
| PROcess 1.15.0 | Xiaochun Li | OK | WARNINGS | OK | 
| puma 1.5.5 | Richard Pearson | OK | OK | OK | 
|  | 
| Q  A  B  C  D  E  F  G  H  I  J  K  L  M  N  O  P [Q] R  S  T  U  V  W  X  Y  Z | 
| quantsmooth 1.5.4 | Jan Oosting | OK | WARNINGS | OK | 
| qvalue 1.13.0 | John D. Storey | OK | OK | OK | 
|  | 
| R  A  B  C  D  E  F  G  H  I  J  K  L  M  N  O  P  Q [R] S  T  U  V  W  X  Y  Z | 
| rama 1.12.0 | Raphael Gottardo | OK | OK | OK | 
| RankProd 2.11.0 | Fangxin Hong | OK | OK | OK | 
| RbcBook1 1.7.2 | Vince Carey | OK | OK | OK | 
| RBGL 1.15.7 | Li Long | OK | WARNINGS | OK | 
| RBioinf 0.7.1 | Robert Gentleman | OK | OK | OK | 
| rbsurv 1.5.0 | Sukwoo Kim | OK | OK | OK | 
| Rdbi 1.13.0 | Jianhua Zhang | OK | OK | OK | 
| RdbiPgSQL 1.13.0 | Jianhua Zhang | N O T   S U P P O R T E D | 
| Rdisop 0.99.3 | Steffen Neumann | OK | OK | OK | 
| reb 1.13.0 | Karl J. Dykema | OK | WARNINGS | OK | 
| RefPlus 1.9.0 | Kai-Ming Chang | OK | OK | OK | 
| Resourcerer 1.13.0 | Jianhua Zhang | OK | OK | OK | 
| rflowcyt 1.11.1 | N. LeMeur | OK | OK | OK | 
| Rgraphviz 1.17.13 | Li Long | OK | ERROR | OK | 
| rhdf5 1.7.1 | Biocore Team c/o BioC user list | ERROR | skipped | skipped | 
| rHVDM 1.5.1 | Martino Barenco | OK | WARNINGS | OK | 
| Ringo 1.3.19 | J. Toedling | OK | OK | OK | 
| Rintact 1.1.6 | Tony Chiang | OK | OK | OK | 
| RLMM 1.1.0 | Nusrat Rabbee | OK | OK | OK | 
| RMAGEML 2.13.1 | Steffen Durinck | N O T   S U P P O R T E D | 
| ROC 1.13.1 | Vince Carey | OK | OK | OK | 
| Rredland 1.5.1 | VJ Carey | N O T   S U P P O R T E D | 
| rsbml 1.5.1 | Michael Lawrence | ERROR | skipped | skipped | 
| RSNPper 1.13.0 | VJ Carey | ERROR | skipped | skipped | 
| rtracklayer 0.1.5 | Michael Lawrence | OK | WARNINGS | OK | 
| Rtreemix 1.0.0 | Jasmina Bogojeska | OK | ERROR | OK | 
| Ruuid 1.17.1 | Biocore Team c/o BioC user list | OK | OK | OK | 
| RWebServices 1.3.1 | Martin Morgan | N O T   S U P P O R T E D | 
|  | 
| S  A  B  C  D  E  F  G  H  I  J  K  L  M  N  O  P  Q  R [S] T  U  V  W  X  Y  Z | 
| safe 2.0.1 | William T. Barry | OK | OK | OK | 
| SAGElyzer 1.17.0 | Jianhua Zhang | OK | WARNINGS | OK | 
| sagenhaft 1.9.0 | Tim Beissbarth | OK | OK | OK | 
| SAGx 1.13.4 | Per Broberg, | OK | WARNINGS | OK | 
| SBMLR 1.33.1 | Tomas Radivoyevitch | OK | OK | OK | 
| ScISI 1.11.2 | Tony Chiang | OK | OK | OK | 
| SemSim 1.5.0 | Xiang Guo | OK | OK | OK | 
| seqLogo 1.5.0 | Oliver Bembom | OK | OK | OK | 
| siggenes 1.13.4 | Holger Schwender | OK | OK | OK | 
| sigPathway 1.7.0 | Weil Lai | OK | OK | OK | 
| simpleaffy 2.15.04 | Crispin Miller | OK | OK | OK | 
| simulatorAPMS 1.11.0 | Tony Chiang | OK | OK | OK | 
| sizepower 1.9.0 | Weiliang Qiu | OK | OK | OK | 
| SLGI 0.99.0 | Nolwenn Le Meur | OK | OK | OK | 
| SLqPCR 1.5.0 | Matthias Kohl | OK | OK | OK | 
| SMAP 1.3.0 | Robin Andersson | OK | OK | OK | 
| snapCGH 1.7.4 | John Marioni | OK | OK | OK | 
| SNPchip 1.3.22 | Robert Scharpf | OK | WARNINGS | OK | 
| snpMatrix 1.2.4 | David Clayton | OK | OK | OK | 
| spikeLI 1.7.0 | Enrico Carlon | OK | OK | OK | 
| splicegear 1.11.2 | Laurent Gautier | OK | OK | OK | 
| splots 1.5.3 | Oleg Sklyar | OK | OK | OK | 
| spotSegmentation 1.13.0 | Chris Fraley | OK | OK | OK | 
| sscore 1.11.0 | Richard Kennedy | OK | OK | OK | 
| ssize 1.11.0 | Gregory R. Warnes | OK | OK | OK | 
| stam 1.7.3 | Claudio Lottaz | ERROR | skipped | skipped | 
| stepNorm 1.11.1 | Yuanyuan Xiao | OK | OK | OK | 
|  | 
| T  A  B  C  D  E  F  G  H  I  J  K  L  M  N  O  P  Q  R  S [T] U  V  W  X  Y  Z | 
| tilingArray 1.17.3 | W. Huber | OK | OK | OK | 
| timecourse 1.11.1 | Yu Chuan Tai | OK | OK | OK | 
| tkWidgets 1.17.1 | J. Zhang | OK | OK | OK | 
| topGO 1.5.0 | Adrian Alexa | OK | WARNINGS | OK | 
| twilight 1.15.2 | Stefanie Scheid | OK | OK | OK | 
| TypeInfo 1.5.0 | Duncan Temple Lang | OK | OK | OK | 
|  | 
| V  A  B  C  D  E  F  G  H  I  J  K  L  M  N  O  P  Q  R  S  T  U [V] W  X  Y  Z | 
| VanillaICE 1.1.18 | Robert Scharpf | OK | OK | OK | 
| vbmp 1.7.2 | Nicola Lama | OK | OK | OK | 
| vsn 3.4.12 | Wolfgang Huber | OK | OK | OK | 
|  | 
| W  A  B  C  D  E  F  G  H  I  J  K  L  M  N  O  P  Q  R  S  T  U  V [W] X  Y  Z | 
| weaver 1.5.0 | Seth Falcon | OK | OK | OK | 
| webbioc 1.11.1 | Colin A. Smith | OK | OK | OK | 
| widgetInvoke 1.11.0 | Jeff Gentry | N O T   S U P P O R T E D | 
| widgetTools 1.15.0 | Jianhua Zhang | OK | OK | OK | 
|  | 
| X  A  B  C  D  E  F  G  H  I  J  K  L  M  N  O  P  Q  R  S  T  U  V  W [X] Y  Z | 
| xcms 1.11.16 | Colin A. Smith | OK | WARNINGS | OK | 
| XDE 0.99.2 | Robert Scharpf | OK | WARNINGS | OK | 
| xps 0.99.8 | Christian Stratowa | OK | OK | OK | 
|  | 
| Y  A  B  C  D  E  F  G  H  I  J  K  L  M  N  O  P  Q  R  S  T  U  V  W  X [Y] Z | 
| yaqcaffy 0.99.2 | Laurent Gatto | OK | OK | OK |