| ScISI 1.11.2 Tony Chiang
 
 | Snapshot Date: 2008-04-09 00:13:10 -0700 (Wed, 09 Apr 2008) |  | URL: https://hedgehog.fhcrc.org/bioconductor/trunk/madman/Rpacks/ScISI |  | Last Changed Rev: 28249 / Revision: 30951 |  | Last Changed Date: 2007-10-26 07:11:58 -0700 (Fri, 26 Oct 2007) | 
 | lamb1 | Linux (SUSE 10.1) / x86_64 | OK | OK |  | 
| wilson2 | Linux (openSUSE 10.3) / x86_64 | OK | OK |  | 
| wellington | Linux (openSUSE 10.3) / i686 | OK | OK |  | 
| liverpool | Windows Server 2003 R2 (32-bit) / x64 | OK | OK | [ OK ] | 
| pelham | Mac OS X Leopard (10.5.1) / i386 | OK | OK | OK | 
installing R.css in E:/biocbld/bbs-2.2-bioc/meat/ScISI.buildbin-libdir
Using auto-selected zip options ' ScISI-HELP=ziponly'
---------- Making package ScISI ------------
  adding build stamp to DESCRIPTION
  installing NAMESPACE file and metadata
  installing R files
  installing inst files
  installing data files
  preparing package ScISI for lazy loading
Loading required package: apComplex
Loading required package: graph
Loading required package: RBGL
Loading required package: Rgraphviz
Loading required package: grid
Loading required package: YEAST
Loading required package: GO
Loading required package: GOstats
Loading required package: GO.db
Loading required package: AnnotationDbi
Loading required package: Biobase
Loading required package: tools
Welcome to Bioconductor
  Vignettes contain introductory material. To view, type
  'openVignette()'. To cite Bioconductor, see
  'citation("Biobase")' and for packages 'citation(pkgname)'.
Loading required package: DBI
Loading required package: RSQLite
Attaching package: 'GO.db'
	The following object(s) are masked from package:GO :
	 GO,
	 GOBPANCESTOR,
	 GOBPCHILDREN,
	 GOBPOFFSPRING,
	 GOBPPARENTS,
	 GOCCANCESTOR,
	 GOCCCHILDREN,
	 GOCCOFFSPRING,
	 GOCCPARENTS,
	 GOMAPCOUNTS,
	 GOMFANCESTOR,
	 GOMFCHILDREN,
	 GOMFOFFSPRING,
	 GOMFPARENTS,
	 GOOBSOLETE,
	 GOSYNONYM,
	 GOTERM 
Loading required package: annotate
Loading required package: xtable
Attaching package: 'annotate'
	The following object(s) are masked from package:Rgraphviz :
	 toFile 
Loading required package: Category
Loading required package: genefilter
Loading required package: survival
Loading required package: splines
Loading required package: Rintact
Loading required package: XML
Attaching package: 'XML'
	The following object(s) are masked from package:graph :
	 addNode 
Loading required package: hypergraph
Attaching package: 'hypergraph'
	The following object(s) are masked from package:xtable :
	 label,
	 label<- 
	The following object(s) are masked from package:AnnotationDbi :
	 head,
	 tail 
	The following object(s) are masked from package:Rgraphviz :
	 head,
	 tail 
	The following object(s) are masked from package:utils :
	 head,
	 tail 
  installing man source files
  installing indices
  not zipping data
  installing help
Note: removing empty section \details
Note: removing empty section \details
Note: removing empty section \references
Note: removing empty section \examples
Note: removing empty section \references
Note: removing empty section \examples
Note: removing empty section \examples
Note: removing empty section \examples
Note: removing empty section \note
Note: removing empty section \examples
Note: removing empty section \note
Note: removing empty section \examples
Note: removing empty section \examples
Note: removing empty section \examples
Note: removing empty section \examples
Note: removing empty section \examples
Note: removing empty section \examples
Note: removing empty section \examples
Note: removing empty section \details
Note: removing empty section \examples
Note: removing empty section \details
Note: removing empty section \examples
Note: removing empty section \examples
Note: removing empty section \examples
Note: removing empty section \details
Note: removing empty section \examples
Note: removing empty section \details
Note: removing empty section \examples
Note: removing empty section \details
Note: removing empty section \examples
Note: removing empty section \details
Note: removing empty section \examples
Note: removing empty section \examples
Note: removing empty section \examples
Note: removing empty section \details
Note: removing empty section \details
Note: removing empty section \details
Note: removing empty section \details
Note: removing empty section \details
Note: removing empty section \details
 >>> Building/Updating help pages for package 'ScISI'
     Formats: text html latex example chm 
  Desc-methods                      text    html    latex           chm
  ID-methods                        text    html    latex           chm
  JaccardCoef                       text    html    latex   example chm
  ScISI                             text    html    latex   example chm
  ScISI2html                        text    html    latex   example chm
  arp23                             text    html    latex   example chm
  arp23G                            text    html    latex   example chm
  arp23Orf                          text    html    latex   example chm
  arp23Y2HG                         text    html    latex   example chm
  calcGraphStats                    text    html    latex           chm
  cfia                              text    html    latex   example chm
  cfiaOrf                           text    html    latex   example chm
  checkComplex                      text    html    latex           chm
  checkSGN                          text    html    latex           chm
  compBijection                     text    html    latex           chm
  compareComplex                    text    html    latex           chm
  createGODataFrame                 text    html    latex   example chm
  createGOMatrix                    text    html    latex   example chm
  createMipsDataFrame               text    html    latex           chm
  createMipsMatrix                  text    html    latex   example chm
  createYeastDataObj                text    html    latex   example chm
  dataS                             text    html    latex   example chm
  eAt                               text    html    latex   example chm
  eAt2                              text    html    latex   example chm
  edgeProp                          text    html    latex           chm
  egEBI16112                        text    html    latex   example chm
  expStats                          text    html    latex   example chm
  findSubComp                       text    html    latex   example chm
  gavin2mergeMG                     text    html    latex   example chm
  getAPMSData                       text    html    latex   example chm
  getGOInfo                         text    html    latex   example chm
  getLocOrfs                        text    html    latex           chm
  getMipsInfo                       text    html    latex   example chm
  getURL-methods                    text    html    latex           chm
  graphSumStats                     text    html    latex           chm
  ho2mergeMGG                       text    html    latex   example chm
  krogan2mergeMGGH                  text    html    latex   example chm
  locScISI                          text    html    latex   example chm
  mapping2SysG                      text    html    latex   example chm
  mappingsG                         text    html    latex   example chm
  maximizeSimilarity                text    html    latex   example chm
  meanDeg                           text    html    latex           chm
  mergeBGMat                        text    html    latex   example chm
  mips2go                           text    html    latex   example chm
  nAt                               text    html    latex           chm
  nAtMap                            text    html    latex   example chm
  nonGenes                          text    html    latex   example chm
  nucComp                           text    html    latex   example chm
  recCompSize                       text    html    latex   example chm
  redundantM                        text    html    latex   example chm
  rmByEvi                           text    html    latex           chm
  runAlignment                      text    html    latex   example chm
  runCompareComplex                 text    html    latex   example chm
  subCompM                          text    html    latex   example chm
  sumStats                          text    html    latNote: removing empty section \examples
Note: removing empty section \examples
ex   example chm
  unWantedComp                      text    html    latex   example chm
  unwanted                          text    html    latex   example chm
  xtraGO                            text    html    latex   example chm
  xtraGONodes                       text    html    latex           chm
  yeastData-class                   text    html    latex   example chm
  zipping help files
Microsoft HTML Help Compiler 4.74.8702
Compiling e:\biocbld\bbs-2.2-bioc\meat\R.INSTALL.2968\ScISI\chm\ScISI.chm
Compile time: 0 minutes, 1 second
61	Topics
148	Local links
0	Internet links
1	Graphic
Created e:\biocbld\bbs-2.2-bioc\meat\R.INSTALL.2968\ScISI\chm\ScISI.chm, 71,938 bytes
Compression decreased file by 87,172 bytes.
  adding MD5 sums
packaged installation of package 'ScISI' as ScISI_1.11.2.zip
* DONE (ScISI)