Back to the "Build/check report" | A B C D E F G H I J K L M N O P Q R S T U V W [X] Y Z |
This page was generated on 2013-10-08 10:03:29 -0700 (Tue, 08 Oct 2013).
Package 726/730 | Hostname | OS / Arch | BUILD | CHECK | BUILD BIN | ||||
xmapcore 1.15.0 Tim Yates
| zin2 | Linux (Ubuntu 12.04.2 LTS) / x86_64 | OK | OK |