| XhybCasneuf 1.0.0 Tineke Casneuf
 
 | Snapshot Date: 2008-04-10 00:02:38 -0700 (Thu, 10 Apr 2008) |  | URL: https://hedgehog.fhcrc.org/bioc-data/trunk/experiment/pkgs/XhybCasneuf |  | Last Changed Rev: 360 / Revision: 624 |  | Last Changed Date: 2007-07-06 08:43:53 -0700 (Fri, 06 Jul 2007) | 
 | lamb1 | Linux (SUSE 10.1) / x86_64 | OK | OK |  | 
| lemming | Windows Server 2003 (32-bit) / x64 | OK | OK | OK | 
| pitt | Mac OS X Tiger (10.4.11) / i386 | [ OK ] | OK | OK | 
* checking for file 'XhybCasneuf/DESCRIPTION' ... OK
* preparing 'XhybCasneuf':
* checking DESCRIPTION meta-information ... OK
* checking whether 'INDEX' is up-to-date ... NO
* use '--force' to overwrite the existing 'INDEX'
* installing the package to re-build vignettes
* Installing *source* package 'XhybCasneuf' ...
** R
** data
** inst
** help
 >>> Building/Updating help pages for package 'XhybCasneuf'
     Formats: text html latex example 
  AffysTissue                       text    html    latex   example
  CustomsTissue                     text    html    latex   example
  XhybExamples-class                text    html    latex   example
  ex1                               text    html    latex   example
  plotExample                       text    html    latex   example
  runSimulation                     text    html    latex   example
** building package indices ...
* DONE (XhybCasneuf)
* creating vignettes ... OK
* removing junk files
* checking for LF line-endings in source and make files
* checking for empty or unneeded directories
* building 'XhybCasneuf_1.0.0.tar.gz'