| sigPathway 1.6.0 Weil Lai
 
 | Snapshot Date: 2008-04-02 12:12:36 -0700 (Wed, 02 Apr 2008) |  | URL: https://hedgehog.fhcrc.org/bioconductor/branches/RELEASE_2_1/madman/Rpacks/sigPathway |  | Last Changed Rev: 27709 / Revision: 30807 |  | Last Changed Date: 2007-10-02 17:41:09 -0700 (Tue, 02 Oct 2007) | 
 | lamb1 | Linux (SUSE 10.1) / x86_64 | OK | OK |  | 
| wilson2 | Linux (openSUSE 10.3) / x86_64 | OK | OK |  | 
| wellington | Linux (openSUSE 10.3) / i686 | OK | OK |  | 
| liverpool | Windows Server 2003 R2 (32-bit) / x64 | OK | OK | [ OK ] | 
| lemming | Windows Server 2003 (32-bit) / x64 | OK | OK | OK | 
| pitt | Mac OS X Tiger (10.4.11) / i386 | OK | OK | OK | 
installing R.css in E:/biocbld/bbs-2.1-bioc/meat/sigPathway.buildbin-libdir
Using auto-selected zip options 'sigPathway-ZIPDATA=zip'
---------- Making package sigPathway ------------
  adding build stamp to DESCRIPTION
  installing NAMESPACE file and metadata
  making DLL ...
making calc_gene_set_internal.d from calc_gene_set_internal.c
making calc_gene_set_stat.d from calc_gene_set_stat.c
making calc_probe_stat.d from calc_probe_stat.c
making calc_weights.d from calc_weights.c
making matrix_fn.d from matrix_fn.c
making permute.d from permute.c
making shuffle.d from shuffle.c
making sigPathway.d from sigPathway.c
gcc-sjlj  -std=gnu99  -IE:/biocbld/bbs-2.1-bioc/R/include     -O3 -Wall  -c calc_gene_set_internal.c -o calc_gene_set_internal.o
gcc-sjlj  -std=gnu99  -IE:/biocbld/bbs-2.1-bioc/R/include     -O3 -Wall  -c calc_gene_set_stat.c -o calc_gene_set_stat.o
gcc-sjlj  -std=gnu99  -IE:/biocbld/bbs-2.1-bioc/R/include     -O3 -Wall  -c calc_probe_stat.c -o calc_probe_stat.o
gcc-sjlj  -std=gnu99  -IE:/biocbld/bbs-2.1-bioc/R/include     -O3 -Wall  -c calc_weights.c -o calc_weights.o
gcc-sjlj  -std=gnu99  -IE:/biocbld/bbs-2.1-bioc/R/include     -O3 -Wall  -c matrix_fn.c -o matrix_fn.o
gcc-sjlj  -std=gnu99  -IE:/biocbld/bbs-2.1-bioc/R/include     -O3 -Wall  -c permute.c -o permute.o
gcc-sjlj  -std=gnu99  -IE:/biocbld/bbs-2.1-bioc/R/include     -O3 -Wall  -c shuffle.c -o shuffle.o
gcc-sjlj  -std=gnu99  -IE:/biocbld/bbs-2.1-bioc/R/include     -O3 -Wall  -c sigPathway.c -o sigPathway.o
windres --preprocessor="gcc-sjlj -E -xc -DRC_INVOKED" -I E:/biocbld/bbs-2.1-bioc/R/include  -i sigPathway_res.rc -o sigPathway_res.o
gcc-sjlj  -std=gnu99  -shared -s  -o sigPathway.dll sigPathway.def calc_gene_set_internal.o calc_gene_set_stat.o calc_probe_stat.o calc_weights.o matrix_fn.o permute.o shuffle.o sigPathway.o sigPathway_res.o  -LE:/biocbld/bbs-2.1-bioc/R/bin -LE:/biocbld/bbs-2.1-bioc/R/bin -lRlapack -LE:/biocbld/bbs-2.1-bioc/R/bin -lRblas -lgfortran   -lR
  ... DLL made
  installing DLL
  installing R files
  installing inst files
  installing data files
  installing man source files
  installing indices
  zipping data
  installing help
 >>> Building/Updating help pages for package 'sigPathway'
     Formats: text html latex example chm 
  MuscleExample                     text    html    latex           chm
  calcTNullFast                     text    html    latex           chm
  calcTStatFast                     text    html    latex   example chm
  calculate.GSEA                    text    html    latex           chm
  calculate.NGSk                    text    html    latex   example chm
  calculatePathwayStatistics        text    html    latex   example chm
  estimateNumPerm                   text    html    latex   example chm
  getPathwayStatistics.NGSk         text    html    latex           chm
  getPathwayStatistics              text    html    latex           chm
  importGeneSets                    text    html    latex           chm
  rankPathways.NGSk                 text    html    latex           chm
  rankPathways                      text    html    latex           chm
  runSigPathway                     text    html    latex   example chm
  selectGeneSets                    text    html    latex           chm
  writeSigPathway                   text    html    latex           chm
Microsoft HTML Help Compiler 4.74.8702
Compiling e:\biocbld\bbs-2.1-bioc\meat\R.INSTALL.4700\sigPathway\chm\sigPathway.chm
Compile time: 0 minutes, 0 seconds
16	Topics
39	Local links
11	Internet links
1	Graphic
Created e:\biocbld\bbs-2.1-bioc\meat\R.INSTALL.4700\sigPathway\chm\sigPathway.chm, 39,505 bytes
Compression decreased file by 32,045 bytes.
  preparing package sigPathway for lazy loading
  adding MD5 sums
packaged installation of package 'sigPathway' as sigPathway_1.6.0.zip
* DONE (sigPathway)