Back to the "Multiple platform build/check report"
| IMPORTANT NOTE: R was configured with --enable-strict-barrier on lamb1 |
| Package 92/247 | Hostname | OS | Arch | BUILD | CHECK | BUILD BIN |
GeneTraffic1.9.0Daniel IordanLast Changed Date: 2007-05-11 21:56:41 -0700 Last Changed Rev: 24616 | lamb1 | Linux (SUSE 10.1) | x86_64 | OK | OK | |
| wellington | Linux (SUSE 9.2) | i686 | OK | OK | ||
| liverpool | Windows Server 2003 R2 (32-bit) | x64 | OK | OK | OK | |
| pitt | Mac OS X (10.4.10) | i386 | OK | OK | [ OK ] |
| Package: GeneTraffic |
| Version: 1.9.0 |
| Command: /Users/biocbuild/BBS/utils/build-universal.sh GeneTraffic_1.9.0.tar.gz /Library/Frameworks/R.framework/Resources/bin/R GeneTraffic.buildbin-libdir |
| RetCode: 0 |
| Time: 5.6 seconds |
| Status: OK |
| PackageFile: GeneTraffic_1.9.0.tgz |
INSTALLATION WITH 'R CMD INSTALL GeneTraffic_1.9.0.tar.gz'
* Installing to library 'GeneTraffic.buildbin-libdir'
* Installing *source* package 'GeneTraffic' ...
** R
** inst
** preparing package for lazy loading
Loading required package: Biobase
Loading required package: tools
Welcome to Bioconductor
Vignettes contain introductory material. To view, type
'openVignette()'. To cite Bioconductor, see
'citation("Biobase")' and for packages 'citation(pkgname)'.
Loading required package: affy
Loading required package: affyio
Loading required package: preprocessCore
Loading required package: marray
Loading required package: limma
Loading required package: SSOAP
Loading required package: XML
Loading required package: RCurl
Loading required package: digest
** help
>>> Building/Updating help pages for package 'GeneTraffic'
Formats: text html latex example
GTGetProjectList text html latex example
GTGetProjectSummary text html latex example
GTLoadExpression text html latex example
GTLogin text html latex example
GTLogout text html latex example
GTServer-class text html latex example
GTServer text html latex example
** building package indices ...
* DONE (GeneTraffic)