Back to the "Multiple platform build/check report"
| Package 99/234 | Hostname | OS | Arch | BUILD | CHECK | BUILD BIN |
gtkWidgets0.11.0Jianhua ZhangLast Changed Date: 2006-05-04 12:10:16 -0700 Last Changed Rev: 17862 | lamb1 | Linux (SUSE 10.1) | x86_64 | OK | OK | |
| wellington | Linux (SUSE 9.2) | i686 | OK | OK | ||
| churchill | Solaris 2.9 | sparc | OK | OK | ||
| lemming | Windows Server 2003 (32-bit) | x64 | OK | OK | [ OK ] |
| Package: gtkWidgets |
| Version: 0.11.0 |
| Command: D:\biocbld\bbs-2.1-bioc\R\bin\R.exe CMD INSTALL --build --library=gtkWidgets.BUILDBINinstdir gtkWidgets_0.11.0.tar.gz |
| RetCode: 0 |
| Time: 10.0 seconds |
| Status: OK |
| PackageFile: gtkWidgets_0.11.0.zip |
installing R.css in D:/biocbld/bbs-2.1-bioc/meat/gtkWidgets.BUILDBINinstdir
Using auto-selected zip options ''
---------- Making package gtkWidgets ------------
adding build stamp to DESCRIPTION
installing R files
save image
Loading required package: DynDoc
[1] "menuItem"
[1] "menuName"
[1] "menuName"
[1] "menuFunc"
[1] "menuFunc"
[1] "menuValue"
[1] "menuValue"
[1] "menuName<-"
[1] "menuName<-"
[1] "menuFunc<-"
[1] "menuFunc<-"
[1] "menuValue<-"
[1] "menuValue<-"
[1] "bioCMWidget"
[1] "menuEnv"
[1] "menuEnv"
[1] "show"
[1] "addMenuItem"
[1] "addMenuItem"
[1] "removeMenuItem"
[1] "removeMenuItem"
[1] "conBoxClear"
[1] "conBoxClear"
[1] "conBoxInsert"
[1] "conBoxInsert"
[1] "menuEnv<-"
[1] "menuEnv<-"
installing inst files
installing man source files
installing indices
installing help
>>> Building/Updating help pages for package 'gtkWidgets'
Formats: text html latex example chm
DPExplorer text html latex example chm
bioCMenu-class text html latex example chm
edgeTrimmer text html latex example chm
getCListWithVHScroll text html latex example chm
menuItem-class text html latex example chm
objectBrowser text html latex example chm
subExprSet text html latex example chm
vExplorer text html latex example chm
Microsoft HTML Help Compiler 4.74.8702
Compiling d:\biocbld\bbs-2.1-bioc\meat\R.INSTALL.4256\gtkWidgets\chm\gtkWidgets.chm
Compile time: 0 minutes, 0 seconds
9 Topics
58 Local links
2 Internet links
1 Graphic
Created d:\biocbld\bbs-2.1-bioc\meat\R.INSTALL.4256\gtkWidgets\chm\gtkWidgets.chm, 30,697 bytes
Compression decreased file by 16,328 bytes.
adding MD5 sums
packaged installation of package 'gtkWidgets' as gtkWidgets_0.11.0.zip
* DONE (gtkWidgets)