Back to the "Multiple platform build/check report"
Version Built
ABarray 1.4.2 2.5.1
acepack 1.3-2.2 2.5.1
aCGH 1.10.0 2.5.1
ACME 1.2.1 2.5.1
ade4 1.4-3 2.5.1
adSplit 1.6.0 2.5.1
affxparser 1.8.3 2.5.1
affy 1.14.2 2.5.1
affycomp 1.12.0 2.5.1
affycoretools 1.8.1 2.5.1
affydata 1.11.3 2.5.1
affyio 1.4.1 2.5.1
affylmGUI 1.10.4 2.5.1
affypdnn 1.10.0 2.5.1
affyPLM 1.12.0 2.5.1
affyQCReport 1.14.0 2.5.1
akima 0.5-1 2.5.1
ALL 1.4.3 2.5.1
ALLMLL 1.2.2 2.5.1
altcdfenvs 1.10.0 2.5.1
amap 0.7-3 2.5.1
AmpAffyExample 1.2.2 2.5.1
annaffy 1.8.1 2.5.1
AnnBuilder 1.14.0 2.5.1
annotate 1.14.1 2.5.1
annotationTools 1.4.0 2.5.1
apComplex 2.2.0 2.5.1
ape 1.10-2 2.5.1
aroma.light 1.4.0 2.5.1
arrayMagic 1.14.0 2.5.1
arrayQuality 1.12.0 2.5.1
ath1121501cdf 1.16.0 2.5.1
aws 1.3-3.1 2.5.1
base 2.5.1 2.5.1
beadarray 1.4.0 2.5.1
beadarraySNP 1.2.0 2.5.1
BeadExplorer 1.2.0 2.5.1
beta7 0.6.0 2.5.1
bgx 1.0.18 2.5.1
bim 1.8.2 2.5.1
Biobase 1.14.1 2.5.1
biocViews 1.4.0 2.5.1
bioDist 1.8.0 2.5.1
biomaRt 1.10.1 2.5.1
BioMVCClass 1.4.0 2.5.1
Biostrings 2.4.8 2.5.1
boot 1.2-28 2.5.1
bridge 1.8.0 2.5.1
bronchialIL13 1.0-1 2.5.1
BSgenome 1.4.1 2.5.1
BSgenome.Celegans.UCSC.ce2 1.2.0 2.5.1
BSgenome.Dmelanogaster.FlyBase.r51 1.2.0 2.5.1
BufferedMatrix 1.0.1 2.5.1
BufferedMatrixMethods 1.0.0 2.5.1
butler 0.3 2.5.1
cairoDevice 2.3 2.5.1
CALIB 1.2.0 2.5.1
car 1.2-1 2.5.1
Category 2.2.3 2.5.1
CCl4 1.0.5 2.5.1
cellHTS 1.6.0 2.5.1
cghMCR 1.6.0 2.5.1
ChromoViz 1.8.0 2.5.1
chron 2.3-14 2.5.1
class 7.2-35 2.5.1
CLL 1.2.3 2.5.1
cluster 1.11.7 2.5.1
clusterStab 1.8.0 2.5.1
cMAP 1.15.1 2.5.0
CoCiteStats 1.8.0 2.5.1
coda 0.12-1 2.5.1
codelink 1.4.0 2.5.1
codetools 0.1-2 2.5.1
colonCA 1.4.1 2.5.1
combinat 0.0-6 2.5.1
convert 1.10.0 2.5.1
copa 1.4.0 2.5.1
corpcor 1.4.5 2.5.1
CORREP 1.2.0 2.5.1
cosmo 1.2.0 2.5.1
cosmoGUI 1.2.0 2.5.1
ctc 1.10.0 2.5.1
DAAG 0.95 2.5.1
daMA 1.8.0 2.5.1
datasets 2.5.1 2.5.1
davidTiling 1.2.4 2.5.1
DBI 0.2-3 2.5.0
DEDS 1.8.0 2.5.1
deldir 0.0-6 2.5.1
Design 2.1-1 2.5.1
diffGeneAnalysis 1.18.0 2.5.1
digest 0.3.0 2.5.1
DNAcopy 1.10.0 2.5.1
DynDoc 1.14.0 2.5.1
dynlm 0.1-2 2.5.1
e1071 1.5-16 2.5.1
EBarrays 1.8.1 2.5.1
Ecdat 0.1-5 2.5.1
ecolicdf 1.16.0 2.5.1
ecoliLeucine 1.2.1 2.5.1
ecolitk 1.8.0 2.5.1
edd 1.14.0 2.5.1
EMV 1.3.1 2.5.1
estrogen 1.8.2 2.5.1
exonmap 1.0.07 2.5.1
faahKO 1.2.0 2.5.1
facsDorit 1.4.0 2.5.1
factDesign 1.10.0 2.5.1
fBasics 251.70 2.5.1
fbat 1.0.0 2.5.1
fCalendar 251.70 2.5.1
fdrame 1.8.0 2.5.1
fdrtool 1.1.4 2.5.1
fEcofin 251.70 2.5.1
fibroEset 1.4.2 2.5.1
fields 3.5 2.5.1
flowCore 1.0.2 2.5.1
flowViz 1.0.0 2.5.1
foreign 0.8-20 2.5.1
gaggle 1.4.0 2.5.1
gam 0.98 2.5.1
gaschYHS 1.0.0 2.5.1
gbm 1.6-3 2.5.1
gcrma 2.8.1 2.5.1
gdata 2.3.1 2.5.1
gee 4.13-13 2.5.1
genArise 1.12.0 2.5.1
GeneCycle 1.0.2 2.5.1
genefilter 1.14.1 2.5.1
GeneMeta 1.8.0 2.5.1
GeneNet 1.2.0 2.5.1
geneplotter 1.14.0 2.5.1
GeneR 2.6.0 2.5.1
geneRecommender 1.8.0 2.5.1
GeneSpring 2.10.0 2.5.1
GeneticsBase 1.0.0 2.5.1
GeneticsDesign 1.0.0 2.5.1
GeneticsPed 1.0.0 2.5.1
GeneTraffic 1.8.0 2.5.1
GeneTS 2.14.0 2.5.1
GEOquery 2.0.6 2.5.1
GGdata 0.0-7 2.5.1
GGtools 1.4.0 2.5.1
GLAD 1.10.0 2.5.1
GlobalAncova 3.2.0 2.5.1
globaltest 4.6.0 2.5.1
GO 1.16.0 2.5.1
golubEsets 1.4.3 2.5.1
GOstats 2.2.6 2.5.1
goTools 1.8.0 2.5.1
gpclib 1.4-1 2.5.1
gplots 2.3.2 2.5.1
gpls 1.8.0 2.5.1
graph 1.14.2 2.5.1
GraphAT 1.8.0 2.5.1
graphics 2.5.1 2.5.1
grDevices 2.5.1 2.5.1
grid 2.5.1 2.5.1
gridBase 0.4-3 2.5.1
gtools 2.4.0 2.5.1
haplo.stats 1.3.1 2.5.1
hapmap100khind 1.1 2.5.1
hapmap100kxba 1.1 2.5.1
hapmap500knsp 1.1 2.5.1
hapmap500ksty 1.1 2.5.1
harbChIP 0.0.1 2.5.1
Harshlight 1.4.0 2.5.1
Heatplus 1.6.0 2.5.1
HEEBOdata 1.0.0 2.5.1
HEM 1.8.0 2.5.1
hexbin 1.10.0 2.5.1
hgfocus 1.16.0 2.5.1
hgfocuscdf 1.16.0 2.5.1
hgu133a 1.16.0 2.5.1
hgu133acdf 1.16.0 2.5.1
hgu133aprobe 1.16.2 2.5.1
hgu133plus2 1.16.0 2.5.1
hgu2beta7 1.2.0 2.5.1
hgu95acdf 1.16.0 2.5.1
hgu95av2 1.16.0 2.5.1
hgu95av2cdf 1.16.0 2.5.1
hgu95av2probe 1.16.4 2.5.1
HIVcDNAvantWout03 1.2.0 2.5.1
Hmisc 3.4-2 2.5.1
hopach 1.10.0 2.5.1
hsahomology 1.16.0 2.5.1
hu6800 1.16.0 2.5.1
hu6800cdf 1.16.0 2.5.1
hu6800probe 1.16.2 2.5.1
humanLLMappings 1.16.0 2.5.1
hypergraph 1.8.0 2.5.1
Icens 1.8.0 2.5.1
idiogram 1.10.0 2.5.1
impute 1.8.0 2.5.1
ipred 0.8-3 2.5.1
its 1.1.5 2.5.1
Iyer517 1.4.2 2.5.1
KEGG 1.16.1 2.5.1
KEGGSOAP 1.10.0 2.5.1
KernSmooth 2.22-21 2.5.1
kidpack 1.4.3 2.5.1
lapmix 1.2.0 2.5.1
lattice 0.16-3 2.5.1
LBE 1.4.0 2.5.1
leaps 2.7 2.5.1
limma 2.10.5 2.5.1
limmaGUI 1.12.0 2.5.1
LMGene 1.6.0 2.5.1
lmtest 0.9-21 2.5.1
locfdr 1.1-4 2.5.1
locfit 1.5-3 2.5.1
lodplot 1.1 2.5.1
logicFS 1.6.0 2.5.1
LogicReg 1.4.3 2.5.1
longitudinal 1.1.3 2.5.1
LPE 1.10.0 2.5.1
lumi 1.2.0 2.5.1
lumiBarnes 1.3.2 2.5.1
lungExpression 0.0.6 2.5.1
lymphoma 1.6.5 2.5.1
maanova 1.6.0 2.5.1
macat 1.10.0 2.5.1
maCorrPlot 1.6.0 2.5.1
made4 1.10.1 2.5.1
makecdfenv 1.14.0 2.5.1
makePlatformDesign 1.0.0 2.5.1
MANOR 1.8.0 2.5.1
MantelCorr 1.6.0 2.5.1
mapproj 1.1-7.1 2.5.1
maps 2.0-36 2.5.1
maptools 0.6-14 2.5.1
maqcExpression4plex 1.2 2.5.1
MAQCsubset 1.0.2 2.5.1
marray 1.14.0 2.5.1
maSigPro 1.9.2 2.5.1
MASS 7.2-35 2.5.1
MassSpecWavelet 1.2.0 2.5.1
matchprobes 1.8.1 2.5.1
Matrix 0.999375-2 2.5.1
mclust 3.1-1 2.5.1
MCMCpack 0.8-2 2.5.1
mda 0.3-2 2.5.1
MeasurementError.cor 1.8.0 2.5.1
MEEBOdata 1.0.0 2.5.1
MergeMaid 2.8.0 2.5.1
metaArray 1.10.0 2.5.1
methods 2.5.1 2.5.1
Mfuzz 1.6.0 2.5.1
mgcv 1.3-26 2.5.1
mgu74av2 1.16.0 2.5.1
minpack.lm 1.0-5 2.5.1
MiPP 1.8.0 2.5.1
mlbench 1.1-3 2.5.1
MLInterfaces 1.10.3 2.5.1
mouseLLMappings 1.16.0 2.5.1
multtest 1.16.1 2.5.1
MVCClass 1.10.0 2.5.1
mvtnorm 0.8-1 2.5.1
nem 1.6.0 2.5.1
Neve2006 0.1.3 2.5.1
nlme 3.1-84 2.5.1
nnet 7.2-35 2.5.1
nnNorm 2.0.0 2.5.1
OCplus 1.10.0 2.5.1
odesolve 0.5-17 2.5.1
oligo 1.0.2-6 2.5.1
OLIN 1.12.0 2.5.1
OLINgui 1.10.0 2.5.1
oneChannelGUI 1.2.16 2.5.1
ontoTools 1.12.1 2.5.1
OrderedList 1.8.0 2.5.1
oz 1.0-16 2.5.1
pamr 1.34.0 2.5.1
panp 1.7.1 2.5.1
pathRender 1.4.0 2.5.1
PBSmapping 2.51 2.5.1
pcaMethods 1.12.0 2.5.1
pcot2 1.4.0 2.5.1
PCpheno 1.1.1 2.5.1
pd.mapping250k.nsp 0.2.8 2.5.0
pd.mapping250k.sty 0.2.9 2.5.1
pd.mapping50k.hind240 0.2.8 2.5.0
pd.mapping50k.xba240 0.2.8 2.5.0
pdInfoBuilder 1.0.0 2.5.1
pdmclass 1.8.0 2.5.1
PGSEA 1.2.0 2.5.1
pickgene 1.8.0 2.5.1
pixmap 0.4-7 2.5.1
pkgDepTools 1.2.0 2.5.1
plasmodiumanophelescdf 1.16.0 2.5.1
plgem 1.8.0 2.5.1
plier 1.6.0 2.5.1
pls 2.0-1 2.5.1
ppiData 0.1.7 2.5.1
ppiStats 1.2.0 2.5.1
prada 1.12.0 2.5.1
PROcess 1.12.0 2.5.1
ProData 0.4.1 2.5.1
puma 1.2.1 2.5.1
pumadata 1.0.0 2.5.1
qtl 1.06-43 2.5.1
quadprog 1.4-11 2.5.1
quantreg 4.09 2.5.1
quantsmooth 1.2.0 2.5.1
qvalue 1.10.0 2.5.1
R.oo 1.2.7 2.5.1
R.utils 0.9.5 2.5.1
R2HTML 1.58 2.5.1
rae230a 1.16.0 2.5.1
rae230aprobe 1.16.2 2.5.1
rama 1.8.0 2.5.1
randomForest 4.5-18 2.5.1
RankProd 2.8.0 2.5.1
RArcInfo 0.4-7 2.5.1
ratLLMappings 1.16.0 2.5.1
RbcBook1 1.4.0 2.5.1
RBGL 1.12.0 2.5.1
rbsurv 1.2.0 2.5.1
RColorBrewer 1.0-1 2.5.1
rcompgen 0.1-15 2.5.1
RCurl 0.8-0 2.4.0
rda 1.0 2.5.1
Rdbi 1.10.0 2.5.1
reb 1.10.1 2.5.1
RefPlus 1.4.0 2.5.1
reshape 0.8.0 2.5.1
Resourcerer 1.10.0 2.5.1
rfcdmin 1.6.3 2.5.1
rflowcyt 1.8.0 2.5.1
rggobi 2.1.4-4 2.5.1
rgl 0.74 2.5.1
Rgraphviz 1.14.1 2.5.1
RGtk2 2.11.0-2 2.5.1
rHVDM 1.2.0 2.5.1
Ringo 1.0.0 2.5.1
rJava 0.5-0 2.5.1
rlecuyer 0.1 2.5.1
RMAPPER 1.6.0 2.5.1
RMySQL 0.6-0 2.5.0
ROC 1.10.0 2.5.1
ROCR 1.0-2 2.5.1
rpart 3.1-37 2.5.1
rrcov 0.3-06 2.5.1
RSNPper 1.10.0 2.5.1
RSQLite 0.5-6 2.5.1
RSvgDevice 0.6.2-1 2.5.1
RUnit 0.4.17 2.5.1
Ruuid 1.14.0 2.5.1
safe 1.8.0 2.5.1
SAGElyzer 1.14.0 2.5.1
SAGx 1.10.1 2.5.1
sandwich 2.0-2 2.5.1
SBMLR 1.30.0 2.5.1
scatterplot3d 0.3-24 2.5.1
ScISI 1.8.0 2.5.1
sem 0.9-8 2.5.1
SemSim 1.2.0 2.5.1
seqLogo 1.2.0 2.5.1
sgeostat 1.0-21 2.5.1
siggenes 1.10.1 2.5.1
sigPathway 1.4.0 2.5.1
simpleaffy 2.10.31 2.5.1
simulatorAPMS 1.8.0 2.5.1
sizepower 1.6.0 2.5.1
SLGI 0.2.6 2.5.1
SLqPCR 1.2.0 2.5.1
sm 2.1-0 2.5.1
sma 0.5.15 2.5.1
SNAData 1.8.0 2.5.1
snapCGH 1.4.0 2.5.1
snow 0.2-3 2.5.1
SNPchip 1.0.0 2.5.1
som 0.3-4 2.5.1
sp 0.9-14 2.5.1
SparseM 0.73 2.5.1
spatial 7.2-35 2.5.1
spatstat 1.12-0 2.5.1
spdep 0.4-4 2.5.1
SpikeIn 1.4.1 2.5.1
SpikeInSubset 1.2.5 2.5.1
spikeLI 1.4.0 2.5.1
splancs 2.01-23 2.5.1
splicegear 1.8.0 2.5.1
splines 2.5.1 2.5.1
splots 1.2.0 2.5.1
spotSegmentation 1.10.0 2.5.1
sscore 1.8.0 2.5.1
ssize 1.8.0 2.5.1
SSOAP 0.4-3 2.5.0
statmod 1.3.0 2.5.1
stats 2.5.1 2.5.1
stats4 2.5.1 2.5.1
stepNorm 1.8.0 2.5.1
stjudem 1.2.0 2.5.1
strucchange 1.3-2 2.5.1
survival 2.32 2.5.1
systemfit 0.8-3 2.5.1
tcltk 2.5.1 2.5.1
TeachingDemos 1.5 2.5.1
tilingArray 1.14.0 2.5.1
time 1.0 2.5.1
tinesath1cdf 1.0.2 2.5.1
tinesath1probe 1.0.2 2.5.1
tkrplot 0.0-16 2.5.1
tkWidgets 1.14.0 2.5.1
tools 2.5.1 2.5.1
topGO 1.2.1 2.5.1
tripack 1.2-10 2.5.1
tseries 0.10-11 2.5.1
tweedie 1.5.1 2.5.1
twilight 1.12.0 2.5.1
TypeInfo 1.2.0 2.5.1
utils 2.5.1 2.5.1
vsn 2.2.0 2.5.1
waveslim 1.6 2.5.1
weaver 1.2.0 2.5.1
webbioc 1.8.0 2.5.1
widgetTools 1.12.0 2.5.1
xcms 1.8.0 2.5.1
xgobi 1.2-13 2.5.1
XhybCasneuf 1.0.0 2.5.1
xlahomology 1.16.0 2.5.1
XML 1.9-0 2.5.1
xtable 1.5-1 2.5.1
YEAST 1.16.0 2.5.1
yeastCC 1.2.6 2.5.1
yeastExpData 0.8.4 2.5.1
zoo 1.3-2 2.5.1